BEGIN:VCALENDAR
VERSION:2.0
PRODID:-//Wannsee Kalender - ECPv6.15.20//NONSGML v1.0//EN
CALSCALE:GREGORIAN
METHOD:PUBLISH
X-ORIGINAL-URL:https://wannseekalender.de
X-WR-CALDESC:Veranstaltungen für Wannsee Kalender
REFRESH-INTERVAL;VALUE=DURATION:PT1H
X-Robots-Tag:noindex
X-PUBLISHED-TTL:PT1H
BEGIN:VTIMEZONE
TZID:Europe/Berlin
BEGIN:DAYLIGHT
TZOFFSETFROM:+0100
TZOFFSETTO:+0200
TZNAME:CEST
DTSTART:20240331T010000
END:DAYLIGHT
BEGIN:STANDARD
TZOFFSETFROM:+0200
TZOFFSETTO:+0100
TZNAME:CET
DTSTART:20241027T010000
END:STANDARD
BEGIN:DAYLIGHT
TZOFFSETFROM:+0100
TZOFFSETTO:+0200
TZNAME:CEST
DTSTART:20250330T010000
END:DAYLIGHT
BEGIN:STANDARD
TZOFFSETFROM:+0200
TZOFFSETTO:+0100
TZNAME:CET
DTSTART:20251026T010000
END:STANDARD
BEGIN:DAYLIGHT
TZOFFSETFROM:+0100
TZOFFSETTO:+0200
TZNAME:CEST
DTSTART:20260329T010000
END:DAYLIGHT
BEGIN:STANDARD
TZOFFSETFROM:+0200
TZOFFSETTO:+0100
TZNAME:CET
DTSTART:20261025T010000
END:STANDARD
END:VTIMEZONE
BEGIN:VEVENT
DTSTART;TZID=Europe/Berlin:20251108T110000
DTEND;TZID=Europe/Berlin:20251108T140000
DTSTAMP:20260419T222322
CREATED:20251008T071357Z
LAST-MODIFIED:20251025T152008Z
UID:10029243-1762599600-1762610400@wannseekalender.de
SUMMARY:Stolperstein-Rundgang mit Hannelore Bolte
DESCRIPTION:Einladung zum Stolperstein-Rundgang \nLiebe Wannseer Mitbürgerinnen und Mitbürger\, \nvor dem Gedenktag zum 9. November 1938\, der „Reichspogromnacht“\, möchte ich Sie – wie jedes Jahr – zum Gedenken an ehemalige Wannseer Nachbarn einladen. Nur weil sie jüdisch waren\, wurden sie in der nationalsozialistischen Diktatur umgebracht. \nAm Samstag\, dem 8. November\, erwarte ich Sie um 11 Uhr vor Rosalie und Mechel Beisers Stolpersteinen an der Wernerstraße 10. Gegenüber werden wir der Familie Belgard gedenken sowie an der Nr. 7 Jacques Brock. \nÜber die Königstraße gehen wir zur Hugo-Vogel-Straße 16\, wo im vergangenen Jahr vier Steine für die Familie Nothmann verlegt werden konnten. 2013 hatten wir den Stolperstein für den Vater Friedrich Nothmann vor der Nr. 10 setzen lassen\, aber vor zwei Jahren erfahren\, dass die Zählung in der früheren Moltkestraße eine andere war. Inzwischen hatte eine Anwohnerin ermittelt\, dass die Ehefrau und ihre beiden Kinder zwar nach Holland geflohen waren\, aber von dort auch nach Theresienstadt deportiert und schließlich in Auschwitz ermordet wurden. So gedenken wir nun der Familie Nothmann vor ihrem einstigen Haus\, das schon das Elternhaus von Gertraud Nothmann geb. Bernhard war. Vor der Nr. 40 erinnern wir an die drei Schwestern Nathan. \nÜber den Neuen Friedhof in der Lindenstraße gehend\, können wir zunächst auf das Grab von Fritz Springer hinweisen\, der vor der drohenden Deportation Gift nahm\, so dass er auf dem Familiengrab neben seiner Frau beigesetzt werden konnte. Sein Stolperstein liegt vor der Straße zum Löwen Nr. 12 mit den Worten: „Gedenkt mit! Entrechtet! Flucht in den Tod.“ \nNahe der alten Eingangsporte sehen wir das Grab der Familie Meyer. Für Georg Meyer\, der 1934 starb\, wurde der Grabstein gesetzt. Seine Frau\, eine Nichte Max Liebermanns\, und zwei ihrer Kinder sind in Auschwitz und Theresienstadt umgekommen. Zwei weitere Kinder\, die den Holocaust überlebt haben\, sorgten nach dem 2. Weltkrieg dafür\, dass die Namen der Eltern und drei Geschwister\, die kein Grab erhalten haben\, auf dem Stein der Familie eingraviert wurden. An der Straße zum Löwen 19 / Ecke Kaiserstraße\, wo einst das Haus der Familie stand\, befindet sich die vierte Stolpersteine für die ermordeten Familienmitglieder. \nIch hoffe sehr auf Ihre Teilnahme\, dass kleine Erinnerungen an ehemalige Einwohnerinnen und Einwohner von Wannsee bleiben. \nHannelore Bolte
URL:https://wannseekalender.de/event/stolperstein-rundgang-mit-hannelore-bolte/
LOCATION:Wernerstraße 10\, Wernerstraße 10\, Berlin - Wannsee\, 14109\, Germany
CATEGORIES:Ausflug,Kultur,Kunst & Kultur,Wissen
ORGANIZER;CN="Verein f%C3%BCr Kultur und Geschichte in Wannsee":MAILTO:kontakt@kulturverein-wannsee.de
END:VEVENT
END:VCALENDAR