BEGIN:VCALENDAR
VERSION:2.0
PRODID:-//Wannsee Kalender - ECPv6.15.20//NONSGML v1.0//EN
CALSCALE:GREGORIAN
METHOD:PUBLISH
X-ORIGINAL-URL:https://wannseekalender.de
X-WR-CALDESC:Veranstaltungen für Wannsee Kalender
REFRESH-INTERVAL;VALUE=DURATION:PT1H
X-Robots-Tag:noindex
X-PUBLISHED-TTL:PT1H
BEGIN:VTIMEZONE
TZID:Europe/Berlin
BEGIN:DAYLIGHT
TZOFFSETFROM:+0100
TZOFFSETTO:+0200
TZNAME:CEST
DTSTART:20250330T010000
END:DAYLIGHT
BEGIN:STANDARD
TZOFFSETFROM:+0200
TZOFFSETTO:+0100
TZNAME:CET
DTSTART:20251026T010000
END:STANDARD
BEGIN:DAYLIGHT
TZOFFSETFROM:+0100
TZOFFSETTO:+0200
TZNAME:CEST
DTSTART:20260329T010000
END:DAYLIGHT
BEGIN:STANDARD
TZOFFSETFROM:+0200
TZOFFSETTO:+0100
TZNAME:CET
DTSTART:20261025T010000
END:STANDARD
BEGIN:DAYLIGHT
TZOFFSETFROM:+0100
TZOFFSETTO:+0200
TZNAME:CEST
DTSTART:20270328T010000
END:DAYLIGHT
BEGIN:STANDARD
TZOFFSETFROM:+0200
TZOFFSETTO:+0100
TZNAME:CET
DTSTART:20271031T010000
END:STANDARD
END:VTIMEZONE
BEGIN:VEVENT
DTSTART;VALUE=DATE:20260416
DTEND;VALUE=DATE:20260420
DTSTAMP:20260420T110449
CREATED:20260418T150309Z
LAST-MODIFIED:20260419T133253Z
UID:10037503-1776297600-1776643199@wannseekalender.de
SUMMARY:Über dem großen Wannsee aber ziehen die Wolken in alter Pracht.” PHILIPP FRANCK • Ausstellung • 12. April - 14. Juni 2026
DESCRIPTION:Philipp Franck | Ein deutscher Impressionist | 1860 Frankfurt a. M. – 1944 Berlin-Wannsee \nDer gebürtige Frankfurter Philipp Franck kam in den späten 1880er Jahren nach Berlin und war ab 1902 als Zeichenlehrer an der Königlichen Kunstschule tätig\, deren Leitung er von 1915 bis 1929 innehatte. Er war Mitbegründer der Berliner Secession und Mitglied des Deutschen Künstlerbundes. \nUm 1900 entdeckte er die Havellandschaft rund um Potsdam als Motiv für sich. Seine Wannseer Bilder geben Einblick in zwei Lebenswelten: das traditionsreiche Leben im historischen Kern des einstigen Fischerdorfes Stolpe und die Villenkultur der Colonie Alsen mit ihren prachtvollen Gärten. Am Dorf Stolpe faszinierten Philipp Franck die pittoresken Bauernhäuser\, Männer und Frauen bei der Arbeit\, badende Dorfkinder und Fischerboote auf dem Stölpchensee – all das eingebettet in eine friedvolle Natur. Mit der Errichtung der Colonie Alsen am Großen und Kleinen Wannsee begann sich das Dorfbild zu wandeln: Zahlreiche Handwerks- und Gartenbaubetriebe siedelten sich im Dorf an und die zu Wohlstand gelangte Dorfbevölkerung ersetzte ihre einfachen Bauernhäuser zunehmend durch modernere Bauten. Philipp Franck notierte dazu rückblickend: „Das alte Dorf Stolpe ist nicht mehr. […] Das Idyll von einst ist vorüber.“ \nEs ergaben sich aber auch neue Motive: „Über dem großen Wannsee aber ziehen die Wolken in alter Pracht. Der Sport blüht. Die weißen Segel blähen sich. Die Rosen im Arnoldschen Garten leuchten!“ Während Künstlerkollegen wie Oskar Begas\, Anton von Werner\, Carl Becker\, Hugo Vogel und später Max Liebermann ausschließlich im Sommer in der Villenkolonie lebten\, wohnte Philipp Franck ganzjährig zwischen Colonie und Dorf an der Königstraße. \nNeben den Szenen aus Wannsee widmete sich Philipp Franck ab den 1930er Jahren Potsdamer Stadtansichten\, die häufig vom Brauhausberg aus entstanden\, mit Blick auf Nikolaikirche\, Eisenbahnbrücke\, Industriebauten und Havel. Die Ausstellung zeigt Philipp Francks Leidenschaft\, die Stimmungen verschiedener Tages- und Jahreszeiten sowie wechselnder Wetterlagen einzufangen\, die in feinen Nuancen oft an ein und demselben Motiv erlebbar werden. \nNeben den großformatigen Gemälden bilden die zum Teil noch nie ausgestellten Aquarelle einen Schwerpunkt der Ausstellung. Mit fast 70 Werken bietet sich ein intensiver Einblick in das Schaffen von Philipp Franck. Die Präsentation wird von Vorträgen\, Führungen durch die Ausstellung und zu den Orten der Franck’schen Motive begleitet. Zur Ausstellung erscheint ein Katalog. \nMit dieser Ausstellung stellt sich die Kulturstiftung Mutter Fourage gGmbH vor. Sie ist im Jahr 2025 vom Eigentümer und langjährigen Gestalter des Kulturorts Mutter Fourage\, Wolfgang Immenhausen\, Enkel des Fourage-Händlers Otto Hönicke\, gegründet worden\, um diesen wundervollen Ort mit seinen vielfältigen kulturellen Aktivitäten dauerhaft zu erhalten. Neben der Sicherung des historischen Hofensembles aus der Jahrhundertwende gehört es zu den Aufgaben der Kulturstiftung\, den Ort Wannsee\, seine Geschichte und seine Bewohner und Bewohnerinnen sichtbar zu machen. Vor allem die Künstler und Künstlerinnen\, die hier lebten oder sich von der Umgebung inspirieren ließen\, gilt es wieder an die Öffentlichkeit zu bringen. \nWolfgang Immenhausen engagiert sich schon seit vielen Jahren für das kulturelle Erbe in Wannsee. So gehörte er zu den Initiatoren\, welche die Villa Liebermann wieder zu einem Künstlerhaus machten. Mit seiner Sammel- und Forschungstätigkeit\, u.a. zu dem Maler Phillip Franck (1860-1944)\, war er maßgeblich an der Wiederentdeckung dieses Impressionisten beteiligt. Ausstellungen\, seit 1984 in der Galerie Mutter Fourage und 2010/11 in Kooperation mit dem Bröhan Museum sowie dem Museum Giersch\, legten dazu die Grundlage. Im Zuge dieser Ausstellungen erschien das Werkverzeichnis der Gemälde von Philipp Franck\, herausgegeben von Almut von Tresckow und Wolfgang Immenhausen. Das Werkverzeichnis der Aquarelle wird nun von der Kulturstiftung mit der Expertise von Wolfgang Immenhausen erarbeitet; das Werkverzeichnis der Gemälde wird fortgeführt. \nDiese Ausstellung gibt mit einer Vielzahl noch nie ausgestellter Aquarelle einen ersten Einblick in diese Arbeit. \nVeranstaltungsdaten auf einen Blick  \nVernissage am 12. April 2026 | 12 Uhr \nBegrüßung Dr. Josephine Gabler\nBeirätin der Kulturstiftung Mutter Fourage & Direktorin des Käthe-Kollwitz-Museums Berlin \nEinführung Wolfgang Immenhausen\nStifter und Sammler \nAnsprechpartner/in während der Ausstellung\nJens Kunath und Lea Gryze\nCo-Galeristen Galerie Mutter Fourage und Künstlerische Leitung \nDie Ausstellung findet in den Räumen der Galerie Mutter Fourage statt.\nChausseestraße 15A | 14109 Berlin-Wannsee \n12. April bis 14. Juni 2026 \nÖffnungszeiten\nDo | Fr 14-18 Uhr\nSa | So 12-17 Uhr \nEintritt 5 €
URL:https://wannseekalender.de/event/ueber-dem-grossen-wannsee-aber-ziehen-die-wolken-in-alter-pracht-philipp-franck-ausstellung-12-april-14-juni-2026/
LOCATION:Galerie Mutter Fourage\, Chausseestr. 15 A\, Berlin-Wannsee\, 14109\, Germany
CATEGORIES:Ausstellung,Kunst,Kunst & Kultur,Kunstausstellung
ATTACH;FMTTYPE=image/jpeg:https://wannseekalender.de/wp-content/uploads/2026/04/Plakat_PhilippFranck.jpg
END:VEVENT
END:VCALENDAR