BEGIN:VCALENDAR
VERSION:2.0
PRODID:-//Wannsee Kalender - ECPv6.15.20//NONSGML v1.0//EN
CALSCALE:GREGORIAN
METHOD:PUBLISH
X-ORIGINAL-URL:https://wannseekalender.de
X-WR-CALDESC:Veranstaltungen für Wannsee Kalender
REFRESH-INTERVAL;VALUE=DURATION:PT1H
X-Robots-Tag:noindex
X-PUBLISHED-TTL:PT1H
BEGIN:VTIMEZONE
TZID:Europe/Berlin
BEGIN:DAYLIGHT
TZOFFSETFROM:+0100
TZOFFSETTO:+0200
TZNAME:CEST
DTSTART:20250330T010000
END:DAYLIGHT
BEGIN:STANDARD
TZOFFSETFROM:+0200
TZOFFSETTO:+0100
TZNAME:CET
DTSTART:20251026T010000
END:STANDARD
BEGIN:DAYLIGHT
TZOFFSETFROM:+0100
TZOFFSETTO:+0200
TZNAME:CEST
DTSTART:20260329T010000
END:DAYLIGHT
BEGIN:STANDARD
TZOFFSETFROM:+0200
TZOFFSETTO:+0100
TZNAME:CET
DTSTART:20261025T010000
END:STANDARD
BEGIN:DAYLIGHT
TZOFFSETFROM:+0100
TZOFFSETTO:+0200
TZNAME:CEST
DTSTART:20270328T010000
END:DAYLIGHT
BEGIN:STANDARD
TZOFFSETFROM:+0200
TZOFFSETTO:+0100
TZNAME:CET
DTSTART:20271031T010000
END:STANDARD
BEGIN:DAYLIGHT
TZOFFSETFROM:+0100
TZOFFSETTO:+0200
TZNAME:CEST
DTSTART:20280326T010000
END:DAYLIGHT
BEGIN:STANDARD
TZOFFSETFROM:+0200
TZOFFSETTO:+0100
TZNAME:CET
DTSTART:20281029T010000
END:STANDARD
END:VTIMEZONE
BEGIN:VEVENT
DTSTART;TZID=Europe/Berlin:20260828T140000
DTEND;TZID=Europe/Berlin:20260828T170000
DTSTAMP:20260420T065016
CREATED:20241126T082027Z
LAST-MODIFIED:20250103T091314Z
UID:10004554-1787925600-1787936400@wannseekalender.de
SUMMARY:Handy & Computer/Laptop mit Tim
DESCRIPTION:Wöchentliche Beratung zur Nutzung von Handy & Computer. Weitere Informationen: https://www.treffpunkt-im-besten-alter.de/wannsee/
URL:https://wannseekalender.de/event/handy-computer-laptop-mit-tim/2026-08-28/
LOCATION:Treffpunkt Im besten Alter\, Königstraße 25-27\, Berlin\, 14109\, Germany
CATEGORIES:Community
ORGANIZER;CN="Treffpunkt Im besten Alter":MAILTO:treffpunkt.wannsee@gmx.de
END:VEVENT
BEGIN:VEVENT
DTSTART;TZID=Europe/Berlin:20260904T140000
DTEND;TZID=Europe/Berlin:20260904T170000
DTSTAMP:20260420T065016
CREATED:20241126T082027Z
LAST-MODIFIED:20250103T091314Z
UID:10004555-1788530400-1788541200@wannseekalender.de
SUMMARY:Handy & Computer/Laptop mit Tim
DESCRIPTION:Wöchentliche Beratung zur Nutzung von Handy & Computer. Weitere Informationen: https://www.treffpunkt-im-besten-alter.de/wannsee/
URL:https://wannseekalender.de/event/handy-computer-laptop-mit-tim/2026-09-04/
LOCATION:Treffpunkt Im besten Alter\, Königstraße 25-27\, Berlin\, 14109\, Germany
CATEGORIES:Community
ORGANIZER;CN="Treffpunkt Im besten Alter":MAILTO:treffpunkt.wannsee@gmx.de
END:VEVENT
BEGIN:VEVENT
DTSTART;TZID=Europe/Berlin:20260911T140000
DTEND;TZID=Europe/Berlin:20260911T170000
DTSTAMP:20260420T065016
CREATED:20241126T082027Z
LAST-MODIFIED:20250103T091314Z
UID:10004556-1789135200-1789146000@wannseekalender.de
SUMMARY:Handy & Computer/Laptop mit Tim
DESCRIPTION:Wöchentliche Beratung zur Nutzung von Handy & Computer. Weitere Informationen: https://www.treffpunkt-im-besten-alter.de/wannsee/
URL:https://wannseekalender.de/event/handy-computer-laptop-mit-tim/2026-09-11/
LOCATION:Treffpunkt Im besten Alter\, Königstraße 25-27\, Berlin\, 14109\, Germany
CATEGORIES:Community
ORGANIZER;CN="Treffpunkt Im besten Alter":MAILTO:treffpunkt.wannsee@gmx.de
END:VEVENT
BEGIN:VEVENT
DTSTART;TZID=Europe/Berlin:20260918T140000
DTEND;TZID=Europe/Berlin:20260918T170000
DTSTAMP:20260420T065016
CREATED:20241126T082027Z
LAST-MODIFIED:20250103T091314Z
UID:10004557-1789740000-1789750800@wannseekalender.de
SUMMARY:Handy & Computer/Laptop mit Tim
DESCRIPTION:Wöchentliche Beratung zur Nutzung von Handy & Computer. Weitere Informationen: https://www.treffpunkt-im-besten-alter.de/wannsee/
URL:https://wannseekalender.de/event/handy-computer-laptop-mit-tim/2026-09-18/
LOCATION:Treffpunkt Im besten Alter\, Königstraße 25-27\, Berlin\, 14109\, Germany
CATEGORIES:Community
ORGANIZER;CN="Treffpunkt Im besten Alter":MAILTO:treffpunkt.wannsee@gmx.de
END:VEVENT
BEGIN:VEVENT
DTSTART;TZID=Europe/Berlin:20260925T140000
DTEND;TZID=Europe/Berlin:20260925T170000
DTSTAMP:20260420T065016
CREATED:20241126T082027Z
LAST-MODIFIED:20250103T091314Z
UID:10004558-1790344800-1790355600@wannseekalender.de
SUMMARY:Handy & Computer/Laptop mit Tim
DESCRIPTION:Wöchentliche Beratung zur Nutzung von Handy & Computer. Weitere Informationen: https://www.treffpunkt-im-besten-alter.de/wannsee/
URL:https://wannseekalender.de/event/handy-computer-laptop-mit-tim/2026-09-25/
LOCATION:Treffpunkt Im besten Alter\, Königstraße 25-27\, Berlin\, 14109\, Germany
CATEGORIES:Community
ORGANIZER;CN="Treffpunkt Im besten Alter":MAILTO:treffpunkt.wannsee@gmx.de
END:VEVENT
BEGIN:VEVENT
DTSTART;TZID=Europe/Berlin:20261002T140000
DTEND;TZID=Europe/Berlin:20261002T170000
DTSTAMP:20260420T065016
CREATED:20241126T082027Z
LAST-MODIFIED:20250103T091314Z
UID:10004559-1790949600-1790960400@wannseekalender.de
SUMMARY:Handy & Computer/Laptop mit Tim
DESCRIPTION:Wöchentliche Beratung zur Nutzung von Handy & Computer. Weitere Informationen: https://www.treffpunkt-im-besten-alter.de/wannsee/
URL:https://wannseekalender.de/event/handy-computer-laptop-mit-tim/2026-10-02/
LOCATION:Treffpunkt Im besten Alter\, Königstraße 25-27\, Berlin\, 14109\, Germany
CATEGORIES:Community
ORGANIZER;CN="Treffpunkt Im besten Alter":MAILTO:treffpunkt.wannsee@gmx.de
END:VEVENT
BEGIN:VEVENT
DTSTART;TZID=Europe/Berlin:20261009T140000
DTEND;TZID=Europe/Berlin:20261009T170000
DTSTAMP:20260420T065016
CREATED:20241126T082027Z
LAST-MODIFIED:20250103T091314Z
UID:10004560-1791554400-1791565200@wannseekalender.de
SUMMARY:Handy & Computer/Laptop mit Tim
DESCRIPTION:Wöchentliche Beratung zur Nutzung von Handy & Computer. Weitere Informationen: https://www.treffpunkt-im-besten-alter.de/wannsee/
URL:https://wannseekalender.de/event/handy-computer-laptop-mit-tim/2026-10-09/
LOCATION:Treffpunkt Im besten Alter\, Königstraße 25-27\, Berlin\, 14109\, Germany
CATEGORIES:Community
ORGANIZER;CN="Treffpunkt Im besten Alter":MAILTO:treffpunkt.wannsee@gmx.de
END:VEVENT
BEGIN:VEVENT
DTSTART;TZID=Europe/Berlin:20261016T140000
DTEND;TZID=Europe/Berlin:20261016T170000
DTSTAMP:20260420T065016
CREATED:20241126T082027Z
LAST-MODIFIED:20250103T091314Z
UID:10004561-1792159200-1792170000@wannseekalender.de
SUMMARY:Handy & Computer/Laptop mit Tim
DESCRIPTION:Wöchentliche Beratung zur Nutzung von Handy & Computer. Weitere Informationen: https://www.treffpunkt-im-besten-alter.de/wannsee/
URL:https://wannseekalender.de/event/handy-computer-laptop-mit-tim/2026-10-16/
LOCATION:Treffpunkt Im besten Alter\, Königstraße 25-27\, Berlin\, 14109\, Germany
CATEGORIES:Community
ORGANIZER;CN="Treffpunkt Im besten Alter":MAILTO:treffpunkt.wannsee@gmx.de
END:VEVENT
BEGIN:VEVENT
DTSTART;TZID=Europe/Berlin:20261023T140000
DTEND;TZID=Europe/Berlin:20261023T170000
DTSTAMP:20260420T065016
CREATED:20241126T082027Z
LAST-MODIFIED:20250103T091314Z
UID:10004562-1792764000-1792774800@wannseekalender.de
SUMMARY:Handy & Computer/Laptop mit Tim
DESCRIPTION:Wöchentliche Beratung zur Nutzung von Handy & Computer. Weitere Informationen: https://www.treffpunkt-im-besten-alter.de/wannsee/
URL:https://wannseekalender.de/event/handy-computer-laptop-mit-tim/2026-10-23/
LOCATION:Treffpunkt Im besten Alter\, Königstraße 25-27\, Berlin\, 14109\, Germany
CATEGORIES:Community
ORGANIZER;CN="Treffpunkt Im besten Alter":MAILTO:treffpunkt.wannsee@gmx.de
END:VEVENT
BEGIN:VEVENT
DTSTART;TZID=Europe/Berlin:20261030T140000
DTEND;TZID=Europe/Berlin:20261030T170000
DTSTAMP:20260420T065016
CREATED:20241126T082027Z
LAST-MODIFIED:20250103T091314Z
UID:10004563-1793368800-1793379600@wannseekalender.de
SUMMARY:Handy & Computer/Laptop mit Tim
DESCRIPTION:Wöchentliche Beratung zur Nutzung von Handy & Computer. Weitere Informationen: https://www.treffpunkt-im-besten-alter.de/wannsee/
URL:https://wannseekalender.de/event/handy-computer-laptop-mit-tim/2026-10-30/
LOCATION:Treffpunkt Im besten Alter\, Königstraße 25-27\, Berlin\, 14109\, Germany
CATEGORIES:Community
ORGANIZER;CN="Treffpunkt Im besten Alter":MAILTO:treffpunkt.wannsee@gmx.de
END:VEVENT
BEGIN:VEVENT
DTSTART;TZID=Europe/Berlin:20261106T140000
DTEND;TZID=Europe/Berlin:20261106T170000
DTSTAMP:20260420T065016
CREATED:20241126T082027Z
LAST-MODIFIED:20250103T091314Z
UID:10004564-1793973600-1793984400@wannseekalender.de
SUMMARY:Handy & Computer/Laptop mit Tim
DESCRIPTION:Wöchentliche Beratung zur Nutzung von Handy & Computer. Weitere Informationen: https://www.treffpunkt-im-besten-alter.de/wannsee/
URL:https://wannseekalender.de/event/handy-computer-laptop-mit-tim/2026-11-06/
LOCATION:Treffpunkt Im besten Alter\, Königstraße 25-27\, Berlin\, 14109\, Germany
CATEGORIES:Community
ORGANIZER;CN="Treffpunkt Im besten Alter":MAILTO:treffpunkt.wannsee@gmx.de
END:VEVENT
BEGIN:VEVENT
DTSTART;TZID=Europe/Berlin:20261113T140000
DTEND;TZID=Europe/Berlin:20261113T170000
DTSTAMP:20260420T065016
CREATED:20241126T082027Z
LAST-MODIFIED:20250103T091314Z
UID:10004565-1794578400-1794589200@wannseekalender.de
SUMMARY:Handy & Computer/Laptop mit Tim
DESCRIPTION:Wöchentliche Beratung zur Nutzung von Handy & Computer. Weitere Informationen: https://www.treffpunkt-im-besten-alter.de/wannsee/
URL:https://wannseekalender.de/event/handy-computer-laptop-mit-tim/2026-11-13/
LOCATION:Treffpunkt Im besten Alter\, Königstraße 25-27\, Berlin\, 14109\, Germany
CATEGORIES:Community
ORGANIZER;CN="Treffpunkt Im besten Alter":MAILTO:treffpunkt.wannsee@gmx.de
END:VEVENT
BEGIN:VEVENT
DTSTART;TZID=Europe/Berlin:20261120T140000
DTEND;TZID=Europe/Berlin:20261120T170000
DTSTAMP:20260420T065016
CREATED:20241126T082027Z
LAST-MODIFIED:20250103T091314Z
UID:10004566-1795183200-1795194000@wannseekalender.de
SUMMARY:Handy & Computer/Laptop mit Tim
DESCRIPTION:Wöchentliche Beratung zur Nutzung von Handy & Computer. Weitere Informationen: https://www.treffpunkt-im-besten-alter.de/wannsee/
URL:https://wannseekalender.de/event/handy-computer-laptop-mit-tim/2026-11-20/
LOCATION:Treffpunkt Im besten Alter\, Königstraße 25-27\, Berlin\, 14109\, Germany
CATEGORIES:Community
ORGANIZER;CN="Treffpunkt Im besten Alter":MAILTO:treffpunkt.wannsee@gmx.de
END:VEVENT
BEGIN:VEVENT
DTSTART;TZID=Europe/Berlin:20261127T140000
DTEND;TZID=Europe/Berlin:20261127T170000
DTSTAMP:20260420T065016
CREATED:20241126T082027Z
LAST-MODIFIED:20250103T091314Z
UID:10004567-1795788000-1795798800@wannseekalender.de
SUMMARY:Handy & Computer/Laptop mit Tim
DESCRIPTION:Wöchentliche Beratung zur Nutzung von Handy & Computer. Weitere Informationen: https://www.treffpunkt-im-besten-alter.de/wannsee/
URL:https://wannseekalender.de/event/handy-computer-laptop-mit-tim/2026-11-27/
LOCATION:Treffpunkt Im besten Alter\, Königstraße 25-27\, Berlin\, 14109\, Germany
CATEGORIES:Community
ORGANIZER;CN="Treffpunkt Im besten Alter":MAILTO:treffpunkt.wannsee@gmx.de
END:VEVENT
BEGIN:VEVENT
DTSTART;TZID=Europe/Berlin:20261204T140000
DTEND;TZID=Europe/Berlin:20261204T170000
DTSTAMP:20260420T065016
CREATED:20241126T082027Z
LAST-MODIFIED:20250103T091314Z
UID:10004568-1796392800-1796403600@wannseekalender.de
SUMMARY:Handy & Computer/Laptop mit Tim
DESCRIPTION:Wöchentliche Beratung zur Nutzung von Handy & Computer. Weitere Informationen: https://www.treffpunkt-im-besten-alter.de/wannsee/
URL:https://wannseekalender.de/event/handy-computer-laptop-mit-tim/2026-12-04/
LOCATION:Treffpunkt Im besten Alter\, Königstraße 25-27\, Berlin\, 14109\, Germany
CATEGORIES:Community
ORGANIZER;CN="Treffpunkt Im besten Alter":MAILTO:treffpunkt.wannsee@gmx.de
END:VEVENT
BEGIN:VEVENT
DTSTART;TZID=Europe/Berlin:20261211T140000
DTEND;TZID=Europe/Berlin:20261211T170000
DTSTAMP:20260420T065016
CREATED:20241126T082027Z
LAST-MODIFIED:20250103T091314Z
UID:10004569-1796997600-1797008400@wannseekalender.de
SUMMARY:Handy & Computer/Laptop mit Tim
DESCRIPTION:Wöchentliche Beratung zur Nutzung von Handy & Computer. Weitere Informationen: https://www.treffpunkt-im-besten-alter.de/wannsee/
URL:https://wannseekalender.de/event/handy-computer-laptop-mit-tim/2026-12-11/
LOCATION:Treffpunkt Im besten Alter\, Königstraße 25-27\, Berlin\, 14109\, Germany
CATEGORIES:Community
ORGANIZER;CN="Treffpunkt Im besten Alter":MAILTO:treffpunkt.wannsee@gmx.de
END:VEVENT
BEGIN:VEVENT
DTSTART;TZID=Europe/Berlin:20261218T140000
DTEND;TZID=Europe/Berlin:20261218T170000
DTSTAMP:20260420T065016
CREATED:20241126T082027Z
LAST-MODIFIED:20250103T091314Z
UID:10004570-1797602400-1797613200@wannseekalender.de
SUMMARY:Handy & Computer/Laptop mit Tim
DESCRIPTION:Wöchentliche Beratung zur Nutzung von Handy & Computer. Weitere Informationen: https://www.treffpunkt-im-besten-alter.de/wannsee/
URL:https://wannseekalender.de/event/handy-computer-laptop-mit-tim/2026-12-18/
LOCATION:Treffpunkt Im besten Alter\, Königstraße 25-27\, Berlin\, 14109\, Germany
CATEGORIES:Community
ORGANIZER;CN="Treffpunkt Im besten Alter":MAILTO:treffpunkt.wannsee@gmx.de
END:VEVENT
BEGIN:VEVENT
DTSTART;TZID=Europe/Berlin:20261225T140000
DTEND;TZID=Europe/Berlin:20261225T170000
DTSTAMP:20260420T065016
CREATED:20241126T082027Z
LAST-MODIFIED:20250103T091314Z
UID:10004571-1798207200-1798218000@wannseekalender.de
SUMMARY:Handy & Computer/Laptop mit Tim
DESCRIPTION:Wöchentliche Beratung zur Nutzung von Handy & Computer. Weitere Informationen: https://www.treffpunkt-im-besten-alter.de/wannsee/
URL:https://wannseekalender.de/event/handy-computer-laptop-mit-tim/2026-12-25/
LOCATION:Treffpunkt Im besten Alter\, Königstraße 25-27\, Berlin\, 14109\, Germany
CATEGORIES:Community
ORGANIZER;CN="Treffpunkt Im besten Alter":MAILTO:treffpunkt.wannsee@gmx.de
END:VEVENT
BEGIN:VEVENT
DTSTART;TZID=Europe/Berlin:20270101T140000
DTEND;TZID=Europe/Berlin:20270101T170000
DTSTAMP:20260420T065016
CREATED:20241126T082027Z
LAST-MODIFIED:20250103T091314Z
UID:10004572-1798812000-1798822800@wannseekalender.de
SUMMARY:Handy & Computer/Laptop mit Tim
DESCRIPTION:Wöchentliche Beratung zur Nutzung von Handy & Computer. Weitere Informationen: https://www.treffpunkt-im-besten-alter.de/wannsee/
URL:https://wannseekalender.de/event/handy-computer-laptop-mit-tim/2027-01-01/
LOCATION:Treffpunkt Im besten Alter\, Königstraße 25-27\, Berlin\, 14109\, Germany
CATEGORIES:Community
ORGANIZER;CN="Treffpunkt Im besten Alter":MAILTO:treffpunkt.wannsee@gmx.de
END:VEVENT
BEGIN:VEVENT
DTSTART;TZID=Europe/Berlin:20270108T140000
DTEND;TZID=Europe/Berlin:20270108T170000
DTSTAMP:20260420T065016
CREATED:20241126T082027Z
LAST-MODIFIED:20250103T091314Z
UID:10004573-1799416800-1799427600@wannseekalender.de
SUMMARY:Handy & Computer/Laptop mit Tim
DESCRIPTION:Wöchentliche Beratung zur Nutzung von Handy & Computer. Weitere Informationen: https://www.treffpunkt-im-besten-alter.de/wannsee/
URL:https://wannseekalender.de/event/handy-computer-laptop-mit-tim/2027-01-08/
LOCATION:Treffpunkt Im besten Alter\, Königstraße 25-27\, Berlin\, 14109\, Germany
CATEGORIES:Community
ORGANIZER;CN="Treffpunkt Im besten Alter":MAILTO:treffpunkt.wannsee@gmx.de
END:VEVENT
BEGIN:VEVENT
DTSTART;TZID=Europe/Berlin:20270115T140000
DTEND;TZID=Europe/Berlin:20270115T170000
DTSTAMP:20260420T065016
CREATED:20241126T082027Z
LAST-MODIFIED:20250103T091314Z
UID:10004574-1800021600-1800032400@wannseekalender.de
SUMMARY:Handy & Computer/Laptop mit Tim
DESCRIPTION:Wöchentliche Beratung zur Nutzung von Handy & Computer. Weitere Informationen: https://www.treffpunkt-im-besten-alter.de/wannsee/
URL:https://wannseekalender.de/event/handy-computer-laptop-mit-tim/2027-01-15/
LOCATION:Treffpunkt Im besten Alter\, Königstraße 25-27\, Berlin\, 14109\, Germany
CATEGORIES:Community
ORGANIZER;CN="Treffpunkt Im besten Alter":MAILTO:treffpunkt.wannsee@gmx.de
END:VEVENT
BEGIN:VEVENT
DTSTART;TZID=Europe/Berlin:20270122T140000
DTEND;TZID=Europe/Berlin:20270122T170000
DTSTAMP:20260420T065016
CREATED:20241126T082027Z
LAST-MODIFIED:20250103T091314Z
UID:10004575-1800626400-1800637200@wannseekalender.de
SUMMARY:Handy & Computer/Laptop mit Tim
DESCRIPTION:Wöchentliche Beratung zur Nutzung von Handy & Computer. Weitere Informationen: https://www.treffpunkt-im-besten-alter.de/wannsee/
URL:https://wannseekalender.de/event/handy-computer-laptop-mit-tim/2027-01-22/
LOCATION:Treffpunkt Im besten Alter\, Königstraße 25-27\, Berlin\, 14109\, Germany
CATEGORIES:Community
ORGANIZER;CN="Treffpunkt Im besten Alter":MAILTO:treffpunkt.wannsee@gmx.de
END:VEVENT
BEGIN:VEVENT
DTSTART;TZID=Europe/Berlin:20270129T140000
DTEND;TZID=Europe/Berlin:20270129T170000
DTSTAMP:20260420T065016
CREATED:20241126T082027Z
LAST-MODIFIED:20250103T091314Z
UID:10004576-1801231200-1801242000@wannseekalender.de
SUMMARY:Handy & Computer/Laptop mit Tim
DESCRIPTION:Wöchentliche Beratung zur Nutzung von Handy & Computer. Weitere Informationen: https://www.treffpunkt-im-besten-alter.de/wannsee/
URL:https://wannseekalender.de/event/handy-computer-laptop-mit-tim/2027-01-29/
LOCATION:Treffpunkt Im besten Alter\, Königstraße 25-27\, Berlin\, 14109\, Germany
CATEGORIES:Community
ORGANIZER;CN="Treffpunkt Im besten Alter":MAILTO:treffpunkt.wannsee@gmx.de
END:VEVENT
BEGIN:VEVENT
DTSTART;TZID=Europe/Berlin:20270205T140000
DTEND;TZID=Europe/Berlin:20270205T170000
DTSTAMP:20260420T065016
CREATED:20241126T082027Z
LAST-MODIFIED:20250103T091314Z
UID:10004577-1801836000-1801846800@wannseekalender.de
SUMMARY:Handy & Computer/Laptop mit Tim
DESCRIPTION:Wöchentliche Beratung zur Nutzung von Handy & Computer. Weitere Informationen: https://www.treffpunkt-im-besten-alter.de/wannsee/
URL:https://wannseekalender.de/event/handy-computer-laptop-mit-tim/2027-02-05/
LOCATION:Treffpunkt Im besten Alter\, Königstraße 25-27\, Berlin\, 14109\, Germany
CATEGORIES:Community
ORGANIZER;CN="Treffpunkt Im besten Alter":MAILTO:treffpunkt.wannsee@gmx.de
END:VEVENT
BEGIN:VEVENT
DTSTART;TZID=Europe/Berlin:20270212T140000
DTEND;TZID=Europe/Berlin:20270212T170000
DTSTAMP:20260420T065016
CREATED:20241126T082027Z
LAST-MODIFIED:20250103T091314Z
UID:10004578-1802440800-1802451600@wannseekalender.de
SUMMARY:Handy & Computer/Laptop mit Tim
DESCRIPTION:Wöchentliche Beratung zur Nutzung von Handy & Computer. Weitere Informationen: https://www.treffpunkt-im-besten-alter.de/wannsee/
URL:https://wannseekalender.de/event/handy-computer-laptop-mit-tim/2027-02-12/
LOCATION:Treffpunkt Im besten Alter\, Königstraße 25-27\, Berlin\, 14109\, Germany
CATEGORIES:Community
ORGANIZER;CN="Treffpunkt Im besten Alter":MAILTO:treffpunkt.wannsee@gmx.de
END:VEVENT
BEGIN:VEVENT
DTSTART;TZID=Europe/Berlin:20270219T140000
DTEND;TZID=Europe/Berlin:20270219T170000
DTSTAMP:20260420T065016
CREATED:20241126T082027Z
LAST-MODIFIED:20250103T091314Z
UID:10004579-1803045600-1803056400@wannseekalender.de
SUMMARY:Handy & Computer/Laptop mit Tim
DESCRIPTION:Wöchentliche Beratung zur Nutzung von Handy & Computer. Weitere Informationen: https://www.treffpunkt-im-besten-alter.de/wannsee/
URL:https://wannseekalender.de/event/handy-computer-laptop-mit-tim/2027-02-19/
LOCATION:Treffpunkt Im besten Alter\, Königstraße 25-27\, Berlin\, 14109\, Germany
CATEGORIES:Community
ORGANIZER;CN="Treffpunkt Im besten Alter":MAILTO:treffpunkt.wannsee@gmx.de
END:VEVENT
BEGIN:VEVENT
DTSTART;TZID=Europe/Berlin:20270226T140000
DTEND;TZID=Europe/Berlin:20270226T170000
DTSTAMP:20260420T065016
CREATED:20241126T082027Z
LAST-MODIFIED:20250103T091314Z
UID:10004580-1803650400-1803661200@wannseekalender.de
SUMMARY:Handy & Computer/Laptop mit Tim
DESCRIPTION:Wöchentliche Beratung zur Nutzung von Handy & Computer. Weitere Informationen: https://www.treffpunkt-im-besten-alter.de/wannsee/
URL:https://wannseekalender.de/event/handy-computer-laptop-mit-tim/2027-02-26/
LOCATION:Treffpunkt Im besten Alter\, Königstraße 25-27\, Berlin\, 14109\, Germany
CATEGORIES:Community
ORGANIZER;CN="Treffpunkt Im besten Alter":MAILTO:treffpunkt.wannsee@gmx.de
END:VEVENT
BEGIN:VEVENT
DTSTART;TZID=Europe/Berlin:20270305T140000
DTEND;TZID=Europe/Berlin:20270305T170000
DTSTAMP:20260420T065016
CREATED:20241126T082027Z
LAST-MODIFIED:20250103T091314Z
UID:10004581-1804255200-1804266000@wannseekalender.de
SUMMARY:Handy & Computer/Laptop mit Tim
DESCRIPTION:Wöchentliche Beratung zur Nutzung von Handy & Computer. Weitere Informationen: https://www.treffpunkt-im-besten-alter.de/wannsee/
URL:https://wannseekalender.de/event/handy-computer-laptop-mit-tim/2027-03-05/
LOCATION:Treffpunkt Im besten Alter\, Königstraße 25-27\, Berlin\, 14109\, Germany
CATEGORIES:Community
ORGANIZER;CN="Treffpunkt Im besten Alter":MAILTO:treffpunkt.wannsee@gmx.de
END:VEVENT
BEGIN:VEVENT
DTSTART;TZID=Europe/Berlin:20270312T140000
DTEND;TZID=Europe/Berlin:20270312T170000
DTSTAMP:20260420T065016
CREATED:20241126T082027Z
LAST-MODIFIED:20250103T091314Z
UID:10004582-1804860000-1804870800@wannseekalender.de
SUMMARY:Handy & Computer/Laptop mit Tim
DESCRIPTION:Wöchentliche Beratung zur Nutzung von Handy & Computer. Weitere Informationen: https://www.treffpunkt-im-besten-alter.de/wannsee/
URL:https://wannseekalender.de/event/handy-computer-laptop-mit-tim/2027-03-12/
LOCATION:Treffpunkt Im besten Alter\, Königstraße 25-27\, Berlin\, 14109\, Germany
CATEGORIES:Community
ORGANIZER;CN="Treffpunkt Im besten Alter":MAILTO:treffpunkt.wannsee@gmx.de
END:VEVENT
BEGIN:VEVENT
DTSTART;TZID=Europe/Berlin:20270319T140000
DTEND;TZID=Europe/Berlin:20270319T170000
DTSTAMP:20260420T065016
CREATED:20241126T082027Z
LAST-MODIFIED:20250103T091314Z
UID:10004583-1805464800-1805475600@wannseekalender.de
SUMMARY:Handy & Computer/Laptop mit Tim
DESCRIPTION:Wöchentliche Beratung zur Nutzung von Handy & Computer. Weitere Informationen: https://www.treffpunkt-im-besten-alter.de/wannsee/
URL:https://wannseekalender.de/event/handy-computer-laptop-mit-tim/2027-03-19/
LOCATION:Treffpunkt Im besten Alter\, Königstraße 25-27\, Berlin\, 14109\, Germany
CATEGORIES:Community
ORGANIZER;CN="Treffpunkt Im besten Alter":MAILTO:treffpunkt.wannsee@gmx.de
END:VEVENT
END:VCALENDAR