BEGIN:VCALENDAR
VERSION:2.0
PRODID:-//Wannsee Kalender - ECPv6.15.20//NONSGML v1.0//EN
CALSCALE:GREGORIAN
METHOD:PUBLISH
X-ORIGINAL-URL:https://wannseekalender.de
X-WR-CALDESC:Veranstaltungen für Wannsee Kalender
REFRESH-INTERVAL;VALUE=DURATION:PT1H
X-Robots-Tag:noindex
X-PUBLISHED-TTL:PT1H
BEGIN:VTIMEZONE
TZID:Europe/Berlin
BEGIN:DAYLIGHT
TZOFFSETFROM:+0100
TZOFFSETTO:+0200
TZNAME:CEST
DTSTART:20290325T010000
END:DAYLIGHT
BEGIN:STANDARD
TZOFFSETFROM:+0200
TZOFFSETTO:+0100
TZNAME:CET
DTSTART:20291028T010000
END:STANDARD
BEGIN:DAYLIGHT
TZOFFSETFROM:+0100
TZOFFSETTO:+0200
TZNAME:CEST
DTSTART:20300331T010000
END:DAYLIGHT
BEGIN:STANDARD
TZOFFSETFROM:+0200
TZOFFSETTO:+0100
TZNAME:CET
DTSTART:20301027T010000
END:STANDARD
BEGIN:DAYLIGHT
TZOFFSETFROM:+0100
TZOFFSETTO:+0200
TZNAME:CEST
DTSTART:20310330T010000
END:DAYLIGHT
BEGIN:STANDARD
TZOFFSETFROM:+0200
TZOFFSETTO:+0100
TZNAME:CET
DTSTART:20311026T010000
END:STANDARD
END:VTIMEZONE
BEGIN:VEVENT
DTSTART;TZID=Europe/Berlin:20300108T083000
DTEND;TZID=Europe/Berlin:20300108T093000
DTSTAMP:20260420T140652
CREATED:20241128T020609Z
LAST-MODIFIED:20241228T174326Z
UID:10033988-1894091400-1894095000@wannseekalender.de
SUMMARY:Heilige Messe
DESCRIPTION:Anschließend gemeinsames Frühstück.
URL:https://wannseekalender.de/event/heilige-messe-2/2030-01-08/
LOCATION:Katholisches Gemeindehaus St. Michael\, Hohenzollernstraße 28\, Berlin\, 14109
CATEGORIES:Gottesdienst,Kirche
ORGANIZER;CN="Katholische Pfarrei Johannes Bosco %E2%80%93 Berliner S%C3%BCdwesten":MAILTO:pfarrbuero@johannesboscoberlin.de
END:VEVENT
BEGIN:VEVENT
DTSTART;TZID=Europe/Berlin:20300115T083000
DTEND;TZID=Europe/Berlin:20300115T093000
DTSTAMP:20260420T140652
CREATED:20241128T020609Z
LAST-MODIFIED:20241228T174326Z
UID:10033989-1894696200-1894699800@wannseekalender.de
SUMMARY:Heilige Messe
DESCRIPTION:Anschließend gemeinsames Frühstück.
URL:https://wannseekalender.de/event/heilige-messe-2/2030-01-15/
LOCATION:Katholisches Gemeindehaus St. Michael\, Hohenzollernstraße 28\, Berlin\, 14109
CATEGORIES:Gottesdienst,Kirche
ORGANIZER;CN="Katholische Pfarrei Johannes Bosco %E2%80%93 Berliner S%C3%BCdwesten":MAILTO:pfarrbuero@johannesboscoberlin.de
END:VEVENT
BEGIN:VEVENT
DTSTART;TZID=Europe/Berlin:20300122T083000
DTEND;TZID=Europe/Berlin:20300122T093000
DTSTAMP:20260420T140652
CREATED:20241128T020609Z
LAST-MODIFIED:20241228T174326Z
UID:10033990-1895301000-1895304600@wannseekalender.de
SUMMARY:Heilige Messe
DESCRIPTION:Anschließend gemeinsames Frühstück.
URL:https://wannseekalender.de/event/heilige-messe-2/2030-01-22/
LOCATION:Katholisches Gemeindehaus St. Michael\, Hohenzollernstraße 28\, Berlin\, 14109
CATEGORIES:Gottesdienst,Kirche
ORGANIZER;CN="Katholische Pfarrei Johannes Bosco %E2%80%93 Berliner S%C3%BCdwesten":MAILTO:pfarrbuero@johannesboscoberlin.de
END:VEVENT
BEGIN:VEVENT
DTSTART;TZID=Europe/Berlin:20300129T083000
DTEND;TZID=Europe/Berlin:20300129T093000
DTSTAMP:20260420T140652
CREATED:20241128T020609Z
LAST-MODIFIED:20241228T174326Z
UID:10033991-1895905800-1895909400@wannseekalender.de
SUMMARY:Heilige Messe
DESCRIPTION:Anschließend gemeinsames Frühstück.
URL:https://wannseekalender.de/event/heilige-messe-2/2030-01-29/
LOCATION:Katholisches Gemeindehaus St. Michael\, Hohenzollernstraße 28\, Berlin\, 14109
CATEGORIES:Gottesdienst,Kirche
ORGANIZER;CN="Katholische Pfarrei Johannes Bosco %E2%80%93 Berliner S%C3%BCdwesten":MAILTO:pfarrbuero@johannesboscoberlin.de
END:VEVENT
BEGIN:VEVENT
DTSTART;TZID=Europe/Berlin:20300205T083000
DTEND;TZID=Europe/Berlin:20300205T093000
DTSTAMP:20260420T140652
CREATED:20241128T020609Z
LAST-MODIFIED:20241228T174326Z
UID:10033992-1896510600-1896514200@wannseekalender.de
SUMMARY:Heilige Messe
DESCRIPTION:Anschließend gemeinsames Frühstück.
URL:https://wannseekalender.de/event/heilige-messe-2/2030-02-05/
LOCATION:Katholisches Gemeindehaus St. Michael\, Hohenzollernstraße 28\, Berlin\, 14109
CATEGORIES:Gottesdienst,Kirche
ORGANIZER;CN="Katholische Pfarrei Johannes Bosco %E2%80%93 Berliner S%C3%BCdwesten":MAILTO:pfarrbuero@johannesboscoberlin.de
END:VEVENT
BEGIN:VEVENT
DTSTART;TZID=Europe/Berlin:20300212T083000
DTEND;TZID=Europe/Berlin:20300212T093000
DTSTAMP:20260420T140652
CREATED:20241128T020609Z
LAST-MODIFIED:20241228T174326Z
UID:10033993-1897115400-1897119000@wannseekalender.de
SUMMARY:Heilige Messe
DESCRIPTION:Anschließend gemeinsames Frühstück.
URL:https://wannseekalender.de/event/heilige-messe-2/2030-02-12/
LOCATION:Katholisches Gemeindehaus St. Michael\, Hohenzollernstraße 28\, Berlin\, 14109
CATEGORIES:Gottesdienst,Kirche
ORGANIZER;CN="Katholische Pfarrei Johannes Bosco %E2%80%93 Berliner S%C3%BCdwesten":MAILTO:pfarrbuero@johannesboscoberlin.de
END:VEVENT
BEGIN:VEVENT
DTSTART;TZID=Europe/Berlin:20300219T083000
DTEND;TZID=Europe/Berlin:20300219T093000
DTSTAMP:20260420T140652
CREATED:20241128T020609Z
LAST-MODIFIED:20241228T174326Z
UID:10033994-1897720200-1897723800@wannseekalender.de
SUMMARY:Heilige Messe
DESCRIPTION:Anschließend gemeinsames Frühstück.
URL:https://wannseekalender.de/event/heilige-messe-2/2030-02-19/
LOCATION:Katholisches Gemeindehaus St. Michael\, Hohenzollernstraße 28\, Berlin\, 14109
CATEGORIES:Gottesdienst,Kirche
ORGANIZER;CN="Katholische Pfarrei Johannes Bosco %E2%80%93 Berliner S%C3%BCdwesten":MAILTO:pfarrbuero@johannesboscoberlin.de
END:VEVENT
BEGIN:VEVENT
DTSTART;TZID=Europe/Berlin:20300226T083000
DTEND;TZID=Europe/Berlin:20300226T093000
DTSTAMP:20260420T140652
CREATED:20241128T020609Z
LAST-MODIFIED:20241228T174326Z
UID:10033995-1898325000-1898328600@wannseekalender.de
SUMMARY:Heilige Messe
DESCRIPTION:Anschließend gemeinsames Frühstück.
URL:https://wannseekalender.de/event/heilige-messe-2/2030-02-26/
LOCATION:Katholisches Gemeindehaus St. Michael\, Hohenzollernstraße 28\, Berlin\, 14109
CATEGORIES:Gottesdienst,Kirche
ORGANIZER;CN="Katholische Pfarrei Johannes Bosco %E2%80%93 Berliner S%C3%BCdwesten":MAILTO:pfarrbuero@johannesboscoberlin.de
END:VEVENT
BEGIN:VEVENT
DTSTART;TZID=Europe/Berlin:20300305T083000
DTEND;TZID=Europe/Berlin:20300305T093000
DTSTAMP:20260420T140652
CREATED:20241128T020609Z
LAST-MODIFIED:20241228T174326Z
UID:10033996-1898929800-1898933400@wannseekalender.de
SUMMARY:Heilige Messe
DESCRIPTION:Anschließend gemeinsames Frühstück.
URL:https://wannseekalender.de/event/heilige-messe-2/2030-03-05/
LOCATION:Katholisches Gemeindehaus St. Michael\, Hohenzollernstraße 28\, Berlin\, 14109
CATEGORIES:Gottesdienst,Kirche
ORGANIZER;CN="Katholische Pfarrei Johannes Bosco %E2%80%93 Berliner S%C3%BCdwesten":MAILTO:pfarrbuero@johannesboscoberlin.de
END:VEVENT
BEGIN:VEVENT
DTSTART;TZID=Europe/Berlin:20300312T083000
DTEND;TZID=Europe/Berlin:20300312T093000
DTSTAMP:20260420T140652
CREATED:20241128T020609Z
LAST-MODIFIED:20241228T174326Z
UID:10033997-1899534600-1899538200@wannseekalender.de
SUMMARY:Heilige Messe
DESCRIPTION:Anschließend gemeinsames Frühstück.
URL:https://wannseekalender.de/event/heilige-messe-2/2030-03-12/
LOCATION:Katholisches Gemeindehaus St. Michael\, Hohenzollernstraße 28\, Berlin\, 14109
CATEGORIES:Gottesdienst,Kirche
ORGANIZER;CN="Katholische Pfarrei Johannes Bosco %E2%80%93 Berliner S%C3%BCdwesten":MAILTO:pfarrbuero@johannesboscoberlin.de
END:VEVENT
BEGIN:VEVENT
DTSTART;TZID=Europe/Berlin:20300319T083000
DTEND;TZID=Europe/Berlin:20300319T093000
DTSTAMP:20260420T140652
CREATED:20241128T020609Z
LAST-MODIFIED:20241228T174326Z
UID:10033998-1900139400-1900143000@wannseekalender.de
SUMMARY:Heilige Messe
DESCRIPTION:Anschließend gemeinsames Frühstück.
URL:https://wannseekalender.de/event/heilige-messe-2/2030-03-19/
LOCATION:Katholisches Gemeindehaus St. Michael\, Hohenzollernstraße 28\, Berlin\, 14109
CATEGORIES:Gottesdienst,Kirche
ORGANIZER;CN="Katholische Pfarrei Johannes Bosco %E2%80%93 Berliner S%C3%BCdwesten":MAILTO:pfarrbuero@johannesboscoberlin.de
END:VEVENT
BEGIN:VEVENT
DTSTART;TZID=Europe/Berlin:20300326T083000
DTEND;TZID=Europe/Berlin:20300326T093000
DTSTAMP:20260420T140652
CREATED:20241128T020609Z
LAST-MODIFIED:20241228T174326Z
UID:10033999-1900744200-1900747800@wannseekalender.de
SUMMARY:Heilige Messe
DESCRIPTION:Anschließend gemeinsames Frühstück.
URL:https://wannseekalender.de/event/heilige-messe-2/2030-03-26/
LOCATION:Katholisches Gemeindehaus St. Michael\, Hohenzollernstraße 28\, Berlin\, 14109
CATEGORIES:Gottesdienst,Kirche
ORGANIZER;CN="Katholische Pfarrei Johannes Bosco %E2%80%93 Berliner S%C3%BCdwesten":MAILTO:pfarrbuero@johannesboscoberlin.de
END:VEVENT
BEGIN:VEVENT
DTSTART;TZID=Europe/Berlin:20300402T083000
DTEND;TZID=Europe/Berlin:20300402T093000
DTSTAMP:20260420T140652
CREATED:20241128T020609Z
LAST-MODIFIED:20241228T174326Z
UID:10034000-1901349000-1901352600@wannseekalender.de
SUMMARY:Heilige Messe
DESCRIPTION:Anschließend gemeinsames Frühstück.
URL:https://wannseekalender.de/event/heilige-messe-2/2030-04-02/
LOCATION:Katholisches Gemeindehaus St. Michael\, Hohenzollernstraße 28\, Berlin\, 14109
CATEGORIES:Gottesdienst,Kirche
ORGANIZER;CN="Katholische Pfarrei Johannes Bosco %E2%80%93 Berliner S%C3%BCdwesten":MAILTO:pfarrbuero@johannesboscoberlin.de
END:VEVENT
BEGIN:VEVENT
DTSTART;TZID=Europe/Berlin:20300409T083000
DTEND;TZID=Europe/Berlin:20300409T093000
DTSTAMP:20260420T140652
CREATED:20241128T020609Z
LAST-MODIFIED:20241228T174326Z
UID:10034001-1901953800-1901957400@wannseekalender.de
SUMMARY:Heilige Messe
DESCRIPTION:Anschließend gemeinsames Frühstück.
URL:https://wannseekalender.de/event/heilige-messe-2/2030-04-09/
LOCATION:Katholisches Gemeindehaus St. Michael\, Hohenzollernstraße 28\, Berlin\, 14109
CATEGORIES:Gottesdienst,Kirche
ORGANIZER;CN="Katholische Pfarrei Johannes Bosco %E2%80%93 Berliner S%C3%BCdwesten":MAILTO:pfarrbuero@johannesboscoberlin.de
END:VEVENT
BEGIN:VEVENT
DTSTART;TZID=Europe/Berlin:20300416T083000
DTEND;TZID=Europe/Berlin:20300416T093000
DTSTAMP:20260420T140652
CREATED:20241128T020609Z
LAST-MODIFIED:20241228T174326Z
UID:10034002-1902558600-1902562200@wannseekalender.de
SUMMARY:Heilige Messe
DESCRIPTION:Anschließend gemeinsames Frühstück.
URL:https://wannseekalender.de/event/heilige-messe-2/2030-04-16/
LOCATION:Katholisches Gemeindehaus St. Michael\, Hohenzollernstraße 28\, Berlin\, 14109
CATEGORIES:Gottesdienst,Kirche
ORGANIZER;CN="Katholische Pfarrei Johannes Bosco %E2%80%93 Berliner S%C3%BCdwesten":MAILTO:pfarrbuero@johannesboscoberlin.de
END:VEVENT
BEGIN:VEVENT
DTSTART;TZID=Europe/Berlin:20300423T083000
DTEND;TZID=Europe/Berlin:20300423T093000
DTSTAMP:20260420T140652
CREATED:20241128T020609Z
LAST-MODIFIED:20241228T174326Z
UID:10034003-1903163400-1903167000@wannseekalender.de
SUMMARY:Heilige Messe
DESCRIPTION:Anschließend gemeinsames Frühstück.
URL:https://wannseekalender.de/event/heilige-messe-2/2030-04-23/
LOCATION:Katholisches Gemeindehaus St. Michael\, Hohenzollernstraße 28\, Berlin\, 14109
CATEGORIES:Gottesdienst,Kirche
ORGANIZER;CN="Katholische Pfarrei Johannes Bosco %E2%80%93 Berliner S%C3%BCdwesten":MAILTO:pfarrbuero@johannesboscoberlin.de
END:VEVENT
BEGIN:VEVENT
DTSTART;TZID=Europe/Berlin:20300430T083000
DTEND;TZID=Europe/Berlin:20300430T093000
DTSTAMP:20260420T140652
CREATED:20241128T020609Z
LAST-MODIFIED:20241228T174326Z
UID:10034004-1903768200-1903771800@wannseekalender.de
SUMMARY:Heilige Messe
DESCRIPTION:Anschließend gemeinsames Frühstück.
URL:https://wannseekalender.de/event/heilige-messe-2/2030-04-30/
LOCATION:Katholisches Gemeindehaus St. Michael\, Hohenzollernstraße 28\, Berlin\, 14109
CATEGORIES:Gottesdienst,Kirche
ORGANIZER;CN="Katholische Pfarrei Johannes Bosco %E2%80%93 Berliner S%C3%BCdwesten":MAILTO:pfarrbuero@johannesboscoberlin.de
END:VEVENT
BEGIN:VEVENT
DTSTART;TZID=Europe/Berlin:20300507T083000
DTEND;TZID=Europe/Berlin:20300507T093000
DTSTAMP:20260420T140652
CREATED:20241128T020609Z
LAST-MODIFIED:20241228T174326Z
UID:10034005-1904373000-1904376600@wannseekalender.de
SUMMARY:Heilige Messe
DESCRIPTION:Anschließend gemeinsames Frühstück.
URL:https://wannseekalender.de/event/heilige-messe-2/2030-05-07/
LOCATION:Katholisches Gemeindehaus St. Michael\, Hohenzollernstraße 28\, Berlin\, 14109
CATEGORIES:Gottesdienst,Kirche
ORGANIZER;CN="Katholische Pfarrei Johannes Bosco %E2%80%93 Berliner S%C3%BCdwesten":MAILTO:pfarrbuero@johannesboscoberlin.de
END:VEVENT
BEGIN:VEVENT
DTSTART;TZID=Europe/Berlin:20300514T083000
DTEND;TZID=Europe/Berlin:20300514T093000
DTSTAMP:20260420T140652
CREATED:20241128T020609Z
LAST-MODIFIED:20241228T174326Z
UID:10034006-1904977800-1904981400@wannseekalender.de
SUMMARY:Heilige Messe
DESCRIPTION:Anschließend gemeinsames Frühstück.
URL:https://wannseekalender.de/event/heilige-messe-2/2030-05-14/
LOCATION:Katholisches Gemeindehaus St. Michael\, Hohenzollernstraße 28\, Berlin\, 14109
CATEGORIES:Gottesdienst,Kirche
ORGANIZER;CN="Katholische Pfarrei Johannes Bosco %E2%80%93 Berliner S%C3%BCdwesten":MAILTO:pfarrbuero@johannesboscoberlin.de
END:VEVENT
BEGIN:VEVENT
DTSTART;TZID=Europe/Berlin:20300521T083000
DTEND;TZID=Europe/Berlin:20300521T093000
DTSTAMP:20260420T140652
CREATED:20241128T020609Z
LAST-MODIFIED:20241228T174326Z
UID:10034007-1905582600-1905586200@wannseekalender.de
SUMMARY:Heilige Messe
DESCRIPTION:Anschließend gemeinsames Frühstück.
URL:https://wannseekalender.de/event/heilige-messe-2/2030-05-21/
LOCATION:Katholisches Gemeindehaus St. Michael\, Hohenzollernstraße 28\, Berlin\, 14109
CATEGORIES:Gottesdienst,Kirche
ORGANIZER;CN="Katholische Pfarrei Johannes Bosco %E2%80%93 Berliner S%C3%BCdwesten":MAILTO:pfarrbuero@johannesboscoberlin.de
END:VEVENT
BEGIN:VEVENT
DTSTART;TZID=Europe/Berlin:20300528T083000
DTEND;TZID=Europe/Berlin:20300528T093000
DTSTAMP:20260420T140652
CREATED:20241128T020609Z
LAST-MODIFIED:20241228T174326Z
UID:10034008-1906187400-1906191000@wannseekalender.de
SUMMARY:Heilige Messe
DESCRIPTION:Anschließend gemeinsames Frühstück.
URL:https://wannseekalender.de/event/heilige-messe-2/2030-05-28/
LOCATION:Katholisches Gemeindehaus St. Michael\, Hohenzollernstraße 28\, Berlin\, 14109
CATEGORIES:Gottesdienst,Kirche
ORGANIZER;CN="Katholische Pfarrei Johannes Bosco %E2%80%93 Berliner S%C3%BCdwesten":MAILTO:pfarrbuero@johannesboscoberlin.de
END:VEVENT
BEGIN:VEVENT
DTSTART;TZID=Europe/Berlin:20300604T083000
DTEND;TZID=Europe/Berlin:20300604T093000
DTSTAMP:20260420T140652
CREATED:20241128T020609Z
LAST-MODIFIED:20241228T174326Z
UID:10034009-1906792200-1906795800@wannseekalender.de
SUMMARY:Heilige Messe
DESCRIPTION:Anschließend gemeinsames Frühstück.
URL:https://wannseekalender.de/event/heilige-messe-2/2030-06-04/
LOCATION:Katholisches Gemeindehaus St. Michael\, Hohenzollernstraße 28\, Berlin\, 14109
CATEGORIES:Gottesdienst,Kirche
ORGANIZER;CN="Katholische Pfarrei Johannes Bosco %E2%80%93 Berliner S%C3%BCdwesten":MAILTO:pfarrbuero@johannesboscoberlin.de
END:VEVENT
BEGIN:VEVENT
DTSTART;TZID=Europe/Berlin:20300611T083000
DTEND;TZID=Europe/Berlin:20300611T093000
DTSTAMP:20260420T140652
CREATED:20241128T020609Z
LAST-MODIFIED:20241228T174326Z
UID:10034010-1907397000-1907400600@wannseekalender.de
SUMMARY:Heilige Messe
DESCRIPTION:Anschließend gemeinsames Frühstück.
URL:https://wannseekalender.de/event/heilige-messe-2/2030-06-11/
LOCATION:Katholisches Gemeindehaus St. Michael\, Hohenzollernstraße 28\, Berlin\, 14109
CATEGORIES:Gottesdienst,Kirche
ORGANIZER;CN="Katholische Pfarrei Johannes Bosco %E2%80%93 Berliner S%C3%BCdwesten":MAILTO:pfarrbuero@johannesboscoberlin.de
END:VEVENT
BEGIN:VEVENT
DTSTART;TZID=Europe/Berlin:20300618T083000
DTEND;TZID=Europe/Berlin:20300618T093000
DTSTAMP:20260420T140652
CREATED:20241128T020609Z
LAST-MODIFIED:20241228T174326Z
UID:10034011-1908001800-1908005400@wannseekalender.de
SUMMARY:Heilige Messe
DESCRIPTION:Anschließend gemeinsames Frühstück.
URL:https://wannseekalender.de/event/heilige-messe-2/2030-06-18/
LOCATION:Katholisches Gemeindehaus St. Michael\, Hohenzollernstraße 28\, Berlin\, 14109
CATEGORIES:Gottesdienst,Kirche
ORGANIZER;CN="Katholische Pfarrei Johannes Bosco %E2%80%93 Berliner S%C3%BCdwesten":MAILTO:pfarrbuero@johannesboscoberlin.de
END:VEVENT
BEGIN:VEVENT
DTSTART;TZID=Europe/Berlin:20300625T083000
DTEND;TZID=Europe/Berlin:20300625T093000
DTSTAMP:20260420T140652
CREATED:20241128T020609Z
LAST-MODIFIED:20241228T174326Z
UID:10034012-1908606600-1908610200@wannseekalender.de
SUMMARY:Heilige Messe
DESCRIPTION:Anschließend gemeinsames Frühstück.
URL:https://wannseekalender.de/event/heilige-messe-2/2030-06-25/
LOCATION:Katholisches Gemeindehaus St. Michael\, Hohenzollernstraße 28\, Berlin\, 14109
CATEGORIES:Gottesdienst,Kirche
ORGANIZER;CN="Katholische Pfarrei Johannes Bosco %E2%80%93 Berliner S%C3%BCdwesten":MAILTO:pfarrbuero@johannesboscoberlin.de
END:VEVENT
BEGIN:VEVENT
DTSTART;TZID=Europe/Berlin:20300702T083000
DTEND;TZID=Europe/Berlin:20300702T093000
DTSTAMP:20260420T140652
CREATED:20241128T020609Z
LAST-MODIFIED:20241228T174326Z
UID:10034013-1909211400-1909215000@wannseekalender.de
SUMMARY:Heilige Messe
DESCRIPTION:Anschließend gemeinsames Frühstück.
URL:https://wannseekalender.de/event/heilige-messe-2/2030-07-02/
LOCATION:Katholisches Gemeindehaus St. Michael\, Hohenzollernstraße 28\, Berlin\, 14109
CATEGORIES:Gottesdienst,Kirche
ORGANIZER;CN="Katholische Pfarrei Johannes Bosco %E2%80%93 Berliner S%C3%BCdwesten":MAILTO:pfarrbuero@johannesboscoberlin.de
END:VEVENT
BEGIN:VEVENT
DTSTART;TZID=Europe/Berlin:20300709T083000
DTEND;TZID=Europe/Berlin:20300709T093000
DTSTAMP:20260420T140652
CREATED:20241128T020609Z
LAST-MODIFIED:20241228T174326Z
UID:10034014-1909816200-1909819800@wannseekalender.de
SUMMARY:Heilige Messe
DESCRIPTION:Anschließend gemeinsames Frühstück.
URL:https://wannseekalender.de/event/heilige-messe-2/2030-07-09/
LOCATION:Katholisches Gemeindehaus St. Michael\, Hohenzollernstraße 28\, Berlin\, 14109
CATEGORIES:Gottesdienst,Kirche
ORGANIZER;CN="Katholische Pfarrei Johannes Bosco %E2%80%93 Berliner S%C3%BCdwesten":MAILTO:pfarrbuero@johannesboscoberlin.de
END:VEVENT
BEGIN:VEVENT
DTSTART;TZID=Europe/Berlin:20300716T083000
DTEND;TZID=Europe/Berlin:20300716T093000
DTSTAMP:20260420T140652
CREATED:20241128T020609Z
LAST-MODIFIED:20241228T174326Z
UID:10034015-1910421000-1910424600@wannseekalender.de
SUMMARY:Heilige Messe
DESCRIPTION:Anschließend gemeinsames Frühstück.
URL:https://wannseekalender.de/event/heilige-messe-2/2030-07-16/
LOCATION:Katholisches Gemeindehaus St. Michael\, Hohenzollernstraße 28\, Berlin\, 14109
CATEGORIES:Gottesdienst,Kirche
ORGANIZER;CN="Katholische Pfarrei Johannes Bosco %E2%80%93 Berliner S%C3%BCdwesten":MAILTO:pfarrbuero@johannesboscoberlin.de
END:VEVENT
BEGIN:VEVENT
DTSTART;TZID=Europe/Berlin:20300723T083000
DTEND;TZID=Europe/Berlin:20300723T093000
DTSTAMP:20260420T140652
CREATED:20241128T020609Z
LAST-MODIFIED:20241228T174326Z
UID:10034016-1911025800-1911029400@wannseekalender.de
SUMMARY:Heilige Messe
DESCRIPTION:Anschließend gemeinsames Frühstück.
URL:https://wannseekalender.de/event/heilige-messe-2/2030-07-23/
LOCATION:Katholisches Gemeindehaus St. Michael\, Hohenzollernstraße 28\, Berlin\, 14109
CATEGORIES:Gottesdienst,Kirche
ORGANIZER;CN="Katholische Pfarrei Johannes Bosco %E2%80%93 Berliner S%C3%BCdwesten":MAILTO:pfarrbuero@johannesboscoberlin.de
END:VEVENT
BEGIN:VEVENT
DTSTART;TZID=Europe/Berlin:20300730T083000
DTEND;TZID=Europe/Berlin:20300730T093000
DTSTAMP:20260420T140652
CREATED:20241128T020609Z
LAST-MODIFIED:20241228T174326Z
UID:10034017-1911630600-1911634200@wannseekalender.de
SUMMARY:Heilige Messe
DESCRIPTION:Anschließend gemeinsames Frühstück.
URL:https://wannseekalender.de/event/heilige-messe-2/2030-07-30/
LOCATION:Katholisches Gemeindehaus St. Michael\, Hohenzollernstraße 28\, Berlin\, 14109
CATEGORIES:Gottesdienst,Kirche
ORGANIZER;CN="Katholische Pfarrei Johannes Bosco %E2%80%93 Berliner S%C3%BCdwesten":MAILTO:pfarrbuero@johannesboscoberlin.de
END:VEVENT
END:VCALENDAR