BEGIN:VCALENDAR
VERSION:2.0
PRODID:-//Wannsee Kalender - ECPv6.15.20//NONSGML v1.0//EN
CALSCALE:GREGORIAN
METHOD:PUBLISH
X-ORIGINAL-URL:https://wannseekalender.de
X-WR-CALDESC:Veranstaltungen für Wannsee Kalender
REFRESH-INTERVAL;VALUE=DURATION:PT1H
X-Robots-Tag:noindex
X-PUBLISHED-TTL:PT1H
BEGIN:VTIMEZONE
TZID:Europe/Berlin
BEGIN:DAYLIGHT
TZOFFSETFROM:+0100
TZOFFSETTO:+0200
TZNAME:CEST
DTSTART:20270328T010000
END:DAYLIGHT
BEGIN:STANDARD
TZOFFSETFROM:+0200
TZOFFSETTO:+0100
TZNAME:CET
DTSTART:20271031T010000
END:STANDARD
BEGIN:DAYLIGHT
TZOFFSETFROM:+0100
TZOFFSETTO:+0200
TZNAME:CEST
DTSTART:20280326T010000
END:DAYLIGHT
BEGIN:STANDARD
TZOFFSETFROM:+0200
TZOFFSETTO:+0100
TZNAME:CET
DTSTART:20281029T010000
END:STANDARD
BEGIN:DAYLIGHT
TZOFFSETFROM:+0100
TZOFFSETTO:+0200
TZNAME:CEST
DTSTART:20290325T010000
END:DAYLIGHT
BEGIN:STANDARD
TZOFFSETFROM:+0200
TZOFFSETTO:+0100
TZNAME:CET
DTSTART:20291028T010000
END:STANDARD
BEGIN:DAYLIGHT
TZOFFSETFROM:+0100
TZOFFSETTO:+0200
TZNAME:CEST
DTSTART:20300331T010000
END:DAYLIGHT
BEGIN:STANDARD
TZOFFSETFROM:+0200
TZOFFSETTO:+0100
TZNAME:CET
DTSTART:20301027T010000
END:STANDARD
END:VTIMEZONE
BEGIN:VEVENT
DTSTART;TZID=Europe/Berlin:20281121T083000
DTEND;TZID=Europe/Berlin:20281121T093000
DTSTAMP:20260419T202856
CREATED:20241128T020609Z
LAST-MODIFIED:20241228T174326Z
UID:10007404-1858408200-1858411800@wannseekalender.de
SUMMARY:Heilige Messe
DESCRIPTION:Anschließend gemeinsames Frühstück.
URL:https://wannseekalender.de/event/heilige-messe-2/2028-11-21/
LOCATION:Katholisches Gemeindehaus St. Michael\, Hohenzollernstraße 28\, Berlin\, 14109
CATEGORIES:Gottesdienst,Kirche
ORGANIZER;CN="Katholische Pfarrei Johannes Bosco %E2%80%93 Berliner S%C3%BCdwesten":MAILTO:pfarrbuero@johannesboscoberlin.de
END:VEVENT
BEGIN:VEVENT
DTSTART;TZID=Europe/Berlin:20281128T083000
DTEND;TZID=Europe/Berlin:20281128T093000
DTSTAMP:20260419T202856
CREATED:20241128T020609Z
LAST-MODIFIED:20241228T174326Z
UID:10007405-1859013000-1859016600@wannseekalender.de
SUMMARY:Heilige Messe
DESCRIPTION:Anschließend gemeinsames Frühstück.
URL:https://wannseekalender.de/event/heilige-messe-2/2028-11-28/
LOCATION:Katholisches Gemeindehaus St. Michael\, Hohenzollernstraße 28\, Berlin\, 14109
CATEGORIES:Gottesdienst,Kirche
ORGANIZER;CN="Katholische Pfarrei Johannes Bosco %E2%80%93 Berliner S%C3%BCdwesten":MAILTO:pfarrbuero@johannesboscoberlin.de
END:VEVENT
BEGIN:VEVENT
DTSTART;TZID=Europe/Berlin:20281205T083000
DTEND;TZID=Europe/Berlin:20281205T093000
DTSTAMP:20260419T202856
CREATED:20241128T020609Z
LAST-MODIFIED:20241228T174326Z
UID:10007406-1859617800-1859621400@wannseekalender.de
SUMMARY:Heilige Messe
DESCRIPTION:Anschließend gemeinsames Frühstück.
URL:https://wannseekalender.de/event/heilige-messe-2/2028-12-05/
LOCATION:Katholisches Gemeindehaus St. Michael\, Hohenzollernstraße 28\, Berlin\, 14109
CATEGORIES:Gottesdienst,Kirche
ORGANIZER;CN="Katholische Pfarrei Johannes Bosco %E2%80%93 Berliner S%C3%BCdwesten":MAILTO:pfarrbuero@johannesboscoberlin.de
END:VEVENT
BEGIN:VEVENT
DTSTART;TZID=Europe/Berlin:20281212T083000
DTEND;TZID=Europe/Berlin:20281212T093000
DTSTAMP:20260419T202856
CREATED:20241128T020609Z
LAST-MODIFIED:20241228T174326Z
UID:10007407-1860222600-1860226200@wannseekalender.de
SUMMARY:Heilige Messe
DESCRIPTION:Anschließend gemeinsames Frühstück.
URL:https://wannseekalender.de/event/heilige-messe-2/2028-12-12/
LOCATION:Katholisches Gemeindehaus St. Michael\, Hohenzollernstraße 28\, Berlin\, 14109
CATEGORIES:Gottesdienst,Kirche
ORGANIZER;CN="Katholische Pfarrei Johannes Bosco %E2%80%93 Berliner S%C3%BCdwesten":MAILTO:pfarrbuero@johannesboscoberlin.de
END:VEVENT
BEGIN:VEVENT
DTSTART;TZID=Europe/Berlin:20281219T083000
DTEND;TZID=Europe/Berlin:20281219T093000
DTSTAMP:20260419T202856
CREATED:20241128T020609Z
LAST-MODIFIED:20241228T174326Z
UID:10007408-1860827400-1860831000@wannseekalender.de
SUMMARY:Heilige Messe
DESCRIPTION:Anschließend gemeinsames Frühstück.
URL:https://wannseekalender.de/event/heilige-messe-2/2028-12-19/
LOCATION:Katholisches Gemeindehaus St. Michael\, Hohenzollernstraße 28\, Berlin\, 14109
CATEGORIES:Gottesdienst,Kirche
ORGANIZER;CN="Katholische Pfarrei Johannes Bosco %E2%80%93 Berliner S%C3%BCdwesten":MAILTO:pfarrbuero@johannesboscoberlin.de
END:VEVENT
BEGIN:VEVENT
DTSTART;TZID=Europe/Berlin:20281226T083000
DTEND;TZID=Europe/Berlin:20281226T093000
DTSTAMP:20260419T202856
CREATED:20241128T020609Z
LAST-MODIFIED:20241228T174326Z
UID:10007409-1861432200-1861435800@wannseekalender.de
SUMMARY:Heilige Messe
DESCRIPTION:Anschließend gemeinsames Frühstück.
URL:https://wannseekalender.de/event/heilige-messe-2/2028-12-26/
LOCATION:Katholisches Gemeindehaus St. Michael\, Hohenzollernstraße 28\, Berlin\, 14109
CATEGORIES:Gottesdienst,Kirche
ORGANIZER;CN="Katholische Pfarrei Johannes Bosco %E2%80%93 Berliner S%C3%BCdwesten":MAILTO:pfarrbuero@johannesboscoberlin.de
END:VEVENT
BEGIN:VEVENT
DTSTART;TZID=Europe/Berlin:20290102T083000
DTEND;TZID=Europe/Berlin:20290102T093000
DTSTAMP:20260419T202856
CREATED:20241128T020609Z
LAST-MODIFIED:20241228T174326Z
UID:10007410-1862037000-1862040600@wannseekalender.de
SUMMARY:Heilige Messe
DESCRIPTION:Anschließend gemeinsames Frühstück.
URL:https://wannseekalender.de/event/heilige-messe-2/2029-01-02/
LOCATION:Katholisches Gemeindehaus St. Michael\, Hohenzollernstraße 28\, Berlin\, 14109
CATEGORIES:Gottesdienst,Kirche
ORGANIZER;CN="Katholische Pfarrei Johannes Bosco %E2%80%93 Berliner S%C3%BCdwesten":MAILTO:pfarrbuero@johannesboscoberlin.de
END:VEVENT
BEGIN:VEVENT
DTSTART;TZID=Europe/Berlin:20290109T083000
DTEND;TZID=Europe/Berlin:20290109T093000
DTSTAMP:20260419T202856
CREATED:20241128T020609Z
LAST-MODIFIED:20241228T174326Z
UID:10007411-1862641800-1862645400@wannseekalender.de
SUMMARY:Heilige Messe
DESCRIPTION:Anschließend gemeinsames Frühstück.
URL:https://wannseekalender.de/event/heilige-messe-2/2029-01-09/
LOCATION:Katholisches Gemeindehaus St. Michael\, Hohenzollernstraße 28\, Berlin\, 14109
CATEGORIES:Gottesdienst,Kirche
ORGANIZER;CN="Katholische Pfarrei Johannes Bosco %E2%80%93 Berliner S%C3%BCdwesten":MAILTO:pfarrbuero@johannesboscoberlin.de
END:VEVENT
BEGIN:VEVENT
DTSTART;TZID=Europe/Berlin:20290116T083000
DTEND;TZID=Europe/Berlin:20290116T093000
DTSTAMP:20260419T202856
CREATED:20241128T020609Z
LAST-MODIFIED:20241228T174326Z
UID:10007412-1863246600-1863250200@wannseekalender.de
SUMMARY:Heilige Messe
DESCRIPTION:Anschließend gemeinsames Frühstück.
URL:https://wannseekalender.de/event/heilige-messe-2/2029-01-16/
LOCATION:Katholisches Gemeindehaus St. Michael\, Hohenzollernstraße 28\, Berlin\, 14109
CATEGORIES:Gottesdienst,Kirche
ORGANIZER;CN="Katholische Pfarrei Johannes Bosco %E2%80%93 Berliner S%C3%BCdwesten":MAILTO:pfarrbuero@johannesboscoberlin.de
END:VEVENT
BEGIN:VEVENT
DTSTART;TZID=Europe/Berlin:20290123T083000
DTEND;TZID=Europe/Berlin:20290123T093000
DTSTAMP:20260419T202856
CREATED:20241128T020609Z
LAST-MODIFIED:20241228T174326Z
UID:10007413-1863851400-1863855000@wannseekalender.de
SUMMARY:Heilige Messe
DESCRIPTION:Anschließend gemeinsames Frühstück.
URL:https://wannseekalender.de/event/heilige-messe-2/2029-01-23/
LOCATION:Katholisches Gemeindehaus St. Michael\, Hohenzollernstraße 28\, Berlin\, 14109
CATEGORIES:Gottesdienst,Kirche
ORGANIZER;CN="Katholische Pfarrei Johannes Bosco %E2%80%93 Berliner S%C3%BCdwesten":MAILTO:pfarrbuero@johannesboscoberlin.de
END:VEVENT
BEGIN:VEVENT
DTSTART;TZID=Europe/Berlin:20290130T083000
DTEND;TZID=Europe/Berlin:20290130T093000
DTSTAMP:20260419T202856
CREATED:20241128T020609Z
LAST-MODIFIED:20241228T174326Z
UID:10007414-1864456200-1864459800@wannseekalender.de
SUMMARY:Heilige Messe
DESCRIPTION:Anschließend gemeinsames Frühstück.
URL:https://wannseekalender.de/event/heilige-messe-2/2029-01-30/
LOCATION:Katholisches Gemeindehaus St. Michael\, Hohenzollernstraße 28\, Berlin\, 14109
CATEGORIES:Gottesdienst,Kirche
ORGANIZER;CN="Katholische Pfarrei Johannes Bosco %E2%80%93 Berliner S%C3%BCdwesten":MAILTO:pfarrbuero@johannesboscoberlin.de
END:VEVENT
BEGIN:VEVENT
DTSTART;TZID=Europe/Berlin:20290206T083000
DTEND;TZID=Europe/Berlin:20290206T093000
DTSTAMP:20260419T202856
CREATED:20241128T020609Z
LAST-MODIFIED:20241228T174326Z
UID:10007415-1865061000-1865064600@wannseekalender.de
SUMMARY:Heilige Messe
DESCRIPTION:Anschließend gemeinsames Frühstück.
URL:https://wannseekalender.de/event/heilige-messe-2/2029-02-06/
LOCATION:Katholisches Gemeindehaus St. Michael\, Hohenzollernstraße 28\, Berlin\, 14109
CATEGORIES:Gottesdienst,Kirche
ORGANIZER;CN="Katholische Pfarrei Johannes Bosco %E2%80%93 Berliner S%C3%BCdwesten":MAILTO:pfarrbuero@johannesboscoberlin.de
END:VEVENT
BEGIN:VEVENT
DTSTART;TZID=Europe/Berlin:20290213T083000
DTEND;TZID=Europe/Berlin:20290213T093000
DTSTAMP:20260419T202856
CREATED:20241128T020609Z
LAST-MODIFIED:20241228T174326Z
UID:10007416-1865665800-1865669400@wannseekalender.de
SUMMARY:Heilige Messe
DESCRIPTION:Anschließend gemeinsames Frühstück.
URL:https://wannseekalender.de/event/heilige-messe-2/2029-02-13/
LOCATION:Katholisches Gemeindehaus St. Michael\, Hohenzollernstraße 28\, Berlin\, 14109
CATEGORIES:Gottesdienst,Kirche
ORGANIZER;CN="Katholische Pfarrei Johannes Bosco %E2%80%93 Berliner S%C3%BCdwesten":MAILTO:pfarrbuero@johannesboscoberlin.de
END:VEVENT
BEGIN:VEVENT
DTSTART;TZID=Europe/Berlin:20290220T083000
DTEND;TZID=Europe/Berlin:20290220T093000
DTSTAMP:20260419T202856
CREATED:20241128T020609Z
LAST-MODIFIED:20241228T174326Z
UID:10007417-1866270600-1866274200@wannseekalender.de
SUMMARY:Heilige Messe
DESCRIPTION:Anschließend gemeinsames Frühstück.
URL:https://wannseekalender.de/event/heilige-messe-2/2029-02-20/
LOCATION:Katholisches Gemeindehaus St. Michael\, Hohenzollernstraße 28\, Berlin\, 14109
CATEGORIES:Gottesdienst,Kirche
ORGANIZER;CN="Katholische Pfarrei Johannes Bosco %E2%80%93 Berliner S%C3%BCdwesten":MAILTO:pfarrbuero@johannesboscoberlin.de
END:VEVENT
BEGIN:VEVENT
DTSTART;TZID=Europe/Berlin:20290227T083000
DTEND;TZID=Europe/Berlin:20290227T093000
DTSTAMP:20260419T202856
CREATED:20241128T020609Z
LAST-MODIFIED:20241228T174326Z
UID:10007418-1866875400-1866879000@wannseekalender.de
SUMMARY:Heilige Messe
DESCRIPTION:Anschließend gemeinsames Frühstück.
URL:https://wannseekalender.de/event/heilige-messe-2/2029-02-27/
LOCATION:Katholisches Gemeindehaus St. Michael\, Hohenzollernstraße 28\, Berlin\, 14109
CATEGORIES:Gottesdienst,Kirche
ORGANIZER;CN="Katholische Pfarrei Johannes Bosco %E2%80%93 Berliner S%C3%BCdwesten":MAILTO:pfarrbuero@johannesboscoberlin.de
END:VEVENT
BEGIN:VEVENT
DTSTART;TZID=Europe/Berlin:20290306T083000
DTEND;TZID=Europe/Berlin:20290306T093000
DTSTAMP:20260419T202856
CREATED:20241128T020609Z
LAST-MODIFIED:20241228T174326Z
UID:10007419-1867480200-1867483800@wannseekalender.de
SUMMARY:Heilige Messe
DESCRIPTION:Anschließend gemeinsames Frühstück.
URL:https://wannseekalender.de/event/heilige-messe-2/2029-03-06/
LOCATION:Katholisches Gemeindehaus St. Michael\, Hohenzollernstraße 28\, Berlin\, 14109
CATEGORIES:Gottesdienst,Kirche
ORGANIZER;CN="Katholische Pfarrei Johannes Bosco %E2%80%93 Berliner S%C3%BCdwesten":MAILTO:pfarrbuero@johannesboscoberlin.de
END:VEVENT
BEGIN:VEVENT
DTSTART;TZID=Europe/Berlin:20290313T083000
DTEND;TZID=Europe/Berlin:20290313T093000
DTSTAMP:20260419T202856
CREATED:20241128T020609Z
LAST-MODIFIED:20241228T174326Z
UID:10007420-1868085000-1868088600@wannseekalender.de
SUMMARY:Heilige Messe
DESCRIPTION:Anschließend gemeinsames Frühstück.
URL:https://wannseekalender.de/event/heilige-messe-2/2029-03-13/
LOCATION:Katholisches Gemeindehaus St. Michael\, Hohenzollernstraße 28\, Berlin\, 14109
CATEGORIES:Gottesdienst,Kirche
ORGANIZER;CN="Katholische Pfarrei Johannes Bosco %E2%80%93 Berliner S%C3%BCdwesten":MAILTO:pfarrbuero@johannesboscoberlin.de
END:VEVENT
BEGIN:VEVENT
DTSTART;TZID=Europe/Berlin:20290320T083000
DTEND;TZID=Europe/Berlin:20290320T093000
DTSTAMP:20260419T202856
CREATED:20241128T020609Z
LAST-MODIFIED:20241228T174326Z
UID:10007421-1868689800-1868693400@wannseekalender.de
SUMMARY:Heilige Messe
DESCRIPTION:Anschließend gemeinsames Frühstück.
URL:https://wannseekalender.de/event/heilige-messe-2/2029-03-20/
LOCATION:Katholisches Gemeindehaus St. Michael\, Hohenzollernstraße 28\, Berlin\, 14109
CATEGORIES:Gottesdienst,Kirche
ORGANIZER;CN="Katholische Pfarrei Johannes Bosco %E2%80%93 Berliner S%C3%BCdwesten":MAILTO:pfarrbuero@johannesboscoberlin.de
END:VEVENT
BEGIN:VEVENT
DTSTART;TZID=Europe/Berlin:20290327T083000
DTEND;TZID=Europe/Berlin:20290327T093000
DTSTAMP:20260419T202856
CREATED:20241128T020609Z
LAST-MODIFIED:20241228T174326Z
UID:10007422-1869294600-1869298200@wannseekalender.de
SUMMARY:Heilige Messe
DESCRIPTION:Anschließend gemeinsames Frühstück.
URL:https://wannseekalender.de/event/heilige-messe-2/2029-03-27/
LOCATION:Katholisches Gemeindehaus St. Michael\, Hohenzollernstraße 28\, Berlin\, 14109
CATEGORIES:Gottesdienst,Kirche
ORGANIZER;CN="Katholische Pfarrei Johannes Bosco %E2%80%93 Berliner S%C3%BCdwesten":MAILTO:pfarrbuero@johannesboscoberlin.de
END:VEVENT
BEGIN:VEVENT
DTSTART;TZID=Europe/Berlin:20290403T083000
DTEND;TZID=Europe/Berlin:20290403T093000
DTSTAMP:20260419T202856
CREATED:20241128T020609Z
LAST-MODIFIED:20241228T174326Z
UID:10007423-1869899400-1869903000@wannseekalender.de
SUMMARY:Heilige Messe
DESCRIPTION:Anschließend gemeinsames Frühstück.
URL:https://wannseekalender.de/event/heilige-messe-2/2029-04-03/
LOCATION:Katholisches Gemeindehaus St. Michael\, Hohenzollernstraße 28\, Berlin\, 14109
CATEGORIES:Gottesdienst,Kirche
ORGANIZER;CN="Katholische Pfarrei Johannes Bosco %E2%80%93 Berliner S%C3%BCdwesten":MAILTO:pfarrbuero@johannesboscoberlin.de
END:VEVENT
BEGIN:VEVENT
DTSTART;TZID=Europe/Berlin:20290410T083000
DTEND;TZID=Europe/Berlin:20290410T093000
DTSTAMP:20260419T202856
CREATED:20241128T020609Z
LAST-MODIFIED:20241228T174326Z
UID:10007424-1870504200-1870507800@wannseekalender.de
SUMMARY:Heilige Messe
DESCRIPTION:Anschließend gemeinsames Frühstück.
URL:https://wannseekalender.de/event/heilige-messe-2/2029-04-10/
LOCATION:Katholisches Gemeindehaus St. Michael\, Hohenzollernstraße 28\, Berlin\, 14109
CATEGORIES:Gottesdienst,Kirche
ORGANIZER;CN="Katholische Pfarrei Johannes Bosco %E2%80%93 Berliner S%C3%BCdwesten":MAILTO:pfarrbuero@johannesboscoberlin.de
END:VEVENT
BEGIN:VEVENT
DTSTART;TZID=Europe/Berlin:20290417T083000
DTEND;TZID=Europe/Berlin:20290417T093000
DTSTAMP:20260419T202856
CREATED:20241128T020609Z
LAST-MODIFIED:20241228T174326Z
UID:10007425-1871109000-1871112600@wannseekalender.de
SUMMARY:Heilige Messe
DESCRIPTION:Anschließend gemeinsames Frühstück.
URL:https://wannseekalender.de/event/heilige-messe-2/2029-04-17/
LOCATION:Katholisches Gemeindehaus St. Michael\, Hohenzollernstraße 28\, Berlin\, 14109
CATEGORIES:Gottesdienst,Kirche
ORGANIZER;CN="Katholische Pfarrei Johannes Bosco %E2%80%93 Berliner S%C3%BCdwesten":MAILTO:pfarrbuero@johannesboscoberlin.de
END:VEVENT
BEGIN:VEVENT
DTSTART;TZID=Europe/Berlin:20290424T083000
DTEND;TZID=Europe/Berlin:20290424T093000
DTSTAMP:20260419T202856
CREATED:20241128T020609Z
LAST-MODIFIED:20241228T174326Z
UID:10007426-1871713800-1871717400@wannseekalender.de
SUMMARY:Heilige Messe
DESCRIPTION:Anschließend gemeinsames Frühstück.
URL:https://wannseekalender.de/event/heilige-messe-2/2029-04-24/
LOCATION:Katholisches Gemeindehaus St. Michael\, Hohenzollernstraße 28\, Berlin\, 14109
CATEGORIES:Gottesdienst,Kirche
ORGANIZER;CN="Katholische Pfarrei Johannes Bosco %E2%80%93 Berliner S%C3%BCdwesten":MAILTO:pfarrbuero@johannesboscoberlin.de
END:VEVENT
BEGIN:VEVENT
DTSTART;TZID=Europe/Berlin:20290501T083000
DTEND;TZID=Europe/Berlin:20290501T093000
DTSTAMP:20260419T202856
CREATED:20241128T020609Z
LAST-MODIFIED:20241228T174326Z
UID:10007427-1872318600-1872322200@wannseekalender.de
SUMMARY:Heilige Messe
DESCRIPTION:Anschließend gemeinsames Frühstück.
URL:https://wannseekalender.de/event/heilige-messe-2/2029-05-01/
LOCATION:Katholisches Gemeindehaus St. Michael\, Hohenzollernstraße 28\, Berlin\, 14109
CATEGORIES:Gottesdienst,Kirche
ORGANIZER;CN="Katholische Pfarrei Johannes Bosco %E2%80%93 Berliner S%C3%BCdwesten":MAILTO:pfarrbuero@johannesboscoberlin.de
END:VEVENT
BEGIN:VEVENT
DTSTART;TZID=Europe/Berlin:20290508T083000
DTEND;TZID=Europe/Berlin:20290508T093000
DTSTAMP:20260419T202856
CREATED:20241128T020609Z
LAST-MODIFIED:20241228T174326Z
UID:10007428-1872923400-1872927000@wannseekalender.de
SUMMARY:Heilige Messe
DESCRIPTION:Anschließend gemeinsames Frühstück.
URL:https://wannseekalender.de/event/heilige-messe-2/2029-05-08/
LOCATION:Katholisches Gemeindehaus St. Michael\, Hohenzollernstraße 28\, Berlin\, 14109
CATEGORIES:Gottesdienst,Kirche
ORGANIZER;CN="Katholische Pfarrei Johannes Bosco %E2%80%93 Berliner S%C3%BCdwesten":MAILTO:pfarrbuero@johannesboscoberlin.de
END:VEVENT
BEGIN:VEVENT
DTSTART;TZID=Europe/Berlin:20290515T083000
DTEND;TZID=Europe/Berlin:20290515T093000
DTSTAMP:20260419T202856
CREATED:20241128T020609Z
LAST-MODIFIED:20241228T174326Z
UID:10007429-1873528200-1873531800@wannseekalender.de
SUMMARY:Heilige Messe
DESCRIPTION:Anschließend gemeinsames Frühstück.
URL:https://wannseekalender.de/event/heilige-messe-2/2029-05-15/
LOCATION:Katholisches Gemeindehaus St. Michael\, Hohenzollernstraße 28\, Berlin\, 14109
CATEGORIES:Gottesdienst,Kirche
ORGANIZER;CN="Katholische Pfarrei Johannes Bosco %E2%80%93 Berliner S%C3%BCdwesten":MAILTO:pfarrbuero@johannesboscoberlin.de
END:VEVENT
BEGIN:VEVENT
DTSTART;TZID=Europe/Berlin:20290522T083000
DTEND;TZID=Europe/Berlin:20290522T093000
DTSTAMP:20260419T202856
CREATED:20241128T020609Z
LAST-MODIFIED:20241228T174326Z
UID:10007430-1874133000-1874136600@wannseekalender.de
SUMMARY:Heilige Messe
DESCRIPTION:Anschließend gemeinsames Frühstück.
URL:https://wannseekalender.de/event/heilige-messe-2/2029-05-22/
LOCATION:Katholisches Gemeindehaus St. Michael\, Hohenzollernstraße 28\, Berlin\, 14109
CATEGORIES:Gottesdienst,Kirche
ORGANIZER;CN="Katholische Pfarrei Johannes Bosco %E2%80%93 Berliner S%C3%BCdwesten":MAILTO:pfarrbuero@johannesboscoberlin.de
END:VEVENT
BEGIN:VEVENT
DTSTART;TZID=Europe/Berlin:20290529T083000
DTEND;TZID=Europe/Berlin:20290529T093000
DTSTAMP:20260419T202856
CREATED:20241128T020609Z
LAST-MODIFIED:20241228T174326Z
UID:10007431-1874737800-1874741400@wannseekalender.de
SUMMARY:Heilige Messe
DESCRIPTION:Anschließend gemeinsames Frühstück.
URL:https://wannseekalender.de/event/heilige-messe-2/2029-05-29/
LOCATION:Katholisches Gemeindehaus St. Michael\, Hohenzollernstraße 28\, Berlin\, 14109
CATEGORIES:Gottesdienst,Kirche
ORGANIZER;CN="Katholische Pfarrei Johannes Bosco %E2%80%93 Berliner S%C3%BCdwesten":MAILTO:pfarrbuero@johannesboscoberlin.de
END:VEVENT
BEGIN:VEVENT
DTSTART;TZID=Europe/Berlin:20290605T083000
DTEND;TZID=Europe/Berlin:20290605T093000
DTSTAMP:20260419T202856
CREATED:20241128T020609Z
LAST-MODIFIED:20241228T174326Z
UID:10007432-1875342600-1875346200@wannseekalender.de
SUMMARY:Heilige Messe
DESCRIPTION:Anschließend gemeinsames Frühstück.
URL:https://wannseekalender.de/event/heilige-messe-2/2029-06-05/
LOCATION:Katholisches Gemeindehaus St. Michael\, Hohenzollernstraße 28\, Berlin\, 14109
CATEGORIES:Gottesdienst,Kirche
ORGANIZER;CN="Katholische Pfarrei Johannes Bosco %E2%80%93 Berliner S%C3%BCdwesten":MAILTO:pfarrbuero@johannesboscoberlin.de
END:VEVENT
BEGIN:VEVENT
DTSTART;TZID=Europe/Berlin:20290612T083000
DTEND;TZID=Europe/Berlin:20290612T093000
DTSTAMP:20260419T202856
CREATED:20241128T020609Z
LAST-MODIFIED:20241228T174326Z
UID:10007433-1875947400-1875951000@wannseekalender.de
SUMMARY:Heilige Messe
DESCRIPTION:Anschließend gemeinsames Frühstück.
URL:https://wannseekalender.de/event/heilige-messe-2/2029-06-12/
LOCATION:Katholisches Gemeindehaus St. Michael\, Hohenzollernstraße 28\, Berlin\, 14109
CATEGORIES:Gottesdienst,Kirche
ORGANIZER;CN="Katholische Pfarrei Johannes Bosco %E2%80%93 Berliner S%C3%BCdwesten":MAILTO:pfarrbuero@johannesboscoberlin.de
END:VEVENT
END:VCALENDAR