BEGIN:VCALENDAR
VERSION:2.0
PRODID:-//Wannsee Kalender - ECPv6.15.20//NONSGML v1.0//EN
CALSCALE:GREGORIAN
METHOD:PUBLISH
X-WR-CALNAME:Wannsee Kalender
X-ORIGINAL-URL:https://wannseekalender.de
X-WR-CALDESC:Veranstaltungen für Wannsee Kalender
REFRESH-INTERVAL;VALUE=DURATION:PT1H
X-Robots-Tag:noindex
X-PUBLISHED-TTL:PT1H
BEGIN:VTIMEZONE
TZID:Europe/Berlin
BEGIN:DAYLIGHT
TZOFFSETFROM:+0100
TZOFFSETTO:+0200
TZNAME:CEST
DTSTART:20260329T010000
END:DAYLIGHT
BEGIN:STANDARD
TZOFFSETFROM:+0200
TZOFFSETTO:+0100
TZNAME:CET
DTSTART:20261025T010000
END:STANDARD
BEGIN:DAYLIGHT
TZOFFSETFROM:+0100
TZOFFSETTO:+0200
TZNAME:CEST
DTSTART:20270328T010000
END:DAYLIGHT
BEGIN:STANDARD
TZOFFSETFROM:+0200
TZOFFSETTO:+0100
TZNAME:CET
DTSTART:20271031T010000
END:STANDARD
BEGIN:DAYLIGHT
TZOFFSETFROM:+0100
TZOFFSETTO:+0200
TZNAME:CEST
DTSTART:20280326T010000
END:DAYLIGHT
BEGIN:STANDARD
TZOFFSETFROM:+0200
TZOFFSETTO:+0100
TZNAME:CET
DTSTART:20281029T010000
END:STANDARD
END:VTIMEZONE
BEGIN:VEVENT
DTSTART;TZID=Europe/Berlin:20270903T173000
DTEND;TZID=Europe/Berlin:20270903T200000
DTSTAMP:20260425T160144
CREATED:20250925T172225Z
LAST-MODIFIED:20250925T172225Z
UID:10028510-1819992600-1820001600@wannseekalender.de
SUMMARY:Malen - Workshop
DESCRIPTION:Ein intuitiver Mal-Workshop für alle und auch Eltern mit Kindern ab 5 Jahren\, Teenies oder erwachsene Kinder\, die gemeinsam abschalten\, klecksen und lachen wollen. \nJede*r malt frei nach Lust und Laune. \nWANN? \nDonnerstags ab 16 Uhr \nFreitags ab 17.30 Uhr \nSamstags ab 11.00 Uhr \nDauer: ca. 2 Stunden \nGerne auch individuelle Termine \nKONTAKT \nM 0160 3625262 | wirzkathrin@gmail.com \nwww.intuarts.com
URL:https://wannseekalender.de/event/malen-workshop-5/2027-09-03/
LOCATION:Atelier Kathrin Wirz\, Königsweg 309\, Berlin\, Berlin\, 14109
CATEGORIES:Familie,Kinder,Workshop
ORGANIZER;CN="Kathrin Wirz - intuarts":MAILTO:kathrin_wirz@yahoo.de
END:VEVENT
BEGIN:VEVENT
DTSTART;TZID=Europe/Berlin:20270910T173000
DTEND;TZID=Europe/Berlin:20270910T200000
DTSTAMP:20260425T160144
CREATED:20250925T172225Z
LAST-MODIFIED:20250925T172225Z
UID:10028511-1820597400-1820606400@wannseekalender.de
SUMMARY:Malen - Workshop
DESCRIPTION:Ein intuitiver Mal-Workshop für alle und auch Eltern mit Kindern ab 5 Jahren\, Teenies oder erwachsene Kinder\, die gemeinsam abschalten\, klecksen und lachen wollen. \nJede*r malt frei nach Lust und Laune. \nWANN? \nDonnerstags ab 16 Uhr \nFreitags ab 17.30 Uhr \nSamstags ab 11.00 Uhr \nDauer: ca. 2 Stunden \nGerne auch individuelle Termine \nKONTAKT \nM 0160 3625262 | wirzkathrin@gmail.com \nwww.intuarts.com
URL:https://wannseekalender.de/event/malen-workshop-5/2027-09-10/
LOCATION:Atelier Kathrin Wirz\, Königsweg 309\, Berlin\, Berlin\, 14109
CATEGORIES:Familie,Kinder,Workshop
ORGANIZER;CN="Kathrin Wirz - intuarts":MAILTO:kathrin_wirz@yahoo.de
END:VEVENT
BEGIN:VEVENT
DTSTART;TZID=Europe/Berlin:20270917T173000
DTEND;TZID=Europe/Berlin:20270917T200000
DTSTAMP:20260425T160144
CREATED:20250925T172225Z
LAST-MODIFIED:20250925T172225Z
UID:10028512-1821202200-1821211200@wannseekalender.de
SUMMARY:Malen - Workshop
DESCRIPTION:Ein intuitiver Mal-Workshop für alle und auch Eltern mit Kindern ab 5 Jahren\, Teenies oder erwachsene Kinder\, die gemeinsam abschalten\, klecksen und lachen wollen. \nJede*r malt frei nach Lust und Laune. \nWANN? \nDonnerstags ab 16 Uhr \nFreitags ab 17.30 Uhr \nSamstags ab 11.00 Uhr \nDauer: ca. 2 Stunden \nGerne auch individuelle Termine \nKONTAKT \nM 0160 3625262 | wirzkathrin@gmail.com \nwww.intuarts.com
URL:https://wannseekalender.de/event/malen-workshop-5/2027-09-17/
LOCATION:Atelier Kathrin Wirz\, Königsweg 309\, Berlin\, Berlin\, 14109
CATEGORIES:Familie,Kinder,Workshop
ORGANIZER;CN="Kathrin Wirz - intuarts":MAILTO:kathrin_wirz@yahoo.de
END:VEVENT
BEGIN:VEVENT
DTSTART;TZID=Europe/Berlin:20270924T173000
DTEND;TZID=Europe/Berlin:20270924T200000
DTSTAMP:20260425T160144
CREATED:20250925T172225Z
LAST-MODIFIED:20250925T172225Z
UID:10028513-1821807000-1821816000@wannseekalender.de
SUMMARY:Malen - Workshop
DESCRIPTION:Ein intuitiver Mal-Workshop für alle und auch Eltern mit Kindern ab 5 Jahren\, Teenies oder erwachsene Kinder\, die gemeinsam abschalten\, klecksen und lachen wollen. \nJede*r malt frei nach Lust und Laune. \nWANN? \nDonnerstags ab 16 Uhr \nFreitags ab 17.30 Uhr \nSamstags ab 11.00 Uhr \nDauer: ca. 2 Stunden \nGerne auch individuelle Termine \nKONTAKT \nM 0160 3625262 | wirzkathrin@gmail.com \nwww.intuarts.com
URL:https://wannseekalender.de/event/malen-workshop-5/2027-09-24/
LOCATION:Atelier Kathrin Wirz\, Königsweg 309\, Berlin\, Berlin\, 14109
CATEGORIES:Familie,Kinder,Workshop
ORGANIZER;CN="Kathrin Wirz - intuarts":MAILTO:kathrin_wirz@yahoo.de
END:VEVENT
END:VCALENDAR