BEGIN:VCALENDAR
VERSION:2.0
PRODID:-//Wannsee Kalender - ECPv6.15.20//NONSGML v1.0//EN
CALSCALE:GREGORIAN
METHOD:PUBLISH
X-ORIGINAL-URL:https://wannseekalender.de
X-WR-CALDESC:Veranstaltungen für Wannsee Kalender
REFRESH-INTERVAL;VALUE=DURATION:PT1H
X-Robots-Tag:noindex
X-PUBLISHED-TTL:PT1H
BEGIN:VTIMEZONE
TZID:Europe/Berlin
BEGIN:DAYLIGHT
TZOFFSETFROM:+0100
TZOFFSETTO:+0200
TZNAME:CEST
DTSTART:20260329T010000
END:DAYLIGHT
BEGIN:STANDARD
TZOFFSETFROM:+0200
TZOFFSETTO:+0100
TZNAME:CET
DTSTART:20261025T010000
END:STANDARD
BEGIN:DAYLIGHT
TZOFFSETFROM:+0100
TZOFFSETTO:+0200
TZNAME:CEST
DTSTART:20270328T010000
END:DAYLIGHT
BEGIN:STANDARD
TZOFFSETFROM:+0200
TZOFFSETTO:+0100
TZNAME:CET
DTSTART:20271031T010000
END:STANDARD
BEGIN:DAYLIGHT
TZOFFSETFROM:+0100
TZOFFSETTO:+0200
TZNAME:CEST
DTSTART:20280326T010000
END:DAYLIGHT
BEGIN:STANDARD
TZOFFSETFROM:+0200
TZOFFSETTO:+0100
TZNAME:CET
DTSTART:20281029T010000
END:STANDARD
END:VTIMEZONE
BEGIN:VEVENT
DTSTART;TZID=Europe/Berlin:20270430T140000
DTEND;TZID=Europe/Berlin:20270430T150000
DTSTAMP:20260423T161240
CREATED:20251211T231722Z
LAST-MODIFIED:20251211T231742Z
UID:10031890-1809093600-1809097200@wannseekalender.de
SUMMARY:Fachvortrag: Osteoporose
DESCRIPTION:Die Fachvorträge „Osteoporose – Therapie“ und „Osteoporose – Definition und Diagnostik“ und  finden abwechselnd Freitags von 14.00 bis 15.00 Uhr im Konferenzraum der Funktionsdiagnostik auf der Ebene 0 des Immanuel Krankenhauses Berlin statt.
URL:https://wannseekalender.de/event/osteoporose/2027-04-30/
LOCATION:Immanuel Krankenhaus Berlin\, Ebene 0\, Königstraße 63\, Berlin\, 14109
CATEGORIES:Bildung,Gesundheit & Wellness,Vortrag
ORGANIZER;CN="Immanuel Krankenhaus Berlin":MAILTO:berlin@immanuel.de
END:VEVENT
BEGIN:VEVENT
DTSTART;TZID=Europe/Berlin:20270430T140000
DTEND;TZID=Europe/Berlin:20270430T170000
DTSTAMP:20260423T161240
CREATED:20241126T082012Z
LAST-MODIFIED:20250411T203610Z
UID:10004327-1809093600-1809104400@wannseekalender.de
SUMMARY:Fahrbibliothek Wilhelmplatz
DESCRIPTION:Weitere Informationen: https://www.berlin.de/stadtbibliothek-steglitz-zehlendorf/bibliotheken/fahrbibliothek/haltestellen/artikel.1224872.php
URL:https://wannseekalender.de/event/fahrbibliothek-2/2027-04-30/
LOCATION:Wilhelmplatz\, Wilhelmplatz\, Berlin\, Berlin\, 14109\, Germany
CATEGORIES:Community
ATTACH;FMTTYPE=image/png:https://wannseekalender.de/wp-content/uploads/2024/11/AB1811E7-B5F0-40B5-93FC-09C24660164F.png
ORGANIZER;CN="Fahrbibliothek":MAILTO:fahrbibliothek@ba-sz.berlin.de
END:VEVENT
BEGIN:VEVENT
DTSTART;TZID=Europe/Berlin:20270430T140000
DTEND;TZID=Europe/Berlin:20270430T170000
DTSTAMP:20260423T161240
CREATED:20241126T082027Z
LAST-MODIFIED:20250103T091314Z
UID:10004589-1809093600-1809104400@wannseekalender.de
SUMMARY:Handy & Computer/Laptop mit Tim
DESCRIPTION:Wöchentliche Beratung zur Nutzung von Handy & Computer. Weitere Informationen: https://www.treffpunkt-im-besten-alter.de/wannsee/
URL:https://wannseekalender.de/event/handy-computer-laptop-mit-tim/2027-04-30/
LOCATION:Treffpunkt Im besten Alter\, Königstraße 25-27\, Berlin\, 14109\, Germany
CATEGORIES:Community
ORGANIZER;CN="Treffpunkt Im besten Alter":MAILTO:treffpunkt.wannsee@gmx.de
END:VEVENT
BEGIN:VEVENT
DTSTART;TZID=Europe/Berlin:20270430T140000
DTEND;TZID=Europe/Berlin:20270430T180000
DTSTAMP:20260423T161240
CREATED:20241126T082010Z
LAST-MODIFIED:20250915T112753Z
UID:10004851-1809093600-1809108000@wannseekalender.de
SUMMARY:Dorfmarkt Wannsee
DESCRIPTION:Unser Wochenmarkt erwartet Sie jeden Freitag von 14.00-18.00 Uhr mit dem kombinierten Angebot von regional angebauten Lebensmitteln und Spezialitäten wie dem Potsdamer Traditionsmetzger mit dem hochwertigen Neuland-Fleisch\, vielfältige Kartoffelsorten aus unseren Landen\, knackiges Obst und Gemüse\, ein Käse- Eldorado\, frischen Fisch und Meeresfrüchte und Wildspezialitäten aus der Schorfheide zu bieten- also alles\, was das Herz begehrt.
URL:https://wannseekalender.de/event/dorfmarkt-wannsee/2027-04-30/
LOCATION:Wilhelmplatz\, Wilhelmplatz\, Berlin\, Berlin\, 14109\, Germany
CATEGORIES:Community,Märkte
ATTACH;FMTTYPE=image/jpeg:https://wannseekalender.de/wp-content/uploads/2024/11/WAN-2020-06-08-Atmo-Baum-gut-nf-an-ha.jpg
ORGANIZER;CN="diemarktplaner":MAILTO:info@diemarktplaner.de
END:VEVENT
BEGIN:VEVENT
DTSTART;TZID=Europe/Berlin:20270430T150000
DTEND;TZID=Europe/Berlin:20270430T170000
DTSTAMP:20260423T161240
CREATED:20250612T161853Z
LAST-MODIFIED:20250729T151943Z
UID:10025349-1809097200-1809104400@wannseekalender.de
SUMMARY:Wohlfühlort Wannsee (WoW)
DESCRIPTION:Angebote für jung und alt rund um das alte Schulhaus und die Stölpchenseekirche. \n\nDurchatmen\, Quatschen & Kennenlernen\nKaffee/Tee & kalte Getränke\nSpiel\, Spaß & andere Highlights für Kids\n\nEin Team aus Ehrenamtlichen bietet Kaffee/Tee\, kalte Getränke für Kinder und Mini-Snacks gegen eine Spende an. Köstlichkeiten zum Verzehr vom Markt dürfen ausdrücklich und gern mitgebracht werden\, da uns der Markt am Herzen liegt.\n• Spielangebote für Kinder: \nDie Kinder können sich in einem sicheren Umfeld bewegen\, es stehen Spiele für drinnen und draußen bereit.  (Die Eltern werden gebeten\, ein Auge auf ihre Kinder zu haben). \n• Anlaufstelle für Erwachsene: \nDer „Wohlfühlort“ soll auch Raum für Gespräche bieten\, in denen sich Erwachsene gegenseitig unterstützen können – sei es durch konkrete Hilfe bei alltäglichen Problemen oder durch seelsorgerische Begleitung. \n• Ein Ort des respektvollen Austauschs: \nAlle Besucher*innen können ihre Gedanken und Anliegen äußern ohne Angst vor Vorurteilen oder Ablehnung. Der „Wohlfühlort“ soll ein Raum sein\, der sowohl den Glauben als auch den respektvollen Dialog über verschiedene Themen fördert.
URL:https://wannseekalender.de/event/wohlfuehlort-2/2027-04-30/
LOCATION:Kirche am Stölpchensee\, Wilhelmplatz\, Berlin\, 14109\, Germany
CATEGORIES:Community,Familie,Kinder,Märkte
ATTACH;FMTTYPE=image/jpeg:https://wannseekalender.de/wp-content/uploads/2025/06/IMG_7459.jpeg
ORGANIZER;CN="K%C3%BCsterei Evangelische Kirchengemeinde Wannsee":MAILTO:kuesterei@kirchengemeinde-wannsee.de
END:VEVENT
BEGIN:VEVENT
DTSTART;TZID=Europe/Berlin:20270430T150000
DTEND;TZID=Europe/Berlin:20270430T170000
DTSTAMP:20260423T161240
CREATED:20251008T112304Z
LAST-MODIFIED:20251016T053531Z
UID:10029344-1809097200-1809104400@wannseekalender.de
SUMMARY:Skatrunde
DESCRIPTION:Mit Friedrich Mehl \n 
URL:https://wannseekalender.de/event/skatrunde/2027-04-30/
LOCATION:Evangelisches Gemeindehaus\, Schuchardtweg 5\, Berlin\, 14109\, Germany
CATEGORIES:Community,Kirche,Senioren
ORGANIZER;CN="K%C3%BCsterei Evangelische Kirchengemeinde Wannsee":MAILTO:kuesterei@kirchengemeinde-wannsee.de
END:VEVENT
BEGIN:VEVENT
DTSTART;TZID=Europe/Berlin:20270430T170000
DTEND;TZID=Europe/Berlin:20270430T180000
DTSTAMP:20260423T161240
CREATED:20241126T082029Z
LAST-MODIFIED:20250103T091836Z
UID:10005113-1809104400-1809108000@wannseekalender.de
SUMMARY:Linedance mit Ute
DESCRIPTION:Wöchentliches Linedance. Weitere Informationen: https://www.treffpunkt-im-besten-alter.de/wannsee/
URL:https://wannseekalender.de/event/linedance-mit-ute/2027-04-30/
LOCATION:Treffpunkt Im besten Alter\, Königstraße 25-27\, Berlin\, 14109\, Germany
CATEGORIES:Sport
ORGANIZER;CN="Treffpunkt Im besten Alter":MAILTO:treffpunkt.wannsee@gmx.de
END:VEVENT
BEGIN:VEVENT
DTSTART;TZID=Europe/Berlin:20270430T173000
DTEND;TZID=Europe/Berlin:20270430T183000
DTSTAMP:20260423T161240
CREATED:20251211T231310Z
LAST-MODIFIED:20251231T130557Z
UID:10031632-1809106200-1809109800@wannseekalender.de
SUMMARY:Raum für Atem
DESCRIPTION:Die Abteilung Naturheilkunde lädt Sie herzlich zur Veranstaltung „Raum für Atem“ ein\, die von Ayurveda-Manualtherapeutin Vanessa Rose geleitet wird. \nEines der lebenswichtigsten Dinge in unserem Leben\, den wir als so normal erachten\, ist der Atem. Mit Atemübungen\, Summen\, Tönen und Gesang können wir uns den Atem wieder bewusst machen. Welchen Einfluss hat er auf unseren Körper und Geist? Wie kann er uns zur Ruhe bringen? Das wird Kursleiterin Vanessa Rose gemeinsam mit Ihnen in dem Kurs erfahren. \nDieses Angebot ist kostenfrei. Eine Anmeldung ist nicht notwendig.
URL:https://wannseekalender.de/event/raum-fuer-atem-4/2027-04-30/
LOCATION:Loggia im Immanuel Park\, Am Kleinen Wannsee 5 D\, Berlin\, 14109\, Germany
CATEGORIES:Bildung,Gesundheit & Wellness,Vortrag
ORGANIZER;CN="Immanuel Krankenhaus Berlin":MAILTO:berlin@immanuel.de
END:VEVENT
BEGIN:VEVENT
DTSTART;TZID=Europe/Berlin:20270430T173000
DTEND;TZID=Europe/Berlin:20270430T200000
DTSTAMP:20260423T161240
CREATED:20250925T172225Z
LAST-MODIFIED:20250925T172225Z
UID:10028492-1809106200-1809115200@wannseekalender.de
SUMMARY:Malen - Workshop
DESCRIPTION:Ein intuitiver Mal-Workshop für alle und auch Eltern mit Kindern ab 5 Jahren\, Teenies oder erwachsene Kinder\, die gemeinsam abschalten\, klecksen und lachen wollen. \nJede*r malt frei nach Lust und Laune. \nWANN? \nDonnerstags ab 16 Uhr \nFreitags ab 17.30 Uhr \nSamstags ab 11.00 Uhr \nDauer: ca. 2 Stunden \nGerne auch individuelle Termine \nKONTAKT \nM 0160 3625262 | wirzkathrin@gmail.com \nwww.intuarts.com
URL:https://wannseekalender.de/event/malen-workshop-5/2027-04-30/
LOCATION:Atelier Kathrin Wirz\, Königsweg 309\, Berlin\, Berlin\, 14109
CATEGORIES:Familie,Kinder,Workshop
ORGANIZER;CN="Kathrin Wirz - intuarts":MAILTO:kathrin_wirz@yahoo.de
END:VEVENT
BEGIN:VEVENT
DTSTART;TZID=Europe/Berlin:20270430T180000
DTEND;TZID=Europe/Berlin:20270430T210000
DTSTAMP:20260423T161240
CREATED:20250329T214223Z
LAST-MODIFIED:20250329T214309Z
UID:10020464-1809108000-1809118800@wannseekalender.de
SUMMARY:Offene Jugendarbeit
DESCRIPTION:
URL:https://wannseekalender.de/event/offene-jugendarbeit/2027-04-30/
LOCATION:Evangelisches Gemeindehaus\, Schuchardtweg 5\, Berlin\, 14109\, Germany
CATEGORIES:Community,Familie,Kinder
END:VEVENT
BEGIN:VEVENT
DTSTART;TZID=Europe/Berlin:20270430T181500
DTEND;TZID=Europe/Berlin:20270430T211500
DTSTAMP:20260423T161240
CREATED:20260409T194721Z
LAST-MODIFIED:20260409T194721Z
UID:10016274-1809108900-1809119700@wannseekalender.de
SUMMARY:Erfülltes Tanzen in Wannsee für Paare
DESCRIPTION:Foxtrott\, Quickstep\, Walzer\, ChaCha\, Rumba\,\nSamba\, Wiener Walzer\, Discofox\, Swing\,\nSalsa\, Jive (bei Interesse auch Tango Argentino). \n18.15-19.45 Uhr Fortgeschrittene \n19.45-21.15 Uhr Einsteiger \nBitte mit Anmeldung und paarweise über Uta Bonz \nwww.utabonzamoretango.com \ntanz@amoretango.de/ \n0171 – 463 75 34 \n15 Euro pro P. und Termin
URL:https://wannseekalender.de/event/erfuelltes-tanzen-in-wannsee-fuer-paare-2/2027-04-30/
LOCATION:Evangelisches Gemeindehaus\, Schuchardtweg 5\, Berlin\, 14109\, Germany
CATEGORIES:Musik
ATTACH;FMTTYPE=image/jpeg:https://wannseekalender.de/wp-content/uploads/2025/01/IMG_5586.jpeg
ORGANIZER;CN="AMORE TANGO":MAILTO:tanz@amoretango.de
END:VEVENT
END:VCALENDAR