BEGIN:VCALENDAR
VERSION:2.0
PRODID:-//Wannsee Kalender - ECPv6.15.20//NONSGML v1.0//EN
CALSCALE:GREGORIAN
METHOD:PUBLISH
X-ORIGINAL-URL:https://wannseekalender.de
X-WR-CALDESC:Veranstaltungen für Wannsee Kalender
REFRESH-INTERVAL;VALUE=DURATION:PT1H
X-Robots-Tag:noindex
X-PUBLISHED-TTL:PT1H
BEGIN:VTIMEZONE
TZID:Europe/Berlin
BEGIN:DAYLIGHT
TZOFFSETFROM:+0100
TZOFFSETTO:+0200
TZNAME:CEST
DTSTART:20260329T010000
END:DAYLIGHT
BEGIN:STANDARD
TZOFFSETFROM:+0200
TZOFFSETTO:+0100
TZNAME:CET
DTSTART:20261025T010000
END:STANDARD
BEGIN:DAYLIGHT
TZOFFSETFROM:+0100
TZOFFSETTO:+0200
TZNAME:CEST
DTSTART:20270328T010000
END:DAYLIGHT
BEGIN:STANDARD
TZOFFSETFROM:+0200
TZOFFSETTO:+0100
TZNAME:CET
DTSTART:20271031T010000
END:STANDARD
BEGIN:DAYLIGHT
TZOFFSETFROM:+0100
TZOFFSETTO:+0200
TZNAME:CEST
DTSTART:20280326T010000
END:DAYLIGHT
BEGIN:STANDARD
TZOFFSETFROM:+0200
TZOFFSETTO:+0100
TZNAME:CET
DTSTART:20281029T010000
END:STANDARD
END:VTIMEZONE
BEGIN:VEVENT
DTSTART;VALUE=DATE:20270130
DTEND;VALUE=DATE:20270201
DTSTAMP:20260420T060703
CREATED:20241126T082013Z
LAST-MODIFIED:20250820T193053Z
UID:10001428-1801267200-1801439999@wannseekalender.de
SUMMARY:Führung: Haus der Wannsee-Konferenz
DESCRIPTION:Immer samstags und sonntags\, immer kostenfrei: Führungen durch unsere Dauerausstellung um 14 Uhr\, 15 Uhr\, 16 Uhr. \nCa. 45 Minuten\, ohne Anmeldung\, herzlich willkommen. Treffpunkt: Rezeption.
URL:https://wannseekalender.de/event/fuehrung-haus-der-wannseekonferenz/2027-01-30/
LOCATION:Haus der Wannsee-Konferenz\, Am Großen Wannsee 56-58\, Berlin\, 14109\, Germany
CATEGORIES:Bildung,Führung,Kunst & Kultur,Wissen
ORGANIZER;CN="Gedenk- und Bildungsst%C3%A4tte Haus der Wannsee-Konferenz":MAILTO:info@ghwk.de
END:VEVENT
BEGIN:VEVENT
DTSTART;TZID=Europe/Berlin:20270130T100000
DTEND;TZID=Europe/Berlin:20270130T120000
DTSTAMP:20260420T060703
CREATED:20250413T052714Z
LAST-MODIFIED:20250413T052714Z
UID:10021013-1801303200-1801310400@wannseekalender.de
SUMMARY:KidsComputerClub
DESCRIPTION:
URL:https://wannseekalender.de/event/kidscomputerclub/2027-01-30/
LOCATION:JFE Jugendfreizeiteinrichtung Wannsee\, Königstraße 42\, Berlin\, 14109\, Germany
ORGANIZER;CN="%C3%96kumenisches Willkommen Wannsee (%C3%96WW)":MAILTO:oeww@kirchengemeinde-wannsee.de
END:VEVENT
BEGIN:VEVENT
DTSTART;TZID=Europe/Berlin:20270130T120000
DTEND;TZID=Europe/Berlin:20270130T133000
DTSTAMP:20260420T060703
CREATED:20260325T202901Z
LAST-MODIFIED:20260325T202901Z
UID:10035999-1801310400-1801315800@wannseekalender.de
SUMMARY:Führung: Liebermann-Villa
DESCRIPTION:Erfahren Sie mehr über Max Liebermann\, die Liebermann-Villa am Wannsee und die aktuellen Sonderausstellungen mit unseren öffentlichen Führungen.\nTickets gibt es online und vor Ort. \nZusätzlich wird eine Eintrittskarte benötigt. Bitte treffen Sie 15 Minuten vor Führungsbeginn im Shop ein. \nBild: © sevens[+]maltry\, Potsdam
URL:https://wannseekalender.de/event/fuehrung-liebermann-villa-4/2027-01-30/
LOCATION:Liebermann-Villa\, Colomierstraße 3\, Berlin\, 14109\, Germany
CATEGORIES:Führung,Kunst & Kultur
ATTACH;FMTTYPE=image/png:https://wannseekalender.de/wp-content/uploads/2025/01/Bild.png
ORGANIZER;CN="Max-Liebermann-Gesellschaft Berlin e.V.":MAILTO:info@liebermann-villa.de
END:VEVENT
BEGIN:VEVENT
DTSTART;TZID=Europe/Berlin:20270130T150000
DTEND;TZID=Europe/Berlin:20270130T163000
DTSTAMP:20260420T060703
CREATED:20260325T202604Z
LAST-MODIFIED:20260325T202605Z
UID:10035521-1801321200-1801326600@wannseekalender.de
SUMMARY:Führung: Liebermann-Villa
DESCRIPTION:Erfahren Sie mehr über Max Liebermann\, die Liebermann-Villa am Wannsee und die aktuellen Sonderausstellungen mit unseren öffentlichen Führungen.\nTickets gibt es online und vor Ort. \nZusätzlich wird eine Eintrittskarte benötigt. Bitte treffen Sie 15 Minuten vor Führungsbeginn im Shop ein. \nBild: © sevens[+]maltry\, Potsdam
URL:https://wannseekalender.de/event/fuehrung-liebermann-villa-2-2-3/2027-01-30/
LOCATION:Liebermann-Villa\, Colomierstraße 3\, Berlin\, 14109\, Germany
CATEGORIES:Führung,Kunst & Kultur
ATTACH;FMTTYPE=image/png:https://wannseekalender.de/wp-content/uploads/2025/01/Bild.png
ORGANIZER;CN="Max-Liebermann-Gesellschaft Berlin e.V.":MAILTO:info@liebermann-villa.de
END:VEVENT
END:VCALENDAR