BEGIN:VCALENDAR
VERSION:2.0
PRODID:-//Wannsee Kalender - ECPv6.15.20//NONSGML v1.0//EN
CALSCALE:GREGORIAN
METHOD:PUBLISH
X-ORIGINAL-URL:https://wannseekalender.de
X-WR-CALDESC:Veranstaltungen für Wannsee Kalender
REFRESH-INTERVAL;VALUE=DURATION:PT1H
X-Robots-Tag:noindex
X-PUBLISHED-TTL:PT1H
BEGIN:VTIMEZONE
TZID:Europe/Berlin
BEGIN:DAYLIGHT
TZOFFSETFROM:+0100
TZOFFSETTO:+0200
TZNAME:CEST
DTSTART:20240331T010000
END:DAYLIGHT
BEGIN:STANDARD
TZOFFSETFROM:+0200
TZOFFSETTO:+0100
TZNAME:CET
DTSTART:20241027T010000
END:STANDARD
BEGIN:DAYLIGHT
TZOFFSETFROM:+0100
TZOFFSETTO:+0200
TZNAME:CEST
DTSTART:20250330T010000
END:DAYLIGHT
BEGIN:STANDARD
TZOFFSETFROM:+0200
TZOFFSETTO:+0100
TZNAME:CET
DTSTART:20251026T010000
END:STANDARD
BEGIN:DAYLIGHT
TZOFFSETFROM:+0100
TZOFFSETTO:+0200
TZNAME:CEST
DTSTART:20260329T010000
END:DAYLIGHT
BEGIN:STANDARD
TZOFFSETFROM:+0200
TZOFFSETTO:+0100
TZNAME:CET
DTSTART:20261025T010000
END:STANDARD
BEGIN:DAYLIGHT
TZOFFSETFROM:+0100
TZOFFSETTO:+0200
TZNAME:CEST
DTSTART:20270328T010000
END:DAYLIGHT
BEGIN:STANDARD
TZOFFSETFROM:+0200
TZOFFSETTO:+0100
TZNAME:CET
DTSTART:20271031T010000
END:STANDARD
BEGIN:DAYLIGHT
TZOFFSETFROM:+0100
TZOFFSETTO:+0200
TZNAME:CEST
DTSTART:20280326T010000
END:DAYLIGHT
BEGIN:STANDARD
TZOFFSETFROM:+0200
TZOFFSETTO:+0100
TZNAME:CET
DTSTART:20281029T010000
END:STANDARD
END:VTIMEZONE
BEGIN:VEVENT
DTSTART;VALUE=DATE:20250106
DTEND;VALUE=DATE:20270107
DTSTAMP:20260420T020018
CREATED:20250103T101815Z
LAST-MODIFIED:20250713T172127Z
UID:10014206-1736121600-1799279999@wannseekalender.de
SUMMARY:Angebote der JFE Wannsee
DESCRIPTION:ÖFFNUNGSZEITEN:\nMontag: 13:00 – 20:00 Uhr\nDienstag: 13:00 – 20:00 Uhr\nMittwoch: 14:00 – 20:00 Uhr (Nur Gruppenangebote)\nDonnerstag: 13:00 – 20:00 Uhr\nFreitag: 13:00 – 20:00 Uhr\nSamstag: 11:00 – 13:00 Uhr (Nur Gruppenangebote)\nSonntag: 15:00 – 18:00 Uhr\nAngebote\nTöpfern\nDienstags 14:45 – 16:15 oder 16:30 bis 18:00 mit Clara \nDonnerstags 15:00 – 16:30 oder 17:00 – 18:30 mit Ronja \nFreitags 15:00 – 16:00 oder 16:00 – 17:00 oder 17:00 -18:00 mit Sabine \nJeden 1.Samstag im Monat – Familientöpfern (Eltern/Kind Angebot)  11:00 – 13:00 mit Sabine \nMusik\nGitarre / Flöte / Geige / E-Piano \nMittwoch 14:00 – 19:00 Uhr mit Heiko (Gitarre\, Flöte) \nMittwoch 16:00 – 18:00 Uhr mit Miro (Geige) \nDonnerstag 17:00 – 19:00 Uhr mit Benny (E-Bass\, Ukulele\, E-Gitarre\, E-Piano\, Gesang\, Band-Coaching)) \nTheater\nDonnerstag 16:00 – 18:00 Uhr mit Sabina \nSport\nDienstag  16:15 – 17:15  Zirkel-Training mit Chris \nDonnerstag 15:00 – 16:30 Tischtennis mit Ingo \nSaisonbedingt (April bis Oktober) steht uns die Mehrzwecksportanlage in der Chausseestr.  Dienstags und Freitags ab 14:00 Uhr zur Verfügung. \nFreitags 15:00 – 16:30  Kicken im Kiez mit Ingo \nSchlagzeug\nMontags 14:00 – 18:00 Uhr mit Tom \nDienstags 14:00 – 17:00 Uhr mit Lars \nDonnerstags 13:00 – 17:00 Uhr mit Benny \nFreitags 14:00 – 17:00 Uhr mit Tom
URL:https://wannseekalender.de/event/angebote-der-jfe-wannsee/
LOCATION:JFE Jugendfreizeiteinrichtung Wannsee\, Königstraße 42\, Berlin\, 14109\, Germany
CATEGORIES:Jugendliche,Kinder
ORGANIZER;CN="JFE Jugendfreizeiteinrichtung Wannsee":MAILTO:jfewannsee@steglitz-zehlendorf.de
END:VEVENT
BEGIN:VEVENT
DTSTART;TZID=Europe/Berlin:20250919T140000
DTEND;TZID=Europe/Berlin:20250919T170000
DTSTAMP:20260420T020018
CREATED:20241126T082012Z
LAST-MODIFIED:20250411T203610Z
UID:10004243-1758290400-1758301200@wannseekalender.de
SUMMARY:Fahrbibliothek Wilhelmplatz
DESCRIPTION:Weitere Informationen: https://www.berlin.de/stadtbibliothek-steglitz-zehlendorf/bibliotheken/fahrbibliothek/haltestellen/artikel.1224872.php
URL:https://wannseekalender.de/event/fahrbibliothek-2/2025-09-19/
LOCATION:Wilhelmplatz\, Wilhelmplatz\, Berlin\, Berlin\, 14109\, Germany
CATEGORIES:Community
ATTACH;FMTTYPE=image/png:https://wannseekalender.de/wp-content/uploads/2024/11/AB1811E7-B5F0-40B5-93FC-09C24660164F.png
ORGANIZER;CN="Fahrbibliothek":MAILTO:fahrbibliothek@ba-sz.berlin.de
END:VEVENT
BEGIN:VEVENT
DTSTART;TZID=Europe/Berlin:20250919T140000
DTEND;TZID=Europe/Berlin:20250919T170000
DTSTAMP:20260420T020018
CREATED:20241126T082027Z
LAST-MODIFIED:20250103T091314Z
UID:10004505-1758290400-1758301200@wannseekalender.de
SUMMARY:Handy & Computer/Laptop mit Tim
DESCRIPTION:Wöchentliche Beratung zur Nutzung von Handy & Computer. Weitere Informationen: https://www.treffpunkt-im-besten-alter.de/wannsee/
URL:https://wannseekalender.de/event/handy-computer-laptop-mit-tim/2025-09-19/
LOCATION:Treffpunkt Im besten Alter\, Königstraße 25-27\, Berlin\, 14109\, Germany
CATEGORIES:Community
ORGANIZER;CN="Treffpunkt Im besten Alter":MAILTO:treffpunkt.wannsee@gmx.de
END:VEVENT
BEGIN:VEVENT
DTSTART;TZID=Europe/Berlin:20250919T140000
DTEND;TZID=Europe/Berlin:20250919T180000
DTSTAMP:20260420T020018
CREATED:20241126T082010Z
LAST-MODIFIED:20250915T112753Z
UID:10004767-1758290400-1758304800@wannseekalender.de
SUMMARY:Dorfmarkt Wannsee
DESCRIPTION:Unser Wochenmarkt erwartet Sie jeden Freitag von 14.00-18.00 Uhr mit dem kombinierten Angebot von regional angebauten Lebensmitteln und Spezialitäten wie dem Potsdamer Traditionsmetzger mit dem hochwertigen Neuland-Fleisch\, vielfältige Kartoffelsorten aus unseren Landen\, knackiges Obst und Gemüse\, ein Käse- Eldorado\, frischen Fisch und Meeresfrüchte und Wildspezialitäten aus der Schorfheide zu bieten- also alles\, was das Herz begehrt.
URL:https://wannseekalender.de/event/dorfmarkt-wannsee/2025-09-19/
LOCATION:Wilhelmplatz\, Wilhelmplatz\, Berlin\, Berlin\, 14109\, Germany
CATEGORIES:Community,Märkte
ATTACH;FMTTYPE=image/jpeg:https://wannseekalender.de/wp-content/uploads/2024/11/WAN-2020-06-08-Atmo-Baum-gut-nf-an-ha.jpg
ORGANIZER;CN="diemarktplaner":MAILTO:info@diemarktplaner.de
END:VEVENT
BEGIN:VEVENT
DTSTART;TZID=Europe/Berlin:20250919T150000
DTEND;TZID=Europe/Berlin:20250919T170000
DTSTAMP:20260420T020018
CREATED:20250612T161853Z
LAST-MODIFIED:20250729T151943Z
UID:10025265-1758294000-1758301200@wannseekalender.de
SUMMARY:Wohlfühlort Wannsee (WoW)
DESCRIPTION:Angebote für jung und alt rund um das alte Schulhaus und die Stölpchenseekirche. \n\nDurchatmen\, Quatschen & Kennenlernen\nKaffee/Tee & kalte Getränke\nSpiel\, Spaß & andere Highlights für Kids\n\nEin Team aus Ehrenamtlichen bietet Kaffee/Tee\, kalte Getränke für Kinder und Mini-Snacks gegen eine Spende an. Köstlichkeiten zum Verzehr vom Markt dürfen ausdrücklich und gern mitgebracht werden\, da uns der Markt am Herzen liegt.\n• Spielangebote für Kinder: \nDie Kinder können sich in einem sicheren Umfeld bewegen\, es stehen Spiele für drinnen und draußen bereit.  (Die Eltern werden gebeten\, ein Auge auf ihre Kinder zu haben). \n• Anlaufstelle für Erwachsene: \nDer „Wohlfühlort“ soll auch Raum für Gespräche bieten\, in denen sich Erwachsene gegenseitig unterstützen können – sei es durch konkrete Hilfe bei alltäglichen Problemen oder durch seelsorgerische Begleitung. \n• Ein Ort des respektvollen Austauschs: \nAlle Besucher*innen können ihre Gedanken und Anliegen äußern ohne Angst vor Vorurteilen oder Ablehnung. Der „Wohlfühlort“ soll ein Raum sein\, der sowohl den Glauben als auch den respektvollen Dialog über verschiedene Themen fördert.
URL:https://wannseekalender.de/event/wohlfuehlort-2/2025-09-19/
LOCATION:Kirche am Stölpchensee\, Wilhelmplatz\, Berlin\, 14109\, Germany
CATEGORIES:Community,Familie,Kinder,Märkte
ATTACH;FMTTYPE=image/jpeg:https://wannseekalender.de/wp-content/uploads/2025/06/IMG_7459.jpeg
ORGANIZER;CN="K%C3%BCsterei Evangelische Kirchengemeinde Wannsee":MAILTO:kuesterei@kirchengemeinde-wannsee.de
END:VEVENT
BEGIN:VEVENT
DTSTART;TZID=Europe/Berlin:20250919T170000
DTEND;TZID=Europe/Berlin:20250919T180000
DTSTAMP:20260420T020018
CREATED:20241126T082029Z
LAST-MODIFIED:20250103T091836Z
UID:10005029-1758301200-1758304800@wannseekalender.de
SUMMARY:Linedance mit Ute
DESCRIPTION:Wöchentliches Linedance. Weitere Informationen: https://www.treffpunkt-im-besten-alter.de/wannsee/
URL:https://wannseekalender.de/event/linedance-mit-ute/2025-09-19/
LOCATION:Treffpunkt Im besten Alter\, Königstraße 25-27\, Berlin\, 14109\, Germany
CATEGORIES:Sport
ORGANIZER;CN="Treffpunkt Im besten Alter":MAILTO:treffpunkt.wannsee@gmx.de
END:VEVENT
BEGIN:VEVENT
DTSTART;TZID=Europe/Berlin:20250919T170000
DTEND;TZID=Europe/Berlin:20250919T180000
DTSTAMP:20260420T020018
CREATED:20241126T082043Z
LAST-MODIFIED:20241220T125038Z
UID:10006623-1758301200-1758304800@wannseekalender.de
SUMMARY:Orgelvesper
DESCRIPTION:
URL:https://wannseekalender.de/event/orgelvesper/2025-09-19/
LOCATION:Kirche am Stölpchensee\, Wilhelmplatz\, Berlin\, 14109\, Germany
CATEGORIES:Community,Kirche
ORGANIZER;CN="K%C3%BCsterei Evangelische Kirchengemeinde Wannsee":MAILTO:kuesterei@kirchengemeinde-wannsee.de
END:VEVENT
BEGIN:VEVENT
DTSTART;TZID=Europe/Berlin:20250919T170000
DTEND;TZID=Europe/Berlin:20250919T235900
DTSTAMP:20260420T020018
CREATED:20250821T074740Z
LAST-MODIFIED:20250821T074741Z
UID:10027463-1758301200-1758326340@wannseekalender.de
SUMMARY:Oktoberfest am Wannsee in Berlin
DESCRIPTION:Das Oktoberfest am Wannsee in Berlin ist ein Highlight für alle\, die bayerische Traditionen mitten in der Hauptstadt erleben möchten.\nFeiern mit Seeblick – im Wintergarten. \nZieh die Lederhose an\, schnapp dir dein Dirndl es ist wieder Zeit für zünftige Stimmung am Wannsee! Heute mit Live-Musik. \n \nFreu dich auf ein einmaliges Oktoberfest.\nErlebnis mit bayrischen Spezialitäten\, frisch gezapftem Bier und echter Live-Musik – alles in unserem stilvollen Wintergarten mit traumhaftem Blick über den See.
URL:https://wannseekalender.de/event/oktoberfest-am-wannsee-in-berlin-2-2-2/
LOCATION:Loretta am Wannsee\, Kronprinzessinnenweg 253-260\, Berlin\, 14109\, Germany
CATEGORIES:Community,Konzert,Musik,Party
ORGANIZER;CN="Loretta am Wannsee":MAILTO:info@loretta-wannsee.berlin
END:VEVENT
BEGIN:VEVENT
DTSTART;TZID=Europe/Berlin:20250919T173000
DTEND;TZID=Europe/Berlin:20250919T183000
DTSTAMP:20260420T020018
CREATED:20250516T204310Z
LAST-MODIFIED:20250520T213325Z
UID:10022921-1758303000-1758306600@wannseekalender.de
SUMMARY:Raum für Atem
DESCRIPTION:Die Abteilung Naturheilkunde lädt Sie herzlich zur Veranstaltung „Raum für Atem“ ein\, die von Ayurveda-Manualtherapeutin Vanessa Rose geleitet wird. \n\n\n\n\n\nDie Abteilung Naturheilkunde lädt Sie herzlich zur Veranstaltung „Raum für Atem“ ein\, die von Ayurveda-Manualtherapeutin Vanessa Rose geleitet wird. \nEines der lebenswichtigsten Dinge in unserem Leben\, den wir als so normal erachten\, ist der Atem. Mit Atemübungen\, Summen\, Tönen und Gesang können wir uns den Atem wieder bewusst machen. Welchen Einfluss hat er auf unseren Körper und Geist? Wie kann er uns zur Ruhe bringen? Das wird Kursleiterin Vanessa Rose gemeinsam mit Ihnen in dem Kurs erfahren. \nDieses Angebot ist kostenfrei. Eine Anmeldung ist nicht notwendig.
URL:https://wannseekalender.de/event/raum-fuer-atem/2025-09-19/
LOCATION:Loggia im Immanuel Park\, Am Kleinen Wannsee 5 D\, Berlin\, 14109\, Germany
CATEGORIES:Bildung,Gesundheit
ORGANIZER;CN="Immanuel Albertinen Diakonie gGmbH":MAILTO:mail@immanuelalbertinen.de
END:VEVENT
BEGIN:VEVENT
DTSTART;TZID=Europe/Berlin:20250919T180000
DTEND;TZID=Europe/Berlin:20250919T210000
DTSTAMP:20260420T020018
CREATED:20250329T214223Z
LAST-MODIFIED:20250329T214309Z
UID:10020380-1758304800-1758315600@wannseekalender.de
SUMMARY:Offene Jugendarbeit
DESCRIPTION:
URL:https://wannseekalender.de/event/offene-jugendarbeit/2025-09-19/
LOCATION:Evangelisches Gemeindehaus\, Schuchardtweg 5\, Berlin\, 14109\, Germany
CATEGORIES:Community,Familie,Kinder
END:VEVENT
BEGIN:VEVENT
DTSTART;TZID=Europe/Berlin:20250919T181500
DTEND;TZID=Europe/Berlin:20250919T211500
DTSTAMP:20260420T020018
CREATED:20250102T205106Z
LAST-MODIFIED:20250723T103542Z
UID:10016190-1758305700-1758316500@wannseekalender.de
SUMMARY:Erfülltes Tanzen in Wannsee für Paare
DESCRIPTION:Foxtrott\, Quickstep\, Walzer\, ChaCha\, Rumba\,\nSamba\, Wiener Walzer\, Discofox\, Swing\,\nSalsa\, Jive (bei Interesse auch Tango Argentino). \n18.15-19.45 Uhr Fortgeschrittene \n19.45-21.15 Uhr Einsteiger \nBitte mit Anmeldung und paarweise über Uta Bonz \nwww.utabonzamoretango.com \ntanz@amoretango.de/ \n0171 – 463 75 34 \n15 Euro pro P. und Termin
URL:https://wannseekalender.de/event/erfuelltes-tanzen-in-wannsee-fuer-paare/2025-09-19/
LOCATION:Evangelisches Gemeindehaus\, Schuchardtweg 5\, Berlin\, 14109\, Germany
CATEGORIES:Musik
ATTACH;FMTTYPE=image/jpeg:https://wannseekalender.de/wp-content/uploads/2025/01/IMG_5586.jpeg
ORGANIZER;CN="AMORE TANGO":MAILTO:tanz@amoretango.de
END:VEVENT
BEGIN:VEVENT
DTSTART;TZID=Europe/Berlin:20250919T193000
DTEND;TZID=Europe/Berlin:20250919T210000
DTSTAMP:20260420T020018
CREATED:20250731T220344Z
LAST-MODIFIED:20250731T221110Z
UID:10027719-1758310200-1758315600@wannseekalender.de
SUMMARY:Konzert: Der Wellen Wechselspiel
DESCRIPTION:Vokalconsort des Berliner Mädchenchores \nJustine Eckhaut – Klavier \nThorsten Kaldewei – Klavier \nJohanna Kaldewei – Sopran \nLtg. Sabine Wüsthoff
URL:https://wannseekalender.de/event/konzert-der-wellen-wechselspiel/
LOCATION:Andreaskirche\, Lindenstraße 2\, Berlin\, 14109\, Germany
CATEGORIES:Chor,Klassik,Konzert,Kunst & Kultur,Musik
ATTACH;FMTTYPE=image/png:https://wannseekalender.de/wp-content/uploads/2025/08/Bild-1.png
ORGANIZER;CN="Musikfest Wannsee":MAILTO:musikfest.wannsee@gmail.de
END:VEVENT
END:VCALENDAR