BEGIN:VCALENDAR
VERSION:2.0
PRODID:-//Wannsee Kalender - ECPv6.15.20//NONSGML v1.0//EN
CALSCALE:GREGORIAN
METHOD:PUBLISH
X-ORIGINAL-URL:https://wannseekalender.de
X-WR-CALDESC:Veranstaltungen für Wannsee Kalender
REFRESH-INTERVAL;VALUE=DURATION:PT1H
X-Robots-Tag:noindex
X-PUBLISHED-TTL:PT1H
BEGIN:VTIMEZONE
TZID:Europe/Berlin
BEGIN:DAYLIGHT
TZOFFSETFROM:+0100
TZOFFSETTO:+0200
TZNAME:CEST
DTSTART:20240331T010000
END:DAYLIGHT
BEGIN:STANDARD
TZOFFSETFROM:+0200
TZOFFSETTO:+0100
TZNAME:CET
DTSTART:20241027T010000
END:STANDARD
BEGIN:DAYLIGHT
TZOFFSETFROM:+0100
TZOFFSETTO:+0200
TZNAME:CEST
DTSTART:20250330T010000
END:DAYLIGHT
BEGIN:STANDARD
TZOFFSETFROM:+0200
TZOFFSETTO:+0100
TZNAME:CET
DTSTART:20251026T010000
END:STANDARD
BEGIN:DAYLIGHT
TZOFFSETFROM:+0100
TZOFFSETTO:+0200
TZNAME:CEST
DTSTART:20260329T010000
END:DAYLIGHT
BEGIN:STANDARD
TZOFFSETFROM:+0200
TZOFFSETTO:+0100
TZNAME:CET
DTSTART:20261025T010000
END:STANDARD
BEGIN:DAYLIGHT
TZOFFSETFROM:+0100
TZOFFSETTO:+0200
TZNAME:CEST
DTSTART:20270328T010000
END:DAYLIGHT
BEGIN:STANDARD
TZOFFSETFROM:+0200
TZOFFSETTO:+0100
TZNAME:CET
DTSTART:20271031T010000
END:STANDARD
BEGIN:DAYLIGHT
TZOFFSETFROM:+0100
TZOFFSETTO:+0200
TZNAME:CEST
DTSTART:20280326T010000
END:DAYLIGHT
BEGIN:STANDARD
TZOFFSETFROM:+0200
TZOFFSETTO:+0100
TZNAME:CET
DTSTART:20281029T010000
END:STANDARD
END:VTIMEZONE
BEGIN:VEVENT
DTSTART;VALUE=DATE:20250106
DTEND;VALUE=DATE:20270107
DTSTAMP:20260420T191359
CREATED:20250103T101815Z
LAST-MODIFIED:20250713T172127Z
UID:10014206-1736121600-1799279999@wannseekalender.de
SUMMARY:Angebote der JFE Wannsee
DESCRIPTION:ÖFFNUNGSZEITEN:\nMontag: 13:00 – 20:00 Uhr\nDienstag: 13:00 – 20:00 Uhr\nMittwoch: 14:00 – 20:00 Uhr (Nur Gruppenangebote)\nDonnerstag: 13:00 – 20:00 Uhr\nFreitag: 13:00 – 20:00 Uhr\nSamstag: 11:00 – 13:00 Uhr (Nur Gruppenangebote)\nSonntag: 15:00 – 18:00 Uhr\nAngebote\nTöpfern\nDienstags 14:45 – 16:15 oder 16:30 bis 18:00 mit Clara \nDonnerstags 15:00 – 16:30 oder 17:00 – 18:30 mit Ronja \nFreitags 15:00 – 16:00 oder 16:00 – 17:00 oder 17:00 -18:00 mit Sabine \nJeden 1.Samstag im Monat – Familientöpfern (Eltern/Kind Angebot)  11:00 – 13:00 mit Sabine \nMusik\nGitarre / Flöte / Geige / E-Piano \nMittwoch 14:00 – 19:00 Uhr mit Heiko (Gitarre\, Flöte) \nMittwoch 16:00 – 18:00 Uhr mit Miro (Geige) \nDonnerstag 17:00 – 19:00 Uhr mit Benny (E-Bass\, Ukulele\, E-Gitarre\, E-Piano\, Gesang\, Band-Coaching)) \nTheater\nDonnerstag 16:00 – 18:00 Uhr mit Sabina \nSport\nDienstag  16:15 – 17:15  Zirkel-Training mit Chris \nDonnerstag 15:00 – 16:30 Tischtennis mit Ingo \nSaisonbedingt (April bis Oktober) steht uns die Mehrzwecksportanlage in der Chausseestr.  Dienstags und Freitags ab 14:00 Uhr zur Verfügung. \nFreitags 15:00 – 16:30  Kicken im Kiez mit Ingo \nSchlagzeug\nMontags 14:00 – 18:00 Uhr mit Tom \nDienstags 14:00 – 17:00 Uhr mit Lars \nDonnerstags 13:00 – 17:00 Uhr mit Benny \nFreitags 14:00 – 17:00 Uhr mit Tom
URL:https://wannseekalender.de/event/angebote-der-jfe-wannsee/
LOCATION:JFE Jugendfreizeiteinrichtung Wannsee\, Königstraße 42\, Berlin\, 14109\, Germany
CATEGORIES:Jugendliche,Kinder
ORGANIZER;CN="JFE Jugendfreizeiteinrichtung Wannsee":MAILTO:jfewannsee@steglitz-zehlendorf.de
END:VEVENT
BEGIN:VEVENT
DTSTART;TZID=Europe/Berlin:20250918T080000
DTEND;TZID=Europe/Berlin:20250918T090000
DTSTAMP:20260420T191359
CREATED:20250824T094028Z
LAST-MODIFIED:20250824T094028Z
UID:10028212-1758182400-1758186000@wannseekalender.de
SUMMARY:Yoga trifft Tennis
DESCRIPTION:Ab September findet im Clubhaus des TC Weiße Bären Wannsee einen Minikurs ‚Yoga trifft Tennis‘ mit Yogalehrerin und Yogatherapeutin Jill Grawert statt. \nDas Angebot richtet sich an alle\, die Lust haben\, ihren Körper bewusster zu bewegen\, Verspannungen vorzubeugen und durch gezieltes Yoga das Tennisspiel oder andere Sportarten zu unterstützen – mit mehr Stabilität\, Kraft\, Beweglichkeit und mentaler Klarheit. \nKursinfos \n\nDauer: 5 Termine zwischen Sommer- und Herbstferien (ein Termin entfällt)\nPreis für den gesamten Kurs: 105 €\nDrop-In (Einzeltermin): 25 € pro Einheit\nOrt: Clubhaus TC Weiße Bären Wannsee\nBitte mitbringen: eigene Yogamatte\n\nTermin-Option 1: Dienstags – 9:15 bis 10:15 Uhr\nKurstermine: 9.9. /16.9./ 23.9./ 30.9./ 14.10. (am 7.10. findet keine Stunde statt) \nTermin-Option 2: Donnerstags – 8:00 bis 9:00 Uhr\nKurstermine: 11.9./ 18.9./ 25.9./ 2.10./ 16.10. (am 9.10. findet keine Stunde statt) \nAnmeldung \ndirekt bei Jill per E-Mail:\njill@jillgrawert.de \nMehr Informationen über Jill und ihren Yoga-Ansatz findet ihr auf www.jillgrawert-yoga.de.\nOb ihr Mitglied im Tennisverein seid oder nicht – alle sind willkommen\, die sich etwas Gutes tun möchten.\nWir freuen uns auf euch!
URL:https://wannseekalender.de/event/yoga-trifft-tennis-6/2025-09-18/
LOCATION:Tennisclub Weiße Bären Wannsee\, Alsenstraße 17\, Berlin\, Berlin\, 14109\, Germany
CATEGORIES:Gesundheit,Sport
ATTACH;FMTTYPE=image/png:https://wannseekalender.de/wp-content/uploads/2025/06/Jill-Yoga-Wansee_002.png
ORGANIZER;CN="Jill Grawert":MAILTO:jill@jillgrawert.de
END:VEVENT
BEGIN:VEVENT
DTSTART;TZID=Europe/Berlin:20250918T100000
DTEND;TZID=Europe/Berlin:20250918T113000
DTSTAMP:20260420T191359
CREATED:20241126T082028Z
LAST-MODIFIED:20250517T081047Z
UID:10006074-1758189600-1758195000@wannseekalender.de
SUMMARY:Krabbel- & Spielgruppe von Baby bis Kleinkind
DESCRIPTION:Treffpunkt für Eltern und Babys/Kleinkinder bis ca. 2 Jahre. Freies Spielen\, soziales Miteinander und Austausch. Beitrag pro Treffen: 3 € für Nicht-Mitglieder\, 2 € für Vereinsmitglieder. Kontakt: Dominique Klawonn\, 017645845026\, kinderspielkreise@kirchengemeinde-wannsee.de
URL:https://wannseekalender.de/event/krabbel-spielgruppe-von-baby-bis-kleinkind/2025-09-18/
LOCATION:Evangelisches Gemeindehaus\, Schuchardtweg 5\, Berlin\, 14109\, Germany
CATEGORIES:Community
ORGANIZER;CN="Kinderspielkreise in der Evangelischen Kirchengemeinde Wannsee e.V.":MAILTO:kinderspielkreise@kirchengemeinde-wannsee.de
END:VEVENT
BEGIN:VEVENT
DTSTART;TZID=Europe/Berlin:20250918T113000
DTEND;TZID=Europe/Berlin:20250918T133000
DTSTAMP:20260420T191359
CREATED:20250102T204654Z
LAST-MODIFIED:20250517T081421Z
UID:10013957-1758195000-1758202200@wannseekalender.de
SUMMARY:Probetermin Gitarrenensemble
DESCRIPTION:Immer Donnerstags von 11:30 bis 13:30 Uhr treffen sich am Gitarrenspiel interessierte im Gemeindehaus. \nDie Gruppe spielt schon längere Zeit mit viel Spaß zusammen und freut sich auch immer über neue Mitspieler.
URL:https://wannseekalender.de/event/probetermin-gitarrenensemble/2025-09-18/
LOCATION:Evangelisches Gemeindehaus\, Schuchardtweg 5\, Berlin\, 14109\, Germany
ORGANIZER;CN="K%C3%BCsterei Evangelische Kirchengemeinde Wannsee":MAILTO:kuesterei@kirchengemeinde-wannsee.de
END:VEVENT
BEGIN:VEVENT
DTSTART;TZID=Europe/Berlin:20250918T130000
DTEND;TZID=Europe/Berlin:20250918T150000
DTSTAMP:20260420T191359
CREATED:20250411T192713Z
LAST-MODIFIED:20260325T204818Z
UID:10021793-1758200400-1758207600@wannseekalender.de
SUMMARY:Benefizführung durch Max Liebermanns Garten mit unserem Gärtner Sven Lieberenz
DESCRIPTION:Benefizführung durch Max Liebermanns Garten mit unserem Gärtner Sven Lieberenz \nGärtner Sven Lieberenz führt Sie durch die denkmalgeschützte Gartenanlage am Wannsee und gibt Einblicke in ihre Geschichte\, Pflege und heutige Gestaltung. Der Garten der Liebermann-Villa am Wannsee ist nicht nur ein historisches Denkmal\, sondern auch ein lebendiges Stück Gartengeschichte. Erfahren Sie\, wie der Garten nach Liebermanns Vorstellungen angelegt wurde und welche Pflanzen ihn für seine Gemälde inspirierten. Zudem erhalten Sie Einblicke in die tägliche Arbeit zur Pflege\, Erhaltung und Weiterentwicklung der historischen Gartenanlage – insbesondere vor dem Hintergrund des Klimawandels. Das Benefizticket kommt der Erhalt des Gartens zugute. \nBenefizticket pro Person\n25\,00 € (inkl. Eintritt) \nBild: © sevens[+]maltry\, Potsdam
URL:https://wannseekalender.de/event/benefizfuehrung-durch-max-liebermanns-garten-mit-unserem-gaertner-sven-lieberenz/2025-09-18/
LOCATION:Liebermann-Villa\, Colomierstraße 3\, Berlin\, 14109\, Germany
CATEGORIES:Bildung,Community,Führung,Kunst & Kultur
ATTACH;FMTTYPE=image/jpeg:https://wannseekalender.de/wp-content/uploads/2025/04/Max-Liebermann-Villa-c-sevensmaltry-3-scaled.jpg
ORGANIZER;CN="Max-Liebermann-Gesellschaft Berlin e.V.":MAILTO:info@liebermann-villa.de
END:VEVENT
BEGIN:VEVENT
DTSTART;TZID=Europe/Berlin:20250918T150000
DTEND;TZID=Europe/Berlin:20250918T191500
DTSTAMP:20260420T191359
CREATED:20250215T222803Z
LAST-MODIFIED:20250622T094447Z
UID:10016902-1758207600-1758222900@wannseekalender.de
SUMMARY:Schauspiel für Kinder und Jugendliche
DESCRIPTION:Was passiert in den Kursen?\n\n\n\n\n\n\n\n– Übungen und Spiele für eine gesunde Gruppendynamik\, Vertrauen\, Gestik und Mimik\n-Improvisationsspiele verschiedenster Art zur Förderung der persönlichen Kreativität und Selbstwirksamkeit\n-Ausdenken und Erzählen von Geschichten\n– Umsetzen der Geschichten in Spielszenen\n-Einbindung der Kinder in den Prozeß eines selbst ausgedachten Theaterstückes\n-Aufführung vor Publikum des erarbeiteten Stückes\n\nEin kleiner Kostüm- und Requisitenfundus zum Verkleiden ist vorhanden\nGruppengröße: maximal 8-10 Kinder \n\n\n\n\nKurs 1\nDonnerstags: 15-16 Uhr\nAlter: 8-9 Jahre\nMtl. Kursgebühr: 50\,- Euro \nKurs 2\nDonnerstags: 16.15-17.30 Uhr\nAlter: 10-12 Jahre\nMtl. Kursgebühr: 55\,- Euro \nKurs 3\nDonnerstags: 17.45-19.15 Uhr\nAlter: ab 13 Jahre \nMtl. Kursgebühr: 60\,- Euro \nKurs 4\nMittwochs:  16.30 -17.30  Uhr  ( 5-7 Jahre )\nMtl. Kursgebühr: 48\,- Euro \n 
URL:https://wannseekalender.de/event/schauspiel-fuer-kinder-und-jugendliche/2025-09-18/
LOCATION:JFE Jugendfreizeiteinrichtung Wannsee\, Königstraße 42\, Berlin\, 14109\, Germany
CATEGORIES:Jugendliche,Kinder
ORGANIZER;CN="Schauspielclub Wannsee":MAILTO:schauspielclub.wannsee@gmail.com
END:VEVENT
BEGIN:VEVENT
DTSTART;TZID=Europe/Berlin:20250918T160000
DTEND;TZID=Europe/Berlin:20250918T173000
DTSTAMP:20260420T191359
CREATED:20250125T184410Z
LAST-MODIFIED:20250125T184410Z
UID:10015572-1758211200-1758216600@wannseekalender.de
SUMMARY:Lese-Club Erwachsene/Jugend
DESCRIPTION:
URL:https://wannseekalender.de/event/lese-club-erwachsene-jugend/2025-09-18/
LOCATION:JFE Jugendfreizeiteinrichtung Wannsee\, Königstraße 42\, Berlin\, 14109\, Germany
ORGANIZER;CN="%C3%96kumenisches Willkommen Wannsee (%C3%96WW)":MAILTO:oeww@kirchengemeinde-wannsee.de
END:VEVENT
BEGIN:VEVENT
DTSTART;TZID=Europe/Berlin:20250918T160000
DTEND;TZID=Europe/Berlin:20250918T180000
DTSTAMP:20260420T191359
CREATED:20250724T095857Z
LAST-MODIFIED:20250724T095857Z
UID:10025980-1758211200-1758218400@wannseekalender.de
SUMMARY:Malen - Workshop
DESCRIPTION:Themen wie Eltern-Kind Malen\, Wünsche\, Träume malen \n\n\n„In meinem Malraum wird intuitiv gemalt – brauchst du Talent? Nope. Nur dich selbst.Du brauchst keine Technik\, kein Ziel\, kein „schönes Bild“. Es geht nicht ums Können\, sondern ums Spüren.Was passiert\, wenn du dich einfach mal hinsetzt\, Farbe nimmst und loslegst – ohne Plan?Malen\, um dich selbst zu treffen. Ganz ohne Erwartungsdruck. Workshops die gut tun\,  ob solo oder auch gemeinsam als Team!“​ \nKosten \nSchnupperpreis für Erwachsene: 49 Euro
URL:https://wannseekalender.de/event/malen-workshop-2-2/2025-09-18/
LOCATION:Atelier Kathrin Wirz\, Königsweg 309\, Berlin\, Berlin\, 14109
CATEGORIES:Kunst
ORGANIZER;CN="Kathrin Wirz - intuarts":MAILTO:kathrin_wirz@yahoo.de
END:VEVENT
BEGIN:VEVENT
DTSTART;TZID=Europe/Berlin:20250918T163000
DTEND;TZID=Europe/Berlin:20250918T183000
DTSTAMP:20260420T191359
CREATED:20250413T075216Z
LAST-MODIFIED:20250413T075216Z
UID:10021485-1758213000-1758220200@wannseekalender.de
SUMMARY:Offene Kirche
DESCRIPTION:
URL:https://wannseekalender.de/event/offene-kirche/2025-09-18/
LOCATION:Baptistenkirche Wannsee (Kirche am Immanuel-Krankenhaus)\, Königstraße 66\, Berlin\, 14109\, Germany
CATEGORIES:Kirche
ORGANIZER;CN="Baptisten Wannsee":MAILTO:info@baptisten-wannsee.de
END:VEVENT
BEGIN:VEVENT
DTSTART;TZID=Europe/Berlin:20250918T170000
DTEND;TZID=Europe/Berlin:20250918T183000
DTSTAMP:20260420T191359
CREATED:20250626T201215Z
LAST-MODIFIED:20260416T040236Z
UID:10026034-1758214800-1758220200@wannseekalender.de
SUMMARY:Stärkekreis von Eltern und Angehörigen zum Thema Autismus Spektrum
DESCRIPTION:Austausch über Autismus – Stärkekreis \nEs gibt viele Informationen\, Erfahrungen und offene Fragen rund um das Thema Autismus Spektrum.\nBetroffene und Angehörige sind meistens auf sich alleine gestellt. Um dies zu ändern habe ich den Stärkekreis ins Leben gerufen. \nDer Austausch Miteinander und Untereinander um das Thema Autismus und vor allem die Stärkung liegt bei unseren Treffen im Vordergrund. \nWir treffen uns jeden dritten Donnerstag im Monat (außer in den Schulferien) in den Räumlichkeiten des FamilienCafé\, in der 1 Etage im Rathaus Wannsee.\nEs Bedarf keiner Anmeldung – Kommt einfach vorbei – wir freuen uns auf den Austausch.
URL:https://wannseekalender.de/event/staerkekreis-von-eltern-und-angehoerigen-zum-thema-autismus-spektrum/2025-09-18/
LOCATION:JFE Jugendfreizeiteinrichtung Wannsee\, Königstraße 42\, Berlin\, 14109\, Germany
CATEGORIES:Bildung,Community,Familie
ATTACH;FMTTYPE=image/png:https://wannseekalender.de/wp-content/uploads/2025/06/Bild-1.png
ORGANIZER;CN="JFE Jugendfreizeiteinrichtung Wannsee":MAILTO:jfewannsee@steglitz-zehlendorf.de
END:VEVENT
BEGIN:VEVENT
DTSTART;TZID=Europe/Berlin:20250918T180000
DTEND;TZID=Europe/Berlin:20250918T200000
DTSTAMP:20260420T191359
CREATED:20241228T165214Z
LAST-MODIFIED:20250517T081636Z
UID:10012566-1758218400-1758225600@wannseekalender.de
SUMMARY:Mitsingen und Musizieren
DESCRIPTION:Jede und jeder ist herzlich eingeladen mitzusingen oder sich mit einem Instrument in die Chorarbeit einzubringen. Die Proben von Michael’s Friends finden jeweils donnerstags um 18.00 Uhr im Gemeindehaus St. Michael\, Hohenzollernstr. 28\, 14109 Berlin statt. Den Chor leitet Maja Leschke\, eine junge Studentin\, die im Rahmen ihrer kirchenmusikalischen C-Ausbildung  den Chorleiterabschluss erwarb. Sie spielt Klavier\, Orgel und Bratsche. \nMichael’s Friends singt mehrstimmig moderne und klassische Kirchenlieder und begleitet monatlich die Familienmesse an jedem 3. Sonntag im Monat. Der Chor singt auch zu besonderen Gottesdiensten im Kirchenjahr\, wie z.B. Erstkommunion\, Weltgebettag\, Patronatsfest etc. Der Fokus liegt besonders auf dem neuen Geistlichen Liedgut. \nWir freuen uns jederzeit über neue Mitglieder. \nKontakt: Maja Leschke\, Tel. 0177 4430324\, Mail m.leschke@t-online.de
URL:https://wannseekalender.de/event/mitsingen-und-musizieren/2025-09-18/
LOCATION:Katholisches Gemeindehaus St. Michael\, Hohenzollernstraße 28\, Berlin\, 14109
CATEGORIES:Musik
ORGANIZER;CN="Michael's Friends":MAILTO:m.leschke@t-online.de
END:VEVENT
BEGIN:VEVENT
DTSTART;TZID=Europe/Berlin:20250918T193000
DTEND;TZID=Europe/Berlin:20250918T210000
DTSTAMP:20260420T191359
CREATED:20250730T220849Z
LAST-MODIFIED:20250730T220849Z
UID:10027684-1758223800-1758229200@wannseekalender.de
SUMMARY:Studio LCB: Kamel Daoud
DESCRIPTION:Huris \nGesprächspartner: Onur Erdur und Joseph Hanimann\nModeration: Katharina Teutsch \nKamel Daouds mit dem Prix Goncourt ausgezeichneter Roman »Huris« (Matthes & Seitz\, 2025) wurde im vergangenen Jahr in Frankreich viel diskutiert. Der in Mostaganem\, Algerien\, geborene Autor erzählt darin aus dem sogenannten Schwarzen Jahrzehnt des algerischen Bürgerkriegs. Es ist die Geschichte einer jungen Frau\, die in den 1990er Jahren bei einem von Islamisten verübten Massaker schwer verletzt wurde und daraufhin ihre Stimme verlor. In Algerien ist es verboten\, offen über diese Gräuel zu sprechen\, Daoud kann Algerien bis auf weiteres nicht bereisen. Im LCB stellt er seinen Roman vor\, mit ihm diskutieren der Journalist Joseph Hanimann und der Historiker Onur Erdur\, dessen Buch »Schule des Südens« (Matthes & Seitz\, 2024) sich mit den intellektuellen Verbindungen zwischen Frankreich und Algerien befasst. \nIn Zusammenarbeit mit dem Deutschlandfunk. \nSendetermine:\n27. September 2025\, 20.05 Uhr\, Deutschlandfunk\n28. September 2025\, 0.05 Uhr\, Deutschlandfunk Kultur
URL:https://wannseekalender.de/event/studio-lcb-kamel-daoud/
LOCATION:Literarisches Colloquium Berlin (LCB)\, Am Sandwerder 5\, Berlin\, 14109\, Germany
CATEGORIES:Buchpräsentation,Kunst & Kultur,Künstler*innengespräch,Lesung,Networking
ORGANIZER;CN="Literarisches Colloquium Berlin e. V.":MAILTO:mail@lcb.de
END:VEVENT
BEGIN:VEVENT
DTSTART;TZID=Europe/Berlin:20250918T193000
DTEND;TZID=Europe/Berlin:20250918T213000
DTSTAMP:20260420T191359
CREATED:20250102T115557Z
LAST-MODIFIED:20250517T081801Z
UID:10013146-1758223800-1758231000@wannseekalender.de
SUMMARY:Probetermin Camerata Wannsee
DESCRIPTION:Interessierte chorerfahrene Sängerinnen und Sänger mit guter stimmlicher Anlage und Bereitschaft zu regelmäßiger und anspruchsvoller Probenarbeit mögen sich bitte direkt beim Chorleiter Jan Sören Fölster melden:\nmail: kirchenmusik@kg-dahlem.de
URL:https://wannseekalender.de/event/probetermin-camerata-wannsee/2025-09-18/
LOCATION:Evangelisches Gemeindehaus\, Schuchardtweg 5\, Berlin\, 14109\, Germany
CATEGORIES:Musik
ORGANIZER;CN="Camerata Wannsee":MAILTO:kirchenmusik@kg-dahlem.de
END:VEVENT
BEGIN:VEVENT
DTSTART;TZID=Europe/Berlin:20250918T193000
DTEND;TZID=Europe/Berlin:20250918T220000
DTSTAMP:20260420T191359
CREATED:20250731T194123Z
LAST-MODIFIED:20250731T194123Z
UID:10027688-1758223800-1758232800@wannseekalender.de
SUMMARY:Kiez-Kino: Friendship
DESCRIPTION:Regie Markus Goller\, 2009\,Abenteuer Komödie\, USA\, Deutschland \nDeutschland\, 1989. Die Mauer fällt – und ganz Berlin verwandelt sich in eine einzige große Party. Auch Veit ist voller Aufbruchsstimmung: Mit seinem Begrüßungsgeld will er nachSan Francisco reisen\, zum „westlichsten Punkt der Welt“. Zumindest erzählt er das seinem besten Freund Tom\, der sofort Feuer fängt und sich begeistert dem großen Abenteuer anschließt. Was Tom nicht weiß: Veit sucht in Wahrheit seinen Vater\, der in die USA auswanderte\, als Veit noch ein Kind war. Es beginnt ein abenteuerlicher Roadtrip quer durch Amerika\, eine turbulente Ost-West-Reise\, die ihre Freundschaft auf eine harte Probe stellt.Zur Filmvorführung im Kiez-Kino Wannsee begrüßen wir Veit Jungnickel. Was nur wenige wissen: Der Film basiert auf seiner wahren Geschichte – und der seines besten Freundes\, des späteren Filmproduzenten Tom Zickler.Veit wird dem Publikum von den wahren Begebenheiten hinter dem Film erzählen und persönliche Einblicke in dessen Entstehung geben.Der Eintritt ist wie immer kostenfrei. Für Spenden für Gebühren und Lizenzen sind wir dankbar.Kontakt: Dr. Helmut Krech\, helkrech(at)t-online.de
URL:https://wannseekalender.de/event/kiez-kino-friendship/
LOCATION:Altes Schulhaus\, Wilhelmplatz 1\, Berlin\, 14109\, Germany
CATEGORIES:Community,Kino,Kunst & Kultur
ATTACH;FMTTYPE=image/jpeg:https://wannseekalender.de/wp-content/uploads/2025/05/KiezKino.jpeg
ORGANIZER;CN="K%C3%BCsterei Evangelische Kirchengemeinde Wannsee":MAILTO:kuesterei@kirchengemeinde-wannsee.de
END:VEVENT
END:VCALENDAR