BEGIN:VCALENDAR
VERSION:2.0
PRODID:-//Wannsee Kalender - ECPv6.15.20//NONSGML v1.0//EN
CALSCALE:GREGORIAN
METHOD:PUBLISH
X-WR-CALNAME:Wannsee Kalender
X-ORIGINAL-URL:https://wannseekalender.de
X-WR-CALDESC:Veranstaltungen für Wannsee Kalender
REFRESH-INTERVAL;VALUE=DURATION:PT1H
X-Robots-Tag:noindex
X-PUBLISHED-TTL:PT1H
BEGIN:VTIMEZONE
TZID:Europe/Berlin
BEGIN:DAYLIGHT
TZOFFSETFROM:+0100
TZOFFSETTO:+0200
TZNAME:CEST
DTSTART:20240331T010000
END:DAYLIGHT
BEGIN:STANDARD
TZOFFSETFROM:+0200
TZOFFSETTO:+0100
TZNAME:CET
DTSTART:20241027T010000
END:STANDARD
BEGIN:DAYLIGHT
TZOFFSETFROM:+0100
TZOFFSETTO:+0200
TZNAME:CEST
DTSTART:20250330T010000
END:DAYLIGHT
BEGIN:STANDARD
TZOFFSETFROM:+0200
TZOFFSETTO:+0100
TZNAME:CET
DTSTART:20251026T010000
END:STANDARD
BEGIN:DAYLIGHT
TZOFFSETFROM:+0100
TZOFFSETTO:+0200
TZNAME:CEST
DTSTART:20260329T010000
END:DAYLIGHT
BEGIN:STANDARD
TZOFFSETFROM:+0200
TZOFFSETTO:+0100
TZNAME:CET
DTSTART:20261025T010000
END:STANDARD
BEGIN:DAYLIGHT
TZOFFSETFROM:+0100
TZOFFSETTO:+0200
TZNAME:CEST
DTSTART:20270328T010000
END:DAYLIGHT
BEGIN:STANDARD
TZOFFSETFROM:+0200
TZOFFSETTO:+0100
TZNAME:CET
DTSTART:20271031T010000
END:STANDARD
BEGIN:DAYLIGHT
TZOFFSETFROM:+0100
TZOFFSETTO:+0200
TZNAME:CEST
DTSTART:20280326T010000
END:DAYLIGHT
BEGIN:STANDARD
TZOFFSETFROM:+0200
TZOFFSETTO:+0100
TZNAME:CET
DTSTART:20281029T010000
END:STANDARD
END:VTIMEZONE
BEGIN:VEVENT
DTSTART;VALUE=DATE:20250106
DTEND;VALUE=DATE:20270107
DTSTAMP:20260420T090614
CREATED:20250103T101815Z
LAST-MODIFIED:20250713T172127Z
UID:10014206-1736121600-1799279999@wannseekalender.de
SUMMARY:Angebote der JFE Wannsee
DESCRIPTION:ÖFFNUNGSZEITEN:\nMontag: 13:00 – 20:00 Uhr\nDienstag: 13:00 – 20:00 Uhr\nMittwoch: 14:00 – 20:00 Uhr (Nur Gruppenangebote)\nDonnerstag: 13:00 – 20:00 Uhr\nFreitag: 13:00 – 20:00 Uhr\nSamstag: 11:00 – 13:00 Uhr (Nur Gruppenangebote)\nSonntag: 15:00 – 18:00 Uhr\nAngebote\nTöpfern\nDienstags 14:45 – 16:15 oder 16:30 bis 18:00 mit Clara \nDonnerstags 15:00 – 16:30 oder 17:00 – 18:30 mit Ronja \nFreitags 15:00 – 16:00 oder 16:00 – 17:00 oder 17:00 -18:00 mit Sabine \nJeden 1.Samstag im Monat – Familientöpfern (Eltern/Kind Angebot)  11:00 – 13:00 mit Sabine \nMusik\nGitarre / Flöte / Geige / E-Piano \nMittwoch 14:00 – 19:00 Uhr mit Heiko (Gitarre\, Flöte) \nMittwoch 16:00 – 18:00 Uhr mit Miro (Geige) \nDonnerstag 17:00 – 19:00 Uhr mit Benny (E-Bass\, Ukulele\, E-Gitarre\, E-Piano\, Gesang\, Band-Coaching)) \nTheater\nDonnerstag 16:00 – 18:00 Uhr mit Sabina \nSport\nDienstag  16:15 – 17:15  Zirkel-Training mit Chris \nDonnerstag 15:00 – 16:30 Tischtennis mit Ingo \nSaisonbedingt (April bis Oktober) steht uns die Mehrzwecksportanlage in der Chausseestr.  Dienstags und Freitags ab 14:00 Uhr zur Verfügung. \nFreitags 15:00 – 16:30  Kicken im Kiez mit Ingo \nSchlagzeug\nMontags 14:00 – 18:00 Uhr mit Tom \nDienstags 14:00 – 17:00 Uhr mit Lars \nDonnerstags 13:00 – 17:00 Uhr mit Benny \nFreitags 14:00 – 17:00 Uhr mit Tom
URL:https://wannseekalender.de/event/angebote-der-jfe-wannsee/
LOCATION:JFE Jugendfreizeiteinrichtung Wannsee\, Königstraße 42\, Berlin\, 14109\, Germany
CATEGORIES:Jugendliche,Kinder
ORGANIZER;CN="JFE Jugendfreizeiteinrichtung Wannsee":MAILTO:jfewannsee@steglitz-zehlendorf.de
END:VEVENT
BEGIN:VEVENT
DTSTART;VALUE=DATE:20250906
DTEND;VALUE=DATE:20250908
DTSTAMP:20260420T090614
CREATED:20241126T082013Z
LAST-MODIFIED:20250820T193053Z
UID:10001355-1757116800-1757289599@wannseekalender.de
SUMMARY:Führung: Haus der Wannsee-Konferenz
DESCRIPTION:Immer samstags und sonntags\, immer kostenfrei: Führungen durch unsere Dauerausstellung um 14 Uhr\, 15 Uhr\, 16 Uhr. \nCa. 45 Minuten\, ohne Anmeldung\, herzlich willkommen. Treffpunkt: Rezeption.
URL:https://wannseekalender.de/event/fuehrung-haus-der-wannseekonferenz/2025-09-06/
LOCATION:Haus der Wannsee-Konferenz\, Am Großen Wannsee 56-58\, Berlin\, 14109\, Germany
CATEGORIES:Bildung,Führung,Kunst & Kultur,Wissen
ORGANIZER;CN="Gedenk- und Bildungsst%C3%A4tte Haus der Wannsee-Konferenz":MAILTO:info@ghwk.de
END:VEVENT
BEGIN:VEVENT
DTSTART;TZID=Europe/Berlin:20250907T093000
DTEND;TZID=Europe/Berlin:20250907T103000
DTSTAMP:20260420T090614
CREATED:20241126T082028Z
LAST-MODIFIED:20241208T123054Z
UID:10001618-1757237400-1757241000@wannseekalender.de
SUMMARY:Heilige Messe
DESCRIPTION:Weitere Informationen: https://johannesboscoberlin.de/gottesdienste/?cn-reloaded=1
URL:https://wannseekalender.de/event/heilige-messe/2025-09-07/
LOCATION:Kirche St. Michael\, Königstraße 43\, Berlin\, 14109\, Germany
CATEGORIES:Gottesdienst
ORGANIZER;CN="Katholische Pfarrei Johannes Bosco %E2%80%93 Berliner S%C3%BCdwesten":MAILTO:pfarrbuero@johannesboscoberlin.de
END:VEVENT
BEGIN:VEVENT
DTSTART;TZID=Europe/Berlin:20250907T100000
DTEND;TZID=Europe/Berlin:20250907T110000
DTSTAMP:20260420T090614
CREATED:20241126T082027Z
LAST-MODIFIED:20241130T202730Z
UID:10001881-1757239200-1757242800@wannseekalender.de
SUMMARY:Gottesdienst
DESCRIPTION:Gottesdienst um 10 Uhr – live vor Ort und auch per Zoom. \nWir feiern in Wannsee die Gottesdienste\, jeden Sonntag um 10 Uhr „hybrid“. D.h. man kann sowohl vor Ort als auch online per Zoom am Gottesdienst teilnehmen. \nEinfach Zoom öffnen\, die Meeting-ID eingeben und per Passwort beitreten.\nMeeting-ID: 890 8569 7929\nPasswort: sonntag \nOder hier per Link zum Gottesdienst am Sonntag. \nhttps://us02web.zoom.us/j/89085697929?pwd=amdrdEVJTEUxN3VYT25JT2QzQU5aUT09 \nWeitere Informationen: https://baptisten-wannsee.de/herzliche-einladung-zu-unseren-gottesdiensten-per-zoom/
URL:https://wannseekalender.de/event/gottesdienst-8/2025-09-07/
LOCATION:Baptistenkirche Wannsee (Kirche am Immanuel-Krankenhaus)\, Königstraße 66\, Berlin\, 14109\, Germany
CATEGORIES:Gottesdienst
ORGANIZER;CN="Baptisten Wannsee":MAILTO:info@baptisten-wannsee.de
END:VEVENT
BEGIN:VEVENT
DTSTART;TZID=Europe/Berlin:20250907T110000
DTEND;TZID=Europe/Berlin:20250907T123000
DTSTAMP:20260420T090614
CREATED:20250413T073502Z
LAST-MODIFIED:20250413T073502Z
UID:10021455-1757242800-1757248200@wannseekalender.de
SUMMARY:Mit Elfe Tana die Pfaueninsel entdecken
DESCRIPTION:Führung für Familien mit Kindern ab 6 Jahren \nAuf der Berliner Pfaueninsel gibt es nicht nur Pfauen! Hier wohnt auch eine geheimnisvolle Inselelfe mit dem Namen Tana. Tana hilft dabei\, die Geschichte der Insel zu entdecken. An welchen Stellen gab es früher Tiere aus anderen Ländern. Wo befanden sich einst die Lieblingsplätze der Prinzessinnen? Und was haben die Königskinder damals gespielt? \nDie Führung ist auch als Angebot für Schulen und Kita-Gruppen buchbar.
URL:https://wannseekalender.de/event/mit-elfe-tana-die-pfaueninsel-entdecken/2025-09-07/
LOCATION:Pfaueninsel\, Pfaueninselchaussee 1\, Berlin\, 14109\, Germany
CATEGORIES:Familie,Führung,Kinder
ORGANIZER;CN="Stiftung Preu%C3%9Fische Schl%C3%B6sser und G%C3%A4rten Berlin-Brandenburg (SPSG)":MAILTO:info@spsg.de
END:VEVENT
BEGIN:VEVENT
DTSTART;TZID=Europe/Berlin:20250907T120000
DTEND;TZID=Europe/Berlin:20250907T133000
DTSTAMP:20260420T090614
CREATED:20250412T203706Z
LAST-MODIFIED:20250626T205650Z
UID:10015323-1757246400-1757251800@wannseekalender.de
SUMMARY:Ausstellungsführung: BERLIN. COSMOPOLITE: Die versunkene Welt von Felicie und Carl Bernstein
DESCRIPTION:Erfahren Sie mehr über die aktuelle Sonderausstellung „BERLIN. COSMOPOLITE: Die versunkene Welt von Felicie und Carl Bernstein“\nNur buchbar mit einer Eintrittskarte. Tickets gibt es online und vor Ort. \nBild: © Kupferstich-Kabinett\, Staatliche Kunstsammlungen Dresden
URL:https://wannseekalender.de/event/ausstellungsfuehrung/2025-09-07/
LOCATION:Liebermann-Villa\, Colomierstraße 3\, Berlin\, 14109\, Germany
CATEGORIES:Führung,Kunst & Kultur
ATTACH;FMTTYPE=image/png:https://wannseekalender.de/wp-content/uploads/2025/04/Bild.png
ORGANIZER;CN="Max-Liebermann-Gesellschaft Berlin e.V.":MAILTO:info@liebermann-villa.de
END:VEVENT
BEGIN:VEVENT
DTSTART;TZID=Europe/Berlin:20250907T130000
DTEND;TZID=Europe/Berlin:20250907T230000
DTSTAMP:20260420T090614
CREATED:20250115T212356Z
LAST-MODIFIED:20250730T215046Z
UID:10014756-1757250000-1757286000@wannseekalender.de
SUMMARY:LCB - Sommerfest mit den Verlagen Suhrkamp und Insel
DESCRIPTION:Mit Carolin Amlinger\, Friedrich Ani\, Sirka Elspaß\, Zoran Drvenkar\, Manon Garcia\, Rainald Goetz\, Durs Grünbein\, Ozan Zakariya Keskinkılıç\, Jina Khayyer\, Michael Krüger\, Nils C. Kumkar\, Juliane Liebert\, Enis Maci\, Stefan Moster\, Elisabeth Pape\, Andreas Pflüger\, Sasha Marianna Salzmann\, Roberta Schneider\, Julian Schütt\, Samanta Schweblin\, Lutz Seiler\, Katja Spitzer\, Philipp Staab\, Angela Steidele\, Thomas Strässle\, Deniz Utlu\, Gabriel Yoran u. a. \nDer Suhrkamp Verlag feiert sein 75. Verlagsjubiläum mit dem LCB-Sommerfest 2025. \n \nPROGRAMM\n \nab 13:00 Uhr Einlass \n14:00 Uhr Seebühne\nBegrüßung \n14:30 Uhr Seebühne\nNächte der Kindheit\nDeniz Utlu im Gespräch über Tezer Özlü\nModeration: Martina Wunderer\nLesung: Sesede Terziyan \n15:15 Uhr Seebühne\nErste Dates\nElisabeth Pape und Ozan Zakariya Keskinkılıç\nModeration: Sasha Marianna Salzmann \n15:15 Uhr Studiobühne\nMax Frisch\nJulian Schütt und Michael Krüger\nModeration: Thomas Strässle \n16:00 Uhr Seebühne\nThe Drama Is Present\nRainald Goetz und Enis Maci\nAnmoderation: Yvonne Büdenhölzer \n16:00 Uhr Studiobühne\nMit Männern leben\nManon Garcia\nModeration: Vanessa Vu \n16:30 Uhr PAUSE \n17:00 Uhr Studiobühne\nWege zur Musik\nGabriel Yoran und Stefan Moster\nModeration: Angela Steidele \n17:00 Uhr Seebühne\nGesellschaft verstehen\nCarolin Amlinger\, Nils Kumkar und Philipp Staab\nModeration: Jürgen Kaube \n18:00 Uhr Seebühne\nIntervention Lyrik\nSirka Elspaß\, Juliane Liebert\, Lutz Seiler\, Durs Grünbein\nAnmoderation: Doris Plöschberger \n18:00 Uhr Studiobühne\nFluchträume\nThomas Strässle und Friedrich Ani\nModeration: Thomas Halupczok \n18:45 Uhr Seebühne\nFrauen Macht Geschichte\nAngela Steidele und Jina Khayyer\nModeration: Gesa Ufer \n18:45 Uhr Studiobühne\nDas gute Übel\nSamanta Schweblin\nModeration: Sabine Erbrich\nLesung: Irene Baumann \n19:30 Uhr Seebühne\nKälter als Rache\nAndreas Pflüger und Zoran Drvenkar\nModeration: Sonja Hartl \nKINDERPROGRAMM\n14:30 + 16 Uhr\, Atelier: Bilderbuchkino »Litte People Big Dreams«\, gelesen von Nina Weniger\n15:15 Uhr\, Kinderbühne/Wiese: Lesung aus »In sieben Koffern um die Welt« mit Roberta Schneider und Katja Spitzer \nMUSIK\n20:30 Uhr\, Musikalische Hommage an Bertolt Brecht und Kurt Weill\nWinnie Böwe (Gesang) und Felix Kroll (Akkordeon)\n21 Uhr\, DJ Sara Moshiri
URL:https://wannseekalender.de/event/lcb-sommerfest-mit-den-verlagen-suhrkamp-und-insel/
LOCATION:Literarisches Colloquium Berlin (LCB)\, Am Sandwerder 5\, Berlin\, 14109\, Germany
CATEGORIES:Community,Kultur,Kunst & Kultur,Lesung,Musik,Party
ORGANIZER;CN="Literarisches Colloquium Berlin e. V.":MAILTO:mail@lcb.de
END:VEVENT
BEGIN:VEVENT
DTSTART;TZID=Europe/Berlin:20250907T140000
DTEND;TZID=Europe/Berlin:20250907T160000
DTSTAMP:20260420T090614
CREATED:20250413T072410Z
LAST-MODIFIED:20250626T203508Z
UID:10021400-1757253600-1757260800@wannseekalender.de
SUMMARY:Inselführung Pfaueninsel
DESCRIPTION:Die Kaninchenwerder genannte Insel übte auf den preußischen König Friedrich Wilhelm II. eine besondere Anziehungskraft aus. 1793 entschloss er sich dazu\, die Insel zu übernehmen. Gemäß Rousseaus Wahlspruch „zurück zur Natur“ wollte sich der König hier ein paradiesisches Refugium erschaffen. Sie erhielt dann den Namen „Königliche Pfaueninsel“. Die Sehnsüchte seiner Zeit\, die von Expeditionen in neue Welten (die polynesischen Inseln)\, aber auch dem Nachspüren in vergangene\, antike Welten geprägt war\, konnten auf der 68 Hektar großen Pfaueninsel ihren Ausdruck finden. Die Pfaueninsel ist seit 1924 Naturschutzgebiet\, um sie besonders zu schützen. Mittlerweile ist sie als Gartendenkmal eingetragen und steht zusätzlich unter dem Schutz des Berliner-Potsdamer Welterbe der UNESCO\, ist seit 2004 eines der NATURA-2000-Gebiete und als Flora-Fauna-Habitat und Vogelschutzgebiet gesichert. \nBild: © SPSG / Daniel Lindner
URL:https://wannseekalender.de/event/inselfuehrung-pfaueninsel-4-3/2025-09-07/
LOCATION:Pfaueninsel\, Pfaueninselchaussee 1\, Berlin\, 14109\, Germany
CATEGORIES:Führung
ATTACH;FMTTYPE=image/jpeg:https://wannseekalender.de/wp-content/uploads/2025/04/SPSG_SchlossPfaueninsel_DanielLindner_DSC_1245.jpeg
ORGANIZER;CN="Stiftung Preu%C3%9Fische Schl%C3%B6sser und G%C3%A4rten Berlin-Brandenburg (SPSG)":MAILTO:info@spsg.de
END:VEVENT
BEGIN:VEVENT
DTSTART;TZID=Europe/Berlin:20250907T140000
DTEND;TZID=Europe/Berlin:20250907T160000
DTSTAMP:20260420T090614
CREATED:20250524T230844Z
LAST-MODIFIED:20250524T230844Z
UID:10023260-1757253600-1757260800@wannseekalender.de
SUMMARY:Geheimes auf der Insel: Kunckels Glasexperimente
DESCRIPTION:Expertinnenführung mit Dr. Verena Wasmuth\, Kustodin der Glassammlung\, SPSG \n\n\nInmitten der Havellandschaft zwischen Potsdam und Berlin\, auf der Pfaueninsel\, wirkte einer der wichtigsten Alchemisten und Glasmacher des 17. Jahrhunderts: Johann Kunckel. Er hatte die Insel von Kurfürst Friedrich Wilhelm als Geschenk erhalten\, um dort unbeobachtet forschen zu können. In den rund fünf Jahren an diesem besonderen Standort war er erstaunlich produktiv. Während der Führung\, die an der Meierei an der Ostseite der Insel endet\, spüren wir Kunckels Aktivitäten nach.
URL:https://wannseekalender.de/event/geheimes-auf-der-insel-kunckels-glasexperimente/2025-09-07/
LOCATION:Pfaueninsel\, Pfaueninselchaussee 1\, Berlin\, 14109\, Germany
CATEGORIES:Bildung,Kunst & Kultur
ORGANIZER;CN="Stiftung Preu%C3%9Fische Schl%C3%B6sser und G%C3%A4rten Berlin-Brandenburg (SPSG)":MAILTO:info@spsg.de
END:VEVENT
BEGIN:VEVENT
DTSTART;TZID=Europe/Berlin:20250907T150000
DTEND;TZID=Europe/Berlin:20250907T160000
DTSTAMP:20260420T090614
CREATED:20250221T204216Z
LAST-MODIFIED:20250524T141351Z
UID:10017474-1757257200-1757260800@wannseekalender.de
SUMMARY:Gottesdienst Nikolskoe
DESCRIPTION:
URL:https://wannseekalender.de/event/gottesdienst-nikolskoe-2/2025-09-07/
LOCATION:Kirche St. Peter und Paul auf Nikolskoe\, Nikolskoer Weg 17\, Berlin\, 14109\, Germany
CATEGORIES:Gottesdienst,Kirche
ORGANIZER;CN="K%C3%BCsterei Evangelische Kirchengemeinde St. Peter und Paul auf Nikolskoe":MAILTO:kuesterei@kirche-nikolskoe.de
END:VEVENT
BEGIN:VEVENT
DTSTART;TZID=Europe/Berlin:20250907T150000
DTEND;TZID=Europe/Berlin:20250907T163000
DTSTAMP:20260420T090614
CREATED:20250411T191611Z
LAST-MODIFIED:20250924T100506Z
UID:10018767-1757257200-1757262600@wannseekalender.de
SUMMARY:Führung: Liebermann-Villa
DESCRIPTION:Erfahren Sie mehr über Max Liebermann\, die Liebermann-Villa am Wannsee und die aktuellen Sonderausstellungen mit unseren öffentlichen Führungen.\nTickets gibt es online und vor Ort. \nZusätzlich wird eine Eintrittskarte benötigt. Bitte treffen Sie 15 Minuten vor Führungsbeginn im Shop ein. \nBild: © sevens[+]maltry\, Potsdam
URL:https://wannseekalender.de/event/fuehrung-liebermann-villa-3-2/2025-09-07/
LOCATION:Liebermann-Villa\, Colomierstraße 3\, Berlin\, 14109\, Germany
CATEGORIES:Führung,Kunst & Kultur
ATTACH;FMTTYPE=image/png:https://wannseekalender.de/wp-content/uploads/2025/01/Bild.png
ORGANIZER;CN="Max-Liebermann-Gesellschaft Berlin e.V.":MAILTO:info@liebermann-villa.de
END:VEVENT
BEGIN:VEVENT
DTSTART;TZID=Europe/Berlin:20250907T160000
DTEND;TZID=Europe/Berlin:20250907T180000
DTSTAMP:20260420T090614
CREATED:20250801T175516Z
LAST-MODIFIED:20250801T180930Z
UID:10027728-1757260800-1757268000@wannseekalender.de
SUMMARY:Peter Tschaikowsky - Kinder Album op. 39 für Klavier
DESCRIPTION:Michail Sekler (Violine)\, Evgeny Beleninov (Klassische Gitarre): Peter Tschaikowsky – Kinder Album op. 39 für Klavier\, (arr. für Violine und Gitarre)\, Isaak Albéniz – Mallorca op. 202\, für Gitarre\, Agustin Barrios Mangoré – Vals op.8 #4 für Gitarre\, Astor Piazzolla – Histoire du Tango für Violine und Gitarre
URL:https://wannseekalender.de/event/peter-tschaikowsky-kinder-album-op-39-fuer-klavier/2025-09-07/
LOCATION:Baptistenkirche Wannsee (Kirche am Immanuel-Krankenhaus)\, Königstraße 66\, Berlin\, 14109\, Germany
CATEGORIES:Klassik,Konzert,Kunst & Kultur,Musik
ORGANIZER;CN="Verein zur F%C3%B6rderung von Konzertreihen im Schloss Glienicke e.V.":MAILTO:info@konzerte-schloss-glienicke.de
END:VEVENT
BEGIN:VEVENT
DTSTART;TZID=Europe/Berlin:20250907T180000
DTEND;TZID=Europe/Berlin:20250907T190000
DTSTAMP:20260420T090614
CREATED:20250731T205201Z
LAST-MODIFIED:20250731T205413Z
UID:10027697-1757268000-1757271600@wannseekalender.de
SUMMARY:Gottesdienst & Song
DESCRIPTION:Pfarrerin Sapna Joshi + Band \nanschließend Beisammensein \n  \nMitte der 1970er Jahre. Billy Joel besucht seinen Vater in Wien. Auf einer Bank im Park sehen sie eine ältere Frau\, die den Gehweg kehrt. Billy findet das erbärmlich – „Eine ältere Frau – und dann das!“ Der Vater widerspricht: „Nee\, nix da erbärmlich! Im Gegenteil. Die hat Würde! Sie sitzt nicht zu Hause auf dem Sofa vor dem Fernseher. Sie geht raus und kümmert sich\, und das zum Wohle aller!“ In dem Moment wird Joel klar\, wie in seiner amerikanischen Gesellschaft die Älteren als nutzlos und wertlos gesehen werden\, und die Jungen angehalten sind\, sich so schnell wie möglich auf denWeg zu machen\, so schnell wie möglich alles zu erreichen – bevor sie als nutzlos und wertlos gelten.Billy erkennt\, dass das dringend überwunden werden sollte und komponiert dazu seinen berühmten Song „Vienna“: „Slow down – you crazy child“\, liest sich die erste Zeile\, und fährt fort „you’re so ambitious for a juvenile“. Und etwas später „ … take the phone off the hook and disappear for a while … it’s ok to loose a day or two!“ Immer mit der Ruhe – lass Dich nicht verrückt machen! Du findest schon deinen Weg!Im zweiten Song „Small Day Tomorrow“ von Fran Landesman (Text) und Bob Dorough (Musik) kehren wir nach Wien zurück\, zur älteren Dame\, die auf dem Sofa sitzen könnte\, vor dem Fernseher. Wär’s das? Ist das ein Endpunkt – oder kann es im Alter nicht erneut „wieder losgehen“ … Ja! Es kann. Man kann sich erneut auf den Weg machen – so beginnt „Small Day Tomorrow“ mit „I don’t have to go to bed – I’ve got a small day tomorrow.“ und endet „Honey Chile – tonight’s the night – and there’s a car I can borrow – til Tomorrow.“ Bzw. „We can swing out of sight\, We’ve got a long night and a small day tomorrow.“ Rente bzw Ruhestand? Super – dann kann’s ja wieder losgehen … Wohin? Im Ehrenamt einen Gehweg fegen\, oder einfach mal für ein paar Nächte `die Sau rauslassen’ … We shall see … Wird sich zeigen!Martin Wilkens
URL:https://wannseekalender.de/event/gottesdienst-song-3/
LOCATION:Kirche am Stölpchensee\, Wilhelmplatz\, Berlin\, 14109\, Germany
CATEGORIES:Community,Gottesdienst,Kirche,Musik
ORGANIZER;CN="K%C3%BCsterei Evangelische Kirchengemeinde Wannsee":MAILTO:kuesterei@kirchengemeinde-wannsee.de
END:VEVENT
END:VCALENDAR