BEGIN:VCALENDAR
VERSION:2.0
PRODID:-//Wannsee Kalender - ECPv6.15.20//NONSGML v1.0//EN
CALSCALE:GREGORIAN
METHOD:PUBLISH
X-ORIGINAL-URL:https://wannseekalender.de
X-WR-CALDESC:Veranstaltungen für Wannsee Kalender
REFRESH-INTERVAL;VALUE=DURATION:PT1H
X-Robots-Tag:noindex
X-PUBLISHED-TTL:PT1H
BEGIN:VTIMEZONE
TZID:Europe/Berlin
BEGIN:DAYLIGHT
TZOFFSETFROM:+0100
TZOFFSETTO:+0200
TZNAME:CEST
DTSTART:20240331T010000
END:DAYLIGHT
BEGIN:STANDARD
TZOFFSETFROM:+0200
TZOFFSETTO:+0100
TZNAME:CET
DTSTART:20241027T010000
END:STANDARD
BEGIN:DAYLIGHT
TZOFFSETFROM:+0100
TZOFFSETTO:+0200
TZNAME:CEST
DTSTART:20250330T010000
END:DAYLIGHT
BEGIN:STANDARD
TZOFFSETFROM:+0200
TZOFFSETTO:+0100
TZNAME:CET
DTSTART:20251026T010000
END:STANDARD
BEGIN:DAYLIGHT
TZOFFSETFROM:+0100
TZOFFSETTO:+0200
TZNAME:CEST
DTSTART:20260329T010000
END:DAYLIGHT
BEGIN:STANDARD
TZOFFSETFROM:+0200
TZOFFSETTO:+0100
TZNAME:CET
DTSTART:20261025T010000
END:STANDARD
BEGIN:DAYLIGHT
TZOFFSETFROM:+0100
TZOFFSETTO:+0200
TZNAME:CEST
DTSTART:20270328T010000
END:DAYLIGHT
BEGIN:STANDARD
TZOFFSETFROM:+0200
TZOFFSETTO:+0100
TZNAME:CET
DTSTART:20271031T010000
END:STANDARD
BEGIN:DAYLIGHT
TZOFFSETFROM:+0100
TZOFFSETTO:+0200
TZNAME:CEST
DTSTART:20280326T010000
END:DAYLIGHT
BEGIN:STANDARD
TZOFFSETFROM:+0200
TZOFFSETTO:+0100
TZNAME:CET
DTSTART:20281029T010000
END:STANDARD
END:VTIMEZONE
BEGIN:VEVENT
DTSTART;VALUE=DATE:20250106
DTEND;VALUE=DATE:20270107
DTSTAMP:20260420T055144
CREATED:20250103T101815Z
LAST-MODIFIED:20250713T172127Z
UID:10014206-1736121600-1799279999@wannseekalender.de
SUMMARY:Angebote der JFE Wannsee
DESCRIPTION:ÖFFNUNGSZEITEN:\nMontag: 13:00 – 20:00 Uhr\nDienstag: 13:00 – 20:00 Uhr\nMittwoch: 14:00 – 20:00 Uhr (Nur Gruppenangebote)\nDonnerstag: 13:00 – 20:00 Uhr\nFreitag: 13:00 – 20:00 Uhr\nSamstag: 11:00 – 13:00 Uhr (Nur Gruppenangebote)\nSonntag: 15:00 – 18:00 Uhr\nAngebote\nTöpfern\nDienstags 14:45 – 16:15 oder 16:30 bis 18:00 mit Clara \nDonnerstags 15:00 – 16:30 oder 17:00 – 18:30 mit Ronja \nFreitags 15:00 – 16:00 oder 16:00 – 17:00 oder 17:00 -18:00 mit Sabine \nJeden 1.Samstag im Monat – Familientöpfern (Eltern/Kind Angebot)  11:00 – 13:00 mit Sabine \nMusik\nGitarre / Flöte / Geige / E-Piano \nMittwoch 14:00 – 19:00 Uhr mit Heiko (Gitarre\, Flöte) \nMittwoch 16:00 – 18:00 Uhr mit Miro (Geige) \nDonnerstag 17:00 – 19:00 Uhr mit Benny (E-Bass\, Ukulele\, E-Gitarre\, E-Piano\, Gesang\, Band-Coaching)) \nTheater\nDonnerstag 16:00 – 18:00 Uhr mit Sabina \nSport\nDienstag  16:15 – 17:15  Zirkel-Training mit Chris \nDonnerstag 15:00 – 16:30 Tischtennis mit Ingo \nSaisonbedingt (April bis Oktober) steht uns die Mehrzwecksportanlage in der Chausseestr.  Dienstags und Freitags ab 14:00 Uhr zur Verfügung. \nFreitags 15:00 – 16:30  Kicken im Kiez mit Ingo \nSchlagzeug\nMontags 14:00 – 18:00 Uhr mit Tom \nDienstags 14:00 – 17:00 Uhr mit Lars \nDonnerstags 13:00 – 17:00 Uhr mit Benny \nFreitags 14:00 – 17:00 Uhr mit Tom
URL:https://wannseekalender.de/event/angebote-der-jfe-wannsee/
LOCATION:JFE Jugendfreizeiteinrichtung Wannsee\, Königstraße 42\, Berlin\, 14109\, Germany
CATEGORIES:Jugendliche,Kinder
ORGANIZER;CN="JFE Jugendfreizeiteinrichtung Wannsee":MAILTO:jfewannsee@steglitz-zehlendorf.de
END:VEVENT
BEGIN:VEVENT
DTSTART;VALUE=DATE:20250906
DTEND;VALUE=DATE:20250908
DTSTAMP:20260420T055144
CREATED:20241126T082013Z
LAST-MODIFIED:20250820T193053Z
UID:10001355-1757116800-1757289599@wannseekalender.de
SUMMARY:Führung: Haus der Wannsee-Konferenz
DESCRIPTION:Immer samstags und sonntags\, immer kostenfrei: Führungen durch unsere Dauerausstellung um 14 Uhr\, 15 Uhr\, 16 Uhr. \nCa. 45 Minuten\, ohne Anmeldung\, herzlich willkommen. Treffpunkt: Rezeption.
URL:https://wannseekalender.de/event/fuehrung-haus-der-wannseekonferenz/2025-09-06/
LOCATION:Haus der Wannsee-Konferenz\, Am Großen Wannsee 56-58\, Berlin\, 14109\, Germany
CATEGORIES:Bildung,Führung,Kunst & Kultur,Wissen
ORGANIZER;CN="Gedenk- und Bildungsst%C3%A4tte Haus der Wannsee-Konferenz":MAILTO:info@ghwk.de
END:VEVENT
BEGIN:VEVENT
DTSTART;TZID=Europe/Berlin:20250906T100000
DTEND;TZID=Europe/Berlin:20250906T120000
DTSTAMP:20260420T055144
CREATED:20250413T052714Z
LAST-MODIFIED:20250413T052714Z
UID:10020940-1757152800-1757160000@wannseekalender.de
SUMMARY:KidsComputerClub
DESCRIPTION:
URL:https://wannseekalender.de/event/kidscomputerclub/2025-09-06/
LOCATION:JFE Jugendfreizeiteinrichtung Wannsee\, Königstraße 42\, Berlin\, 14109\, Germany
ORGANIZER;CN="%C3%96kumenisches Willkommen Wannsee (%C3%96WW)":MAILTO:oeww@kirchengemeinde-wannsee.de
END:VEVENT
BEGIN:VEVENT
DTSTART;TZID=Europe/Berlin:20250906T103000
DTEND;TZID=Europe/Berlin:20250906T130000
DTSTAMP:20260420T055144
CREATED:20250724T094405Z
LAST-MODIFIED:20250724T094810Z
UID:10025856-1757154600-1757163600@wannseekalender.de
SUMMARY:Malen - Workshop
DESCRIPTION:Themen wie Eltern-Kind Malen\, Wünsche\, Träume malen \n\n\n„In meinem Malraum wird intuitiv gemalt – brauchst du Talent? Nope. Nur dich selbst.Du brauchst keine Technik\, kein Ziel\, kein „schönes Bild“. Es geht nicht ums Können\, sondern ums Spüren.Was passiert\, wenn du dich einfach mal hinsetzt\, Farbe nimmst und loslegst – ohne Plan?Malen\, um dich selbst zu treffen. Ganz ohne Erwartungsdruck. Workshops die gut tun\,  ob solo oder auch gemeinsam als Team!“​ \nKosten \nSchnupperpreis für Erwachsene: 49 Euro
URL:https://wannseekalender.de/event/malen-workshop-3/2025-09-06/
LOCATION:Atelier Kathrin Wirz\, Königsweg 309\, Berlin\, Berlin\, 14109
CATEGORIES:Kunst
ORGANIZER;CN="Kathrin Wirz - intuarts":MAILTO:kathrin_wirz@yahoo.de
END:VEVENT
BEGIN:VEVENT
DTSTART;TZID=Europe/Berlin:20250906T120000
DTEND;TZID=Europe/Berlin:20250906T133000
DTSTAMP:20260420T055144
CREATED:20250123T220208Z
LAST-MODIFIED:20250626T204952Z
UID:10002186-1757160000-1757165400@wannseekalender.de
SUMMARY:Führung: Liebermann-Villa
DESCRIPTION:Erfahren Sie mehr über Max Liebermann\, die Liebermann-Villa am Wannsee und die aktuellen Sonderausstellungen mit unseren öffentlichen Führungen.\nTickets gibt es online und vor Ort. \nZusätzlich wird eine Eintrittskarte benötigt. Bitte treffen Sie 15 Minuten vor Führungsbeginn im Shop ein. \nBild: © sevens[+]maltry\, Potsdam
URL:https://wannseekalender.de/event/fuehrung-liebermann-villa-2/2025-09-06/
LOCATION:Liebermann-Villa\, Colomierstraße 3\, Berlin\, 14109\, Germany
CATEGORIES:Führung,Kunst & Kultur
ATTACH;FMTTYPE=image/png:https://wannseekalender.de/wp-content/uploads/2025/01/Bild.png
ORGANIZER;CN="Max-Liebermann-Gesellschaft Berlin e.V.":MAILTO:info@liebermann-villa.de
END:VEVENT
BEGIN:VEVENT
DTSTART;TZID=Europe/Berlin:20250906T120000
DTEND;TZID=Europe/Berlin:20250906T140000
DTSTAMP:20260420T055144
CREATED:20250904T094937Z
LAST-MODIFIED:20251008T224500Z
UID:10029794-1757160000-1757167200@wannseekalender.de
SUMMARY:Ausstellung: Hinda Weiss | The Book of Wannsee: Chapter One: Storm
DESCRIPTION:Am 6. September eröffnete die Ausstellung „Hinda Weiss | The Book of Wannsee: Chapter One: Storm“ in der Kunstgalerie „Wannsee Contemporary“. \nDie Ausstellung ist bis zum 15. November 2025 zu sehen. Die Öffnungszeiten sind folgende: \nDo: 12:00 – 15:00 Uhr \nFr: 14:00 -16:00 Uhr \nSa: 12:00-14:00 Uhr \nsowie nach Vereinbarung. \n  \n 
URL:https://wannseekalender.de/event/ausstellung-hinda-weiss-the-book-of-wannsee-chapter-one-storm/2025-09-06/
LOCATION:Wannsee Contemporary\, Chausseestraße 46\, Berlin\, 14109\, Germany
CATEGORIES:Kunst,Kunst & Kultur,Kunstausstellung
ORGANIZER;CN="Wannsee Contemporary UG":MAILTO:info@wannsee-contemporary.com
END:VEVENT
BEGIN:VEVENT
DTSTART;TZID=Europe/Berlin:20250906T140000
DTEND;TZID=Europe/Berlin:20250906T153000
DTSTAMP:20260420T055144
CREATED:20250728T141707Z
LAST-MODIFIED:20250729T102812Z
UID:10027560-1757167200-1757172600@wannseekalender.de
SUMMARY:Public Tour in English: Max Liebermann and the Jewish Life in Berlin
DESCRIPTION:In this tour we would like to invite you to examine the Jewish biography of Max Liebermann and his family. The tour is in English. Both the house and the garden will be on display.  \nFunded by the Federal Government Commissioner for Jewish Life in Germany and theFight Against Anti-Semitism. \nBild: © MaxLiebermann-Gesellschaft 
URL:https://wannseekalender.de/event/public-tour-in-english-max-liebermann-and-the-jewish-life-in-berlin-2/2025-09-06/
LOCATION:Liebermann-Villa\, Colomierstraße 3\, Berlin\, 14109\, Germany
CATEGORIES:Bildung,Führung,Kultur,Kunst,Kunst & Kultur
ATTACH;FMTTYPE=image/png:https://wannseekalender.de/wp-content/uploads/2025/07/IMG_0028.png
ORGANIZER;CN="Max-Liebermann-Gesellschaft Berlin e.V.":MAILTO:info@liebermann-villa.de
END:VEVENT
BEGIN:VEVENT
DTSTART;TZID=Europe/Berlin:20250906T150000
DTEND;TZID=Europe/Berlin:20250906T163000
DTSTAMP:20260420T055144
CREATED:20250411T191611Z
LAST-MODIFIED:20250924T100506Z
UID:10018510-1757170800-1757176200@wannseekalender.de
SUMMARY:Führung: Liebermann-Villa
DESCRIPTION:Erfahren Sie mehr über Max Liebermann\, die Liebermann-Villa am Wannsee und die aktuellen Sonderausstellungen mit unseren öffentlichen Führungen.\nTickets gibt es online und vor Ort. \nZusätzlich wird eine Eintrittskarte benötigt. Bitte treffen Sie 15 Minuten vor Führungsbeginn im Shop ein. \nBild: © sevens[+]maltry\, Potsdam
URL:https://wannseekalender.de/event/fuehrung-liebermann-villa-3-2/2025-09-06/
LOCATION:Liebermann-Villa\, Colomierstraße 3\, Berlin\, 14109\, Germany
CATEGORIES:Führung,Kunst & Kultur
ATTACH;FMTTYPE=image/png:https://wannseekalender.de/wp-content/uploads/2025/01/Bild.png
ORGANIZER;CN="Max-Liebermann-Gesellschaft Berlin e.V.":MAILTO:info@liebermann-villa.de
END:VEVENT
BEGIN:VEVENT
DTSTART;TZID=Europe/Berlin:20250906T160000
DTEND;TZID=Europe/Berlin:20250906T180000
DTSTAMP:20260420T055144
CREATED:20250801T175516Z
LAST-MODIFIED:20250801T180930Z
UID:10027727-1757174400-1757181600@wannseekalender.de
SUMMARY:Peter Tschaikowsky - Kinder Album op. 39 für Klavier
DESCRIPTION:Michail Sekler (Violine)\, Evgeny Beleninov (Klassische Gitarre): Peter Tschaikowsky – Kinder Album op. 39 für Klavier\, (arr. für Violine und Gitarre)\, Isaak Albéniz – Mallorca op. 202\, für Gitarre\, Agustin Barrios Mangoré – Vals op.8 #4 für Gitarre\, Astor Piazzolla – Histoire du Tango für Violine und Gitarre
URL:https://wannseekalender.de/event/peter-tschaikowsky-kinder-album-op-39-fuer-klavier/2025-09-06/
LOCATION:Baptistenkirche Wannsee (Kirche am Immanuel-Krankenhaus)\, Königstraße 66\, Berlin\, 14109\, Germany
CATEGORIES:Klassik,Konzert,Kunst & Kultur,Musik
ORGANIZER;CN="Verein zur F%C3%B6rderung von Konzertreihen im Schloss Glienicke e.V.":MAILTO:info@konzerte-schloss-glienicke.de
END:VEVENT
BEGIN:VEVENT
DTSTART;TZID=Europe/Berlin:20250906T193000
DTEND;TZID=Europe/Berlin:20250906T213000
DTSTAMP:20260420T055144
CREATED:20250831T194118Z
LAST-MODIFIED:20250902T065624Z
UID:10028284-1757187000-1757194200@wannseekalender.de
SUMMARY:Die wahre Liebesgeschichte • JOHANN UND JETTY • Szenische Lesung mit Musik der Strauss-Dynastie
DESCRIPTION:Wieder einmal bringen wir Wien nach Berlin. Lassen Sie sich entführen in die Welt der Strauss-Familie. \nErleben Sie die bewegende und interessante Geschichte der Henriette Strauß-Treffz (Jetty) und Johann Strauß Sohn (Jean) – erzählt in einer szenischen Lesung\, umrahmt von bekannten und weniger bekannten Melodien der Strauss-Dynastie. Ein Abend voller Anekdoten\, Musik\, Dynamik und Wiener Charme. \nBesetzung:\nJetty: Nini Stadlmann\nJean: Mathias Schlung\nKlavier : Adrian Suciu\nText und Regie: Elfie Schweiger \nSalzburger Kulturkoffer
URL:https://wannseekalender.de/event/die-wahre-liebesgeschichte-johann-und-jetty-szenische-lesung-mit-musik-der-strauss-dynastie/
LOCATION:Galerie Mutter Fourage & Kulturscheune\, Chausseestraße 15A\, Berlin\, 14109\, Germany
CATEGORIES:Klassik,Konzert,Kultur,Lesung,Musik,Theater
ATTACH;FMTTYPE=image/jpeg:https://wannseekalender.de/wp-content/uploads/2025/08/JohannundJetty.jpg
END:VEVENT
END:VCALENDAR