BEGIN:VCALENDAR
VERSION:2.0
PRODID:-//Wannsee Kalender - ECPv6.15.20//NONSGML v1.0//EN
CALSCALE:GREGORIAN
METHOD:PUBLISH
X-ORIGINAL-URL:https://wannseekalender.de
X-WR-CALDESC:Veranstaltungen für Wannsee Kalender
REFRESH-INTERVAL;VALUE=DURATION:PT1H
X-Robots-Tag:noindex
X-PUBLISHED-TTL:PT1H
BEGIN:VTIMEZONE
TZID:Europe/Berlin
BEGIN:DAYLIGHT
TZOFFSETFROM:+0100
TZOFFSETTO:+0200
TZNAME:CEST
DTSTART:20240331T010000
END:DAYLIGHT
BEGIN:STANDARD
TZOFFSETFROM:+0200
TZOFFSETTO:+0100
TZNAME:CET
DTSTART:20241027T010000
END:STANDARD
BEGIN:DAYLIGHT
TZOFFSETFROM:+0100
TZOFFSETTO:+0200
TZNAME:CEST
DTSTART:20250330T010000
END:DAYLIGHT
BEGIN:STANDARD
TZOFFSETFROM:+0200
TZOFFSETTO:+0100
TZNAME:CET
DTSTART:20251026T010000
END:STANDARD
BEGIN:DAYLIGHT
TZOFFSETFROM:+0100
TZOFFSETTO:+0200
TZNAME:CEST
DTSTART:20260329T010000
END:DAYLIGHT
BEGIN:STANDARD
TZOFFSETFROM:+0200
TZOFFSETTO:+0100
TZNAME:CET
DTSTART:20261025T010000
END:STANDARD
BEGIN:DAYLIGHT
TZOFFSETFROM:+0100
TZOFFSETTO:+0200
TZNAME:CEST
DTSTART:20270328T010000
END:DAYLIGHT
BEGIN:STANDARD
TZOFFSETFROM:+0200
TZOFFSETTO:+0100
TZNAME:CET
DTSTART:20271031T010000
END:STANDARD
BEGIN:DAYLIGHT
TZOFFSETFROM:+0100
TZOFFSETTO:+0200
TZNAME:CEST
DTSTART:20280326T010000
END:DAYLIGHT
BEGIN:STANDARD
TZOFFSETFROM:+0200
TZOFFSETTO:+0100
TZNAME:CET
DTSTART:20281029T010000
END:STANDARD
END:VTIMEZONE
BEGIN:VEVENT
DTSTART;VALUE=DATE:20250106
DTEND;VALUE=DATE:20270107
DTSTAMP:20260420T012252
CREATED:20250103T101815Z
LAST-MODIFIED:20250713T172127Z
UID:10014206-1736121600-1799279999@wannseekalender.de
SUMMARY:Angebote der JFE Wannsee
DESCRIPTION:ÖFFNUNGSZEITEN:\nMontag: 13:00 – 20:00 Uhr\nDienstag: 13:00 – 20:00 Uhr\nMittwoch: 14:00 – 20:00 Uhr (Nur Gruppenangebote)\nDonnerstag: 13:00 – 20:00 Uhr\nFreitag: 13:00 – 20:00 Uhr\nSamstag: 11:00 – 13:00 Uhr (Nur Gruppenangebote)\nSonntag: 15:00 – 18:00 Uhr\nAngebote\nTöpfern\nDienstags 14:45 – 16:15 oder 16:30 bis 18:00 mit Clara \nDonnerstags 15:00 – 16:30 oder 17:00 – 18:30 mit Ronja \nFreitags 15:00 – 16:00 oder 16:00 – 17:00 oder 17:00 -18:00 mit Sabine \nJeden 1.Samstag im Monat – Familientöpfern (Eltern/Kind Angebot)  11:00 – 13:00 mit Sabine \nMusik\nGitarre / Flöte / Geige / E-Piano \nMittwoch 14:00 – 19:00 Uhr mit Heiko (Gitarre\, Flöte) \nMittwoch 16:00 – 18:00 Uhr mit Miro (Geige) \nDonnerstag 17:00 – 19:00 Uhr mit Benny (E-Bass\, Ukulele\, E-Gitarre\, E-Piano\, Gesang\, Band-Coaching)) \nTheater\nDonnerstag 16:00 – 18:00 Uhr mit Sabina \nSport\nDienstag  16:15 – 17:15  Zirkel-Training mit Chris \nDonnerstag 15:00 – 16:30 Tischtennis mit Ingo \nSaisonbedingt (April bis Oktober) steht uns die Mehrzwecksportanlage in der Chausseestr.  Dienstags und Freitags ab 14:00 Uhr zur Verfügung. \nFreitags 15:00 – 16:30  Kicken im Kiez mit Ingo \nSchlagzeug\nMontags 14:00 – 18:00 Uhr mit Tom \nDienstags 14:00 – 17:00 Uhr mit Lars \nDonnerstags 13:00 – 17:00 Uhr mit Benny \nFreitags 14:00 – 17:00 Uhr mit Tom
URL:https://wannseekalender.de/event/angebote-der-jfe-wannsee/
LOCATION:JFE Jugendfreizeiteinrichtung Wannsee\, Königstraße 42\, Berlin\, 14109\, Germany
CATEGORIES:Jugendliche,Kinder
ORGANIZER;CN="JFE Jugendfreizeiteinrichtung Wannsee":MAILTO:jfewannsee@steglitz-zehlendorf.de
END:VEVENT
BEGIN:VEVENT
DTSTART;VALUE=DATE:20250830
DTEND;VALUE=DATE:20250901
DTSTAMP:20260420T012252
CREATED:20241126T082013Z
LAST-MODIFIED:20250820T193053Z
UID:10001354-1756512000-1756684799@wannseekalender.de
SUMMARY:Führung: Haus der Wannsee-Konferenz
DESCRIPTION:Immer samstags und sonntags\, immer kostenfrei: Führungen durch unsere Dauerausstellung um 14 Uhr\, 15 Uhr\, 16 Uhr. \nCa. 45 Minuten\, ohne Anmeldung\, herzlich willkommen. Treffpunkt: Rezeption.
URL:https://wannseekalender.de/event/fuehrung-haus-der-wannseekonferenz/2025-08-30/
LOCATION:Haus der Wannsee-Konferenz\, Am Großen Wannsee 56-58\, Berlin\, 14109\, Germany
CATEGORIES:Bildung,Führung,Kunst & Kultur,Wissen
ORGANIZER;CN="Gedenk- und Bildungsst%C3%A4tte Haus der Wannsee-Konferenz":MAILTO:info@ghwk.de
END:VEVENT
BEGIN:VEVENT
DTSTART;TZID=Europe/Berlin:20250831T093000
DTEND;TZID=Europe/Berlin:20250831T103000
DTSTAMP:20260420T012252
CREATED:20241126T082028Z
LAST-MODIFIED:20241208T123054Z
UID:10001617-1756632600-1756636200@wannseekalender.de
SUMMARY:Heilige Messe
DESCRIPTION:Weitere Informationen: https://johannesboscoberlin.de/gottesdienste/?cn-reloaded=1
URL:https://wannseekalender.de/event/heilige-messe/2025-08-31/
LOCATION:Kirche St. Michael\, Königstraße 43\, Berlin\, 14109\, Germany
CATEGORIES:Gottesdienst
ORGANIZER;CN="Katholische Pfarrei Johannes Bosco %E2%80%93 Berliner S%C3%BCdwesten":MAILTO:pfarrbuero@johannesboscoberlin.de
END:VEVENT
BEGIN:VEVENT
DTSTART;TZID=Europe/Berlin:20250831T100000
DTEND;TZID=Europe/Berlin:20250831T110000
DTSTAMP:20260420T012252
CREATED:20241126T082027Z
LAST-MODIFIED:20241130T202730Z
UID:10001880-1756634400-1756638000@wannseekalender.de
SUMMARY:Gottesdienst
DESCRIPTION:Gottesdienst um 10 Uhr – live vor Ort und auch per Zoom. \nWir feiern in Wannsee die Gottesdienste\, jeden Sonntag um 10 Uhr „hybrid“. D.h. man kann sowohl vor Ort als auch online per Zoom am Gottesdienst teilnehmen. \nEinfach Zoom öffnen\, die Meeting-ID eingeben und per Passwort beitreten.\nMeeting-ID: 890 8569 7929\nPasswort: sonntag \nOder hier per Link zum Gottesdienst am Sonntag. \nhttps://us02web.zoom.us/j/89085697929?pwd=amdrdEVJTEUxN3VYT25JT2QzQU5aUT09 \nWeitere Informationen: https://baptisten-wannsee.de/herzliche-einladung-zu-unseren-gottesdiensten-per-zoom/
URL:https://wannseekalender.de/event/gottesdienst-8/2025-08-31/
LOCATION:Baptistenkirche Wannsee (Kirche am Immanuel-Krankenhaus)\, Königstraße 66\, Berlin\, 14109\, Germany
CATEGORIES:Gottesdienst
ORGANIZER;CN="Baptisten Wannsee":MAILTO:info@baptisten-wannsee.de
END:VEVENT
BEGIN:VEVENT
DTSTART;TZID=Europe/Berlin:20250831T100000
DTEND;TZID=Europe/Berlin:20250831T110000
DTSTAMP:20260420T012252
CREATED:20250728T144748Z
LAST-MODIFIED:20250728T144748Z
UID:10027524-1756634400-1756638000@wannseekalender.de
SUMMARY:Gottesdienst Stölpchensee
DESCRIPTION:Mit Pfarrerin Sapna Joshi.
URL:https://wannseekalender.de/event/gottesdienst-stoelpchensee-5-2-3/
LOCATION:Kirche am Stölpchensee\, Wilhelmplatz\, Berlin\, 14109\, Germany
CATEGORIES:Gottesdienst,Kirche
ORGANIZER;CN="K%C3%BCsterei Evangelische Kirchengemeinde Wannsee":MAILTO:kuesterei@kirchengemeinde-wannsee.de
END:VEVENT
BEGIN:VEVENT
DTSTART;TZID=Europe/Berlin:20250831T100000
DTEND;TZID=Europe/Berlin:20250831T110000
DTSTAMP:20260420T012252
CREATED:20250731T204935Z
LAST-MODIFIED:20250731T204935Z
UID:10027696-1756634400-1756638000@wannseekalender.de
SUMMARY:Gottesdienst Stölpchensee
DESCRIPTION:Pfarrerin Sapna Joshi
URL:https://wannseekalender.de/event/gottesdienst-stoelpchensee-6/
LOCATION:Kirche am Stölpchensee\, Wilhelmplatz\, Berlin\, 14109\, Germany
CATEGORIES:Gottesdienst,Kirche
ORGANIZER;CN="K%C3%BCsterei Evangelische Kirchengemeinde Wannsee":MAILTO:kuesterei@kirchengemeinde-wannsee.de
END:VEVENT
BEGIN:VEVENT
DTSTART;TZID=Europe/Berlin:20250831T110000
DTEND;TZID=Europe/Berlin:20250831T130000
DTSTAMP:20260420T012252
CREATED:20250413T072528Z
LAST-MODIFIED:20250626T203746Z
UID:10021355-1756638000-1756645200@wannseekalender.de
SUMMARY:Inselführung Pfaueninsel
DESCRIPTION:Die Kaninchenwerder genannte Insel übte auf den preußischen König Friedrich Wilhelm II. eine besondere Anziehungskraft aus. 1793 entschloss er sich dazu\, die Insel zu übernehmen. Gemäß Rousseaus Wahlspruch „zurück zur Natur“ wollte sich der König hier ein paradiesisches Refugium erschaffen. Sie erhielt dann den Namen „Königliche Pfaueninsel“. Die Sehnsüchte seiner Zeit\, die von Expeditionen in neue Welten (die polynesischen Inseln)\, aber auch dem Nachspüren in vergangene\, antike Welten geprägt war\, konnten auf der 68 Hektar großen Pfaueninsel ihren Ausdruck finden. Die Pfaueninsel ist seit 1924 Naturschutzgebiet\, um sie besonders zu schützen. Mittlerweile ist sie als Gartendenkmal eingetragen und steht zusätzlich unter dem Schutz des Berliner-Potsdamer Welterbe der UNESCO\, ist seit 2004 eines der NATURA-2000-Gebiete und als Flora-Fauna-Habitat und Vogelschutzgebiet gesichert. \nBild: © SPSG / Daniel Lindner
URL:https://wannseekalender.de/event/inselfuehrung-pfaueninsel-5/2025-08-31/
LOCATION:Pfaueninsel\, Pfaueninselchaussee 1\, Berlin\, 14109\, Germany
ATTACH;FMTTYPE=image/jpeg:https://wannseekalender.de/wp-content/uploads/2025/04/SPSG_SchlossPfaueninsel_DanielLindner_DSC_1245.jpeg
ORGANIZER;CN="Stiftung Preu%C3%9Fische Schl%C3%B6sser und G%C3%A4rten Berlin-Brandenburg (SPSG)":MAILTO:info@spsg.de
END:VEVENT
BEGIN:VEVENT
DTSTART;TZID=Europe/Berlin:20250831T110000
DTEND;TZID=Europe/Berlin:20250831T130000
DTSTAMP:20260420T012252
CREATED:20250729T073847Z
LAST-MODIFIED:20250729T073847Z
UID:10027556-1756638000-1756645200@wannseekalender.de
SUMMARY:Tastführung zu „Berlin. Cosmopolite: Die versunkene Welt von Felicie und Carl Bernstein“
DESCRIPTION:Inklusives Vermittlungsangebot\n\n\n\n\n\nDie Ausstellung wird zum ersten Mal die Geschichte des bedeutenden jüdischen Kunstsammlerpaares Felicie (1849–1908) und Carl Bernstein (1842–1894) erzählen und ihren Einfluss auf die Berliner Kunstszene des späten 19. und frühen 20. Jahrhunderts untersuchen. \nMax Liebermann war von der Kunstsammlung der Bernsteins sehr beeindruckt. Sie prägte sein eigenes Kunstsammeln nachhaltig und er war ein gern gesehener Gast in ihrem wöchentlichen Salon. Heute ist das Ehepaar Bernstein nahezu unbekannt. Diese Ausstellung möchte eine wichtige erinnerungskulturelle Lücke der Berliner Stadtgeschichte schließen und die versunkene Welt der Bernsteins wiederentdecken. \nErleben Sie eine Tastführung durch Max Liebermanns Garten und die historische Liebermann-Villa\, tauchen Sie ein in die Welt und Geschichte dieses bedeutenden jüdischen Kunstsammlerpaares und erfahren Sie ausgewählte Kunstwerke audiodeskriptiv. \nDie Tastführungen richten sich an sehbehinderte und blinde Menschen.\nDie Teilnahme ist im Museumseintritt enthalten. Die Teilnahme ist begrenzt.\nWir bitten um Anmeldung unter: vandenheuvel@liebermann-villa.de
URL:https://wannseekalender.de/event/tastfuehrung-zu-berlin-cosmopolite-die-versunkene-welt-von-felicie-und-carl-bernstein/
LOCATION:Liebermann-Villa\, Colomierstraße 3\, Berlin\, 14109\, Germany
CATEGORIES:Bildung,Kunst & Kultur
ORGANIZER;CN="Max-Liebermann-Gesellschaft Berlin e.V.":MAILTO:info@liebermann-villa.de
END:VEVENT
BEGIN:VEVENT
DTSTART;TZID=Europe/Berlin:20250831T120000
DTEND;TZID=Europe/Berlin:20250831T133000
DTSTAMP:20260420T012252
CREATED:20250412T203706Z
LAST-MODIFIED:20250626T205650Z
UID:10015322-1756641600-1756647000@wannseekalender.de
SUMMARY:Ausstellungsführung: BERLIN. COSMOPOLITE: Die versunkene Welt von Felicie und Carl Bernstein
DESCRIPTION:Erfahren Sie mehr über die aktuelle Sonderausstellung „BERLIN. COSMOPOLITE: Die versunkene Welt von Felicie und Carl Bernstein“\nNur buchbar mit einer Eintrittskarte. Tickets gibt es online und vor Ort. \nBild: © Kupferstich-Kabinett\, Staatliche Kunstsammlungen Dresden
URL:https://wannseekalender.de/event/ausstellungsfuehrung/2025-08-31/
LOCATION:Liebermann-Villa\, Colomierstraße 3\, Berlin\, 14109\, Germany
CATEGORIES:Führung,Kunst & Kultur
ATTACH;FMTTYPE=image/png:https://wannseekalender.de/wp-content/uploads/2025/04/Bild.png
ORGANIZER;CN="Max-Liebermann-Gesellschaft Berlin e.V.":MAILTO:info@liebermann-villa.de
END:VEVENT
BEGIN:VEVENT
DTSTART;TZID=Europe/Berlin:20250831T140000
DTEND;TZID=Europe/Berlin:20250831T140000
DTSTAMP:20260420T012252
CREATED:20250729T143308Z
LAST-MODIFIED:20250729T143420Z
UID:10027567-1756648800-1756648800@wannseekalender.de
SUMMARY:Kunst im Gespräch: mit Susanne Altmann\, Torsten Körner\, Svenja Leiber und Amrei Bauer Kunst im Gespräch  Mit Susanne Altmann\, Torsten Körner\, Svenja Leiber und Amrei Bauer
DESCRIPTION:Moderation: Hilke Grabow\nAußer Haus: Annemirl Bauer Haus\, Niederwerbig \nIm Rahmen der Reihe „Kunst im Gespräch“ zeigt das Annemirl Bauer Haus unbekannte Werke der Malerin. Unter dem Titel „Alibifrau mit eingeschlossenem Selbst“ diskutieren geladene Gäste. Kuratiert von Amrei Bauer. \nFÜHRUNG durch die Ausstellung mit Amrei Bauer \nPODIUMSGESPRÄCH mit der Kunsthistorikerin Susanne Altmann\, dem Regisseur Torsten Körner\, der Autorin Svenja Leiber und Amrei Bauer. Moderation: Hilke Grabow \nGARTENLESUNG mit Svenja Leiber \nMUSIK von Suzanna: Romalieder von Alexandra Daniel Weltlinger (Geige)\, Valerij Pysarenko (Gitarre) BUFFET mit kulinarischen Highlights aus Blumen und Kräutern \nEine Kooperation des Annemirl Bauer Hauses mit dem Brandenburgischen Literaturrat und dem Literarischen Colloquium Berlin. Gefördert mit Mitteln des Landes Brandenburg und des Landkreises Potsdam-Mittelmark. \nAußer Haus: Annemirl Bauer Haus\, Dorfstrasse 10\, 14822 Niederwerbig. \nAnmeldung \ninfo@landseminare.de \nAnreise\nÖPNV: RE7 bis Brück Bus 543 Richtung Treuenbrietzen bis Niederwerbig.\nLetzte Verbindung ab Niederwerbig um 18:20 Uhr.
URL:https://wannseekalender.de/event/kunst-im-gespraech-mit-susanne-altmann-torsten-koerner-svenja-leiber-und-amrei-bauer-kunst-im-gespraech-mit-susanne-altmann-torsten-koerner-svenja-leiber-und-amrei-bauer/
LOCATION:Annemirl Bauer Haus\, Dorfstrasse 10\, Niederwerbig\, 14822
CATEGORIES:Bildung,Buchpräsentation,Führung,Kultur,Kunst,Kunst & Kultur,Künstler*innengespräch,Lesung,Musik
ORGANIZER;CN="Literarisches Colloquium Berlin e. V.":MAILTO:mail@lcb.de
END:VEVENT
BEGIN:VEVENT
DTSTART;TZID=Europe/Berlin:20250831T140000
DTEND;TZID=Europe/Berlin:20250831T153000
DTSTAMP:20260420T012252
CREATED:20250413T074213Z
LAST-MODIFIED:20250413T074214Z
UID:10021454-1756648800-1756654200@wannseekalender.de
SUMMARY:Mit Elfe Tana die Pfaueninsel entdecken
DESCRIPTION:Führung für Familien mit Kindern ab 6 Jahren \nAuf der Berliner Pfaueninsel gibt es nicht nur Pfauen! Hier wohnt auch eine geheimnisvolle Inselelfe mit dem Namen Tana. Tana hilft dabei\, die Geschichte der Insel zu entdecken. An welchen Stellen gab es früher Tiere aus anderen Ländern. Wo befanden sich einst die Lieblingsplätze der Prinzessinnen? Und was haben die Königskinder damals gespielt? \nDie Führung ist auch als Angebot für Schulen und Kita-Gruppen buchbar.
URL:https://wannseekalender.de/event/mit-elfe-tana-die-pfaueninsel-entdecken-8/
LOCATION:Pfaueninsel\, Pfaueninselchaussee 1\, Berlin\, 14109\, Germany
CATEGORIES:Familie,Führung,Kinder
ORGANIZER;CN="Stiftung Preu%C3%9Fische Schl%C3%B6sser und G%C3%A4rten Berlin-Brandenburg (SPSG)":MAILTO:info@spsg.de
END:VEVENT
BEGIN:VEVENT
DTSTART;TZID=Europe/Berlin:20250831T150000
DTEND;TZID=Europe/Berlin:20250831T160000
DTSTAMP:20260420T012252
CREATED:20250221T204216Z
LAST-MODIFIED:20250524T141351Z
UID:10017444-1756652400-1756656000@wannseekalender.de
SUMMARY:Gottesdienst Nikolskoe
DESCRIPTION:
URL:https://wannseekalender.de/event/gottesdienst-nikolskoe-2/2025-08-31/
LOCATION:Kirche St. Peter und Paul auf Nikolskoe\, Nikolskoer Weg 17\, Berlin\, 14109\, Germany
CATEGORIES:Gottesdienst,Kirche
ORGANIZER;CN="K%C3%BCsterei Evangelische Kirchengemeinde St. Peter und Paul auf Nikolskoe":MAILTO:kuesterei@kirche-nikolskoe.de
END:VEVENT
BEGIN:VEVENT
DTSTART;TZID=Europe/Berlin:20250831T150000
DTEND;TZID=Europe/Berlin:20250831T163000
DTSTAMP:20260420T012252
CREATED:20250411T191611Z
LAST-MODIFIED:20250924T100506Z
UID:10018766-1756652400-1756657800@wannseekalender.de
SUMMARY:Führung: Liebermann-Villa
DESCRIPTION:Erfahren Sie mehr über Max Liebermann\, die Liebermann-Villa am Wannsee und die aktuellen Sonderausstellungen mit unseren öffentlichen Führungen.\nTickets gibt es online und vor Ort. \nZusätzlich wird eine Eintrittskarte benötigt. Bitte treffen Sie 15 Minuten vor Führungsbeginn im Shop ein. \nBild: © sevens[+]maltry\, Potsdam
URL:https://wannseekalender.de/event/fuehrung-liebermann-villa-3-2/2025-08-31/
LOCATION:Liebermann-Villa\, Colomierstraße 3\, Berlin\, 14109\, Germany
CATEGORIES:Führung,Kunst & Kultur
ATTACH;FMTTYPE=image/png:https://wannseekalender.de/wp-content/uploads/2025/01/Bild.png
ORGANIZER;CN="Max-Liebermann-Gesellschaft Berlin e.V.":MAILTO:info@liebermann-villa.de
END:VEVENT
BEGIN:VEVENT
DTSTART;TZID=Europe/Berlin:20250831T160000
DTEND;TZID=Europe/Berlin:20250831T180000
DTSTAMP:20260420T012252
CREATED:20250728T135020Z
LAST-MODIFIED:20250729T150850Z
UID:10027517-1756656000-1756663200@wannseekalender.de
SUMMARY:Konzerte Schloss Glienicke
DESCRIPTION:Christoph Schanze (Klavier): „Les Baricades Mistérieuses“- ‚Minimal Music‘ im Barock und heute\, in einem Dialog der Werke von Philip Glass und Yann Tiersen und Musik des französischen und deutschen Barocks\, u.a. Werke von François Couperin\, Johann Sebastian Bach \nDie Konzerte des Schloss Glienicke finden zurzeit in der Kirche am Immanuel Krankenhaus Wannsee statt.
URL:https://wannseekalender.de/event/konzert-schloss-glienicke-3/2025-08-31/
LOCATION:Baptistenkirche Wannsee (Kirche am Immanuel-Krankenhaus)\, Königstraße 66\, Berlin\, 14109\, Germany
CATEGORIES:Kirche,Klassik,Konzert,Kultur
ORGANIZER;CN="Verein zur F%C3%B6rderung von Konzertreihen im Schloss Glienicke e.V.":MAILTO:info@konzerte-schloss-glienicke.de
END:VEVENT
END:VCALENDAR