BEGIN:VCALENDAR
VERSION:2.0
PRODID:-//Wannsee Kalender - ECPv6.15.20//NONSGML v1.0//EN
CALSCALE:GREGORIAN
METHOD:PUBLISH
X-ORIGINAL-URL:https://wannseekalender.de
X-WR-CALDESC:Veranstaltungen für Wannsee Kalender
REFRESH-INTERVAL;VALUE=DURATION:PT1H
X-Robots-Tag:noindex
X-PUBLISHED-TTL:PT1H
BEGIN:VTIMEZONE
TZID:Europe/Berlin
BEGIN:DAYLIGHT
TZOFFSETFROM:+0100
TZOFFSETTO:+0200
TZNAME:CEST
DTSTART:20240331T010000
END:DAYLIGHT
BEGIN:STANDARD
TZOFFSETFROM:+0200
TZOFFSETTO:+0100
TZNAME:CET
DTSTART:20241027T010000
END:STANDARD
BEGIN:DAYLIGHT
TZOFFSETFROM:+0100
TZOFFSETTO:+0200
TZNAME:CEST
DTSTART:20250330T010000
END:DAYLIGHT
BEGIN:STANDARD
TZOFFSETFROM:+0200
TZOFFSETTO:+0100
TZNAME:CET
DTSTART:20251026T010000
END:STANDARD
BEGIN:DAYLIGHT
TZOFFSETFROM:+0100
TZOFFSETTO:+0200
TZNAME:CEST
DTSTART:20260329T010000
END:DAYLIGHT
BEGIN:STANDARD
TZOFFSETFROM:+0200
TZOFFSETTO:+0100
TZNAME:CET
DTSTART:20261025T010000
END:STANDARD
BEGIN:DAYLIGHT
TZOFFSETFROM:+0100
TZOFFSETTO:+0200
TZNAME:CEST
DTSTART:20270328T010000
END:DAYLIGHT
BEGIN:STANDARD
TZOFFSETFROM:+0200
TZOFFSETTO:+0100
TZNAME:CET
DTSTART:20271031T010000
END:STANDARD
BEGIN:DAYLIGHT
TZOFFSETFROM:+0100
TZOFFSETTO:+0200
TZNAME:CEST
DTSTART:20280326T010000
END:DAYLIGHT
BEGIN:STANDARD
TZOFFSETFROM:+0200
TZOFFSETTO:+0100
TZNAME:CET
DTSTART:20281029T010000
END:STANDARD
END:VTIMEZONE
BEGIN:VEVENT
DTSTART;VALUE=DATE:20250106
DTEND;VALUE=DATE:20270107
DTSTAMP:20260421T191111
CREATED:20250103T101815Z
LAST-MODIFIED:20250713T172127Z
UID:10014206-1736121600-1799279999@wannseekalender.de
SUMMARY:Angebote der JFE Wannsee
DESCRIPTION:ÖFFNUNGSZEITEN:\nMontag: 13:00 – 20:00 Uhr\nDienstag: 13:00 – 20:00 Uhr\nMittwoch: 14:00 – 20:00 Uhr (Nur Gruppenangebote)\nDonnerstag: 13:00 – 20:00 Uhr\nFreitag: 13:00 – 20:00 Uhr\nSamstag: 11:00 – 13:00 Uhr (Nur Gruppenangebote)\nSonntag: 15:00 – 18:00 Uhr\nAngebote\nTöpfern\nDienstags 14:45 – 16:15 oder 16:30 bis 18:00 mit Clara \nDonnerstags 15:00 – 16:30 oder 17:00 – 18:30 mit Ronja \nFreitags 15:00 – 16:00 oder 16:00 – 17:00 oder 17:00 -18:00 mit Sabine \nJeden 1.Samstag im Monat – Familientöpfern (Eltern/Kind Angebot)  11:00 – 13:00 mit Sabine \nMusik\nGitarre / Flöte / Geige / E-Piano \nMittwoch 14:00 – 19:00 Uhr mit Heiko (Gitarre\, Flöte) \nMittwoch 16:00 – 18:00 Uhr mit Miro (Geige) \nDonnerstag 17:00 – 19:00 Uhr mit Benny (E-Bass\, Ukulele\, E-Gitarre\, E-Piano\, Gesang\, Band-Coaching)) \nTheater\nDonnerstag 16:00 – 18:00 Uhr mit Sabina \nSport\nDienstag  16:15 – 17:15  Zirkel-Training mit Chris \nDonnerstag 15:00 – 16:30 Tischtennis mit Ingo \nSaisonbedingt (April bis Oktober) steht uns die Mehrzwecksportanlage in der Chausseestr.  Dienstags und Freitags ab 14:00 Uhr zur Verfügung. \nFreitags 15:00 – 16:30  Kicken im Kiez mit Ingo \nSchlagzeug\nMontags 14:00 – 18:00 Uhr mit Tom \nDienstags 14:00 – 17:00 Uhr mit Lars \nDonnerstags 13:00 – 17:00 Uhr mit Benny \nFreitags 14:00 – 17:00 Uhr mit Tom
URL:https://wannseekalender.de/event/angebote-der-jfe-wannsee/
LOCATION:JFE Jugendfreizeiteinrichtung Wannsee\, Königstraße 42\, Berlin\, 14109\, Germany
CATEGORIES:Jugendliche,Kinder
ORGANIZER;CN="JFE Jugendfreizeiteinrichtung Wannsee":MAILTO:jfewannsee@steglitz-zehlendorf.de
END:VEVENT
BEGIN:VEVENT
DTSTART;VALUE=DATE:20250824
DTEND;VALUE=DATE:20250830
DTSTAMP:20260421T191111
CREATED:20250502T223148Z
LAST-MODIFIED:20250502T223148Z
UID:10021924-1755993600-1756511999@wannseekalender.de
SUMMARY:Öffentliche Verwaltung und die Verbrechen des Nationalsozialismus!
DESCRIPTION:Die Beschäftigten der öffentlichen Verwaltung in Deutschland waren maßgeblich an den Verbrechen des Nationalsozialismus beteiligt – ohne die Mitarbeit all der Arbeitnehmer*innen in staatlichen Ämtern und Dienststellen wären die faschistischen Verbrechen in diesem Ausmaß nicht möglich gewesen. \nAls Gewerkschaft\, die auch für den öffentlichen Dienst zuständig ist\, nimmt sich ver.di dieser Zusammenhänge an: In dem Seminar wirst Du tiefere Einblicke in die Geschichte und die Traditionen der öffentlichen Verwaltung erhalten und die Gelegenheit zur Auseinandersetzung darüber haben\, wie die Konsequenzen für die heutige Zeit und die Zukunft aussehen sollten. \nDie Veranstaltung ist eine Kooperation mit dem Haus der Wannsee- Konferenz. Die Bildungs- und Gedenkstätte befindet sich unweit des ver.di-Bildungszentrums. Historiker*innen des Hauses unterstützen uns bei der Durchführung des Seminars. \n  \nZielgruppen: \n\niANi\n\nFreistellungsgrundlage: \n\nSUi\nTVi\nBUi\n\n§ 7b SGB II i.V.m. ErrV
URL:https://wannseekalender.de/event/oeffentliche-verwaltung-und-die-verbrechen-des-nationalsozialismus/
LOCATION:ver.di Bildungs- und Begegnungszentrum Clara Sahlberg\, Koblanckstr. 10\, Berlin\, 14109
CATEGORIES:Bildung
ORGANIZER;CN="Verdi Bildungs- und Begegnungsst%C3%A4tte":MAILTO:biz.berlin@verdi.de
END:VEVENT
BEGIN:VEVENT
DTSTART;TZID=Europe/Berlin:20250827T150000
DTEND;TZID=Europe/Berlin:20250827T160000
DTSTAMP:20260421T191111
CREATED:20241126T082050Z
LAST-MODIFIED:20241229T201758Z
UID:10003716-1756306800-1756310400@wannseekalender.de
SUMMARY:Rückengymnastik mit Jana
DESCRIPTION:Wöchentliche Rückengymnastik\, 2 Gruppen. Weitere Informationen: https://www.treffpunkt-im-besten-alter.de/wannsee/
URL:https://wannseekalender.de/event/rueckengymnastik-mit-jana/2025-08-27/
LOCATION:Treffpunkt Im besten Alter\, Königstraße 25-27\, Berlin\, 14109\, Germany
CATEGORIES:Sport
ORGANIZER;CN="Treffpunkt Im besten Alter":MAILTO:treffpunkt.wannsee@gmx.de
END:VEVENT
BEGIN:VEVENT
DTSTART;TZID=Europe/Berlin:20250827T150000
DTEND;TZID=Europe/Berlin:20250827T170000
DTSTAMP:20260421T191111
CREATED:20250125T184659Z
LAST-MODIFIED:20250125T185244Z
UID:10015918-1756306800-1756314000@wannseekalender.de
SUMMARY:Töpferkurse für Kinder und Jugendliche
DESCRIPTION:Kinder und Jugendliche können sich hier am Arbeiten mit Ton ausprobieren und ihrer Fantasie beim Herstellen eigener kleiner Kunstwerke freien Lauf lassen. \nBeginn: 15 und 16 Uhr
URL:https://wannseekalender.de/event/toepferkurse-fuer-kinder-und-jugendliche/2025-08-27/
LOCATION:JFE Jugendfreizeiteinrichtung Wannsee\, Königstraße 42\, Berlin\, 14109\, Germany
CATEGORIES:Kinder
ORGANIZER;CN="%C3%96kumenisches Willkommen Wannsee (%C3%96WW)":MAILTO:oeww@kirchengemeinde-wannsee.de
END:VEVENT
BEGIN:VEVENT
DTSTART;TZID=Europe/Berlin:20250827T150000
DTEND;TZID=Europe/Berlin:20250827T170000
DTSTAMP:20260421T191111
CREATED:20250626T193045Z
LAST-MODIFIED:20250626T193359Z
UID:10025594-1756306800-1756314000@wannseekalender.de
SUMMARY:Familien-Café
DESCRIPTION:Herzliche Einladung zum Familiencafé! \nWir laden alle Familien herzlich ein\, bei einer Tasse Kaffee\, kleinen Snacks und einer liebevoll gestalteten Spielecke anzukommen\, sich wohlzufühlen und in den Austausch zu kommen. Das Familiencafé ist ein Ort der Begegnung\, des Miteinanders und der Vernetzung für gleichgesinnte Eltern und Kinder.
URL:https://wannseekalender.de/event/familien-cafe/2025-08-27/
LOCATION:JFE Jugendfreizeiteinrichtung Wannsee\, Königstraße 42\, Berlin\, 14109\, Germany
CATEGORIES:Community,Familie,Kinder
ATTACH;FMTTYPE=image/png:https://wannseekalender.de/wp-content/uploads/2025/06/image0.png
ORGANIZER;CN="JFE Jugendfreizeiteinrichtung Wannsee":MAILTO:jfewannsee@steglitz-zehlendorf.de
END:VEVENT
BEGIN:VEVENT
DTSTART;TZID=Europe/Berlin:20250827T150000
DTEND;TZID=Europe/Berlin:20250827T173000
DTSTAMP:20260421T191111
CREATED:20241207T063341Z
LAST-MODIFIED:20241207T063440Z
UID:10008241-1756306800-1756315800@wannseekalender.de
SUMMARY:Sprach- und Begegnungscafé
DESCRIPTION:In unserem Café haben alle Besucher Zeit\, sich bei Kaffee\, Tee und Kuchen auszutauschen. \nHier ist die Gelegenheit\, die Kenntnisse der deutschen Sprache mit Themen des Alltags zu üben. Wenn es Fragen zu Anträgen\, Wohnung\, Arbeit und ähnlichen Themen gibt\, helfen unsere Ehrenamtlichen gerne. \nAnmeldung: nicht erforderlich
URL:https://wannseekalender.de/event/sprach-und-begegnungscafe/2025-08-27/
LOCATION:JFE Jugendfreizeiteinrichtung Wannsee\, Königstraße 42\, Berlin\, 14109\, Germany
CATEGORIES:Community
ORGANIZER;CN="%C3%96kumenisches Willkommen Wannsee (%C3%96WW)":MAILTO:oeww@kirchengemeinde-wannsee.de
END:VEVENT
BEGIN:VEVENT
DTSTART;TZID=Europe/Berlin:20250827T150000
DTEND;TZID=Europe/Berlin:20250827T180000
DTSTAMP:20260421T191111
CREATED:20241126T082042Z
LAST-MODIFIED:20241208T130053Z
UID:10005810-1756306800-1756317600@wannseekalender.de
SUMMARY:Mittwochsgruppe
DESCRIPTION:Kaffee und Kuchen. Anschließend Canasterspiel. \nWeitere Informationen:\nDiakonin Indra Wiesinger 0151/20221966 oder Gemeindebüro 030/8051650 \nhttps://wannseebote.ekbo.de/wir/kontakte
URL:https://wannseekalender.de/event/mittwochsgruppe/2025-08-27/
LOCATION:Altes Schulhaus\, Wilhelmplatz 1\, Berlin\, 14109\, Germany
CATEGORIES:Community
ORGANIZER;CN="Diakonie Evangelische Kirchengemeinde Berlin-Wannsee":MAILTO:diakonin@kirchengemeinde-wannsee.de
END:VEVENT
BEGIN:VEVENT
DTSTART;TZID=Europe/Berlin:20250827T160000
DTEND;TZID=Europe/Berlin:20250827T183000
DTSTAMP:20260421T191111
CREATED:20250125T185121Z
LAST-MODIFIED:20250125T185121Z
UID:10015657-1756310400-1756319400@wannseekalender.de
SUMMARY:Musikunterricht für Kinder und Jugendliche
DESCRIPTION:Der kostenlose Unterricht für ist ein offenes Angebot für Kinder und Jugendliche aller Kulturen. Hier können sie erste Erfahrungen mit den Instrumenten Gitarre\, Violine und E-Piano machen\, oder ihr vorhandenes Können erweitern. \nBeginn: 16:00/16:30/17:00/17:30 Uhr \nDauer: 1 Stunde \nInstrumente: Gitarre\, Kurs bei Heiko\nVioline\, Kurs bei Myroslav\nE-Piano\, Kurs bei Anna
URL:https://wannseekalender.de/event/musikunterricht-fuer-kinder-und-jugendliche/2025-08-27/
LOCATION:JFE Jugendfreizeiteinrichtung Wannsee\, Königstraße 42\, Berlin\, 14109\, Germany
ORGANIZER;CN="%C3%96kumenisches Willkommen Wannsee (%C3%96WW)":MAILTO:oeww@kirchengemeinde-wannsee.de
END:VEVENT
BEGIN:VEVENT
DTSTART;TZID=Europe/Berlin:20250827T180000
DTEND;TZID=Europe/Berlin:20250827T193000
DTSTAMP:20260421T191111
CREATED:20250215T223620Z
LAST-MODIFIED:20250215T223656Z
UID:10017160-1756317600-1756323000@wannseekalender.de
SUMMARY:Methodisches Stegreif-Theater
DESCRIPTION:Leichtigkeit leben !\n„Jeder Mensch ist ein göttlicher Paradiesvogel. Die Meisten wissen es nur noch nicht…“\nEinmal völlig loslassen\, raus aus den eingefahrenen immer gleichen „Hamsterrad“-Verhaltensmustern.\nEin bischen „ver-rückt“ spielen\, in diverse Rollen schlüpfen\, und dadurch andere Perspektiven und Lösungen erkennen.\nSich spielerisch spontanen Entscheidungen nähern\, und so das Ur-Vertrauen in die Kraft der eigenen Intuition zurückgewinnen. \nDurch Lachen und Überzeichnung den Alltagsdramen mit Humor und Leichtigkeit begegnen und ihnen so den blockierenden Ernst nehmen. Ein freudvoller Sprung hinein in den persönlichen „Flow „! \nAus langjähriger Erfahrung der Theaterarbeit kann ich berichten:\nWer einmal über den Tellerrand gesprungen ist\, möchte nicht mehr zurück in die Einheitssuppe…:-)\nAnmeldung zur kostenlosen Schnupperstunde ist allzeit möglich!\nIch freue mich über jeden neuen „Paradiesvogel“ \nGruppengröße: maximal 10 Teilnehmer\nMtl. Kursgebühr: 65\,- Euro
URL:https://wannseekalender.de/event/methodisches-stegreif-theater/2025-08-27/
LOCATION:JFE Jugendfreizeiteinrichtung Wannsee\, Königstraße 42\, Berlin\, 14109\, Germany
ORGANIZER;CN="Schauspielclub Wannsee":MAILTO:schauspielclub.wannsee@gmail.com
END:VEVENT
BEGIN:VEVENT
DTSTART;TZID=Europe/Berlin:20250827T183000
DTEND;TZID=Europe/Berlin:20250827T193000
DTSTAMP:20260421T191111
CREATED:20250610T213947Z
LAST-MODIFIED:20250612T161007Z
UID:10025002-1756319400-1756323000@wannseekalender.de
SUMMARY:Outdoor Fitness: Workout for Friends
DESCRIPTION:Keinen Antrieb\, alleine Sport zu machen? Lust auf Bewegung und Körperkräftigung an der frischen Luft\, die einfach in die Arbeitswoche zu integrieren ist? \nGemeinsam überwinden wir den Schweinehund! In einer kleinen Gruppe trainieren wir bei (fast) jedem Wetter in unterschiedlichen Formaten (Tabata\, Zirkel\, Drop Down\, EMOM…) für mehr \nAbwechslung und Motivation. Unterschiedliche Kleingeräte (Kurzhanteln\, Theraband\, Springseil…) kommen zum Einsatz. Dauer des Trainings ca. 60 min inkl. Warm up und Cool down. \nIch verfüge über eine Group Fitness B-Lizenz und kann das Training an unterschiedliche Fitness-Level anpassen. \nDer Kurs ist flexibel – keinerlei Abo oder Mitgliedschaft notwendig. Einfach den jeweiligen Termin bei mir anmelden\, vorbeikommen und mit uns schwitzen! \nIch freue mich auf weitere Nachbarn\, die mitmachen möchten. Bei Bedarf können wir weitere Termine am Wochenende finden. \nKosten: 10 Euro\nSchnupperstunde 5 € \nNur mit Voranmeldung!
URL:https://wannseekalender.de/event/workout-for-friends/2025-08-27/
LOCATION:Haupttor Sportplatz\, Chausseestraße 29-31\, Berin\, 14109\, Germany
CATEGORIES:Sport
ORGANIZER;CN="Gerburg N%C3%BCrnberg-Kurz":MAILTO:gerburg@nuernberg-wuthenow.de
END:VEVENT
BEGIN:VEVENT
DTSTART;TZID=Europe/Berlin:20250827T193000
DTEND;TZID=Europe/Berlin:20250827T210000
DTSTAMP:20260421T191111
CREATED:20250729T142021Z
LAST-MODIFIED:20250729T231053Z
UID:10027566-1756323000-1756328400@wannseekalender.de
SUMMARY:Daniela Dröscher: Junge Frau mit Katze
DESCRIPTION:Buchpremiere: Daniela Dröscher: Junge Frau mit Katze \nDaniela Dröscher im Gespräch mit Wiebke Porombka \nNach dem großen Erfolg von »Lügen über meine Mutter« (Kiepenheuer & Witsch\, 2022) stellt Daniela Dröscher heute erstmals ihren neuen Roman »Junge Frau mit Katze« (Kiepenheuer & Witsch\, 2025) vor. Der Körper der Erzählerin Ela spielt nun die Hauptrolle im Text; Elas späte Selbstfindung und Selbstermächtigung sind meisterhaft konstruiert\, psychologisch mitreißend und hinreißend komisch. \nIm Anschluss an Lesung und Gespräch lädt der Verlag zu einem kleinen Empfang.
URL:https://wannseekalender.de/event/daniela-droescher-junge-frau-mit-katze/
LOCATION:Literarisches Colloquium Berlin (LCB)\, Am Sandwerder 5\, Berlin\, 14109\, Germany
CATEGORIES:Bildung,Buchpräsentation,Lesung
ATTACH;FMTTYPE=image/png:https://wannseekalender.de/wp-content/uploads/2025/07/IMG_7979.png
ORGANIZER;CN="Literarisches Colloquium Berlin e. V.":MAILTO:mail@lcb.de
END:VEVENT
BEGIN:VEVENT
DTSTART;TZID=Europe/Berlin:20250827T193000
DTEND;TZID=Europe/Berlin:20250827T213000
DTSTAMP:20260421T191111
CREATED:20241208T143905Z
LAST-MODIFIED:20241208T144413Z
UID:10008509-1756323000-1756330200@wannseekalender.de
SUMMARY:Kunstkurs
DESCRIPTION:Kunstkurs für Erwachsene und Jugendliche im Atelier von der Künstlerin Simone Westphal Hier kannst du unterschiedliche Techniken kennenlernen oder vertiefen: ob zeichen\, malen mit Stiften\, Kohle\, mit Aquarell oder Acryl\, filzen oder drucken. Alles ist möglich. Ich begleite dich bei deinen kreativen Projekten und gebe Impulse und Anleitung damit du deine Idee umsetzen kannst. Jeden Mittwochabend von 19.30 Uhr bis 21.30 Uhr (außer in den Ferien)\nAnmeldung unter 01703290894 \n  \nDer kurs kostet pro Mittwochabend 30 Euro.
URL:https://wannseekalender.de/event/kunstkurs/2025-08-27/
LOCATION:Atelier Simone Westphal\, Zum Heckeshorn 33\, Haus 2\, Berlin\, Berlin\, 14109\, Germany
CATEGORIES:Bildung,DIY
ATTACH;FMTTYPE=image/jpeg:https://wannseekalender.de/wp-content/uploads/2024/12/Der-Sprung-2014-klein-Ruby-Westphal-scaled.jpg
ORGANIZER;CN="Simone Westphal Ku%CC%88nstlerin":MAILTO:Simone@Simone-Westphal.de
END:VEVENT
END:VCALENDAR