BEGIN:VCALENDAR
VERSION:2.0
PRODID:-//Wannsee Kalender - ECPv6.15.20//NONSGML v1.0//EN
CALSCALE:GREGORIAN
METHOD:PUBLISH
X-ORIGINAL-URL:https://wannseekalender.de
X-WR-CALDESC:Veranstaltungen für Wannsee Kalender
REFRESH-INTERVAL;VALUE=DURATION:PT1H
X-Robots-Tag:noindex
X-PUBLISHED-TTL:PT1H
BEGIN:VTIMEZONE
TZID:Europe/Berlin
BEGIN:DAYLIGHT
TZOFFSETFROM:+0100
TZOFFSETTO:+0200
TZNAME:CEST
DTSTART:20240331T010000
END:DAYLIGHT
BEGIN:STANDARD
TZOFFSETFROM:+0200
TZOFFSETTO:+0100
TZNAME:CET
DTSTART:20241027T010000
END:STANDARD
BEGIN:DAYLIGHT
TZOFFSETFROM:+0100
TZOFFSETTO:+0200
TZNAME:CEST
DTSTART:20250330T010000
END:DAYLIGHT
BEGIN:STANDARD
TZOFFSETFROM:+0200
TZOFFSETTO:+0100
TZNAME:CET
DTSTART:20251026T010000
END:STANDARD
BEGIN:DAYLIGHT
TZOFFSETFROM:+0100
TZOFFSETTO:+0200
TZNAME:CEST
DTSTART:20260329T010000
END:DAYLIGHT
BEGIN:STANDARD
TZOFFSETFROM:+0200
TZOFFSETTO:+0100
TZNAME:CET
DTSTART:20261025T010000
END:STANDARD
BEGIN:DAYLIGHT
TZOFFSETFROM:+0100
TZOFFSETTO:+0200
TZNAME:CEST
DTSTART:20270328T010000
END:DAYLIGHT
BEGIN:STANDARD
TZOFFSETFROM:+0200
TZOFFSETTO:+0100
TZNAME:CET
DTSTART:20271031T010000
END:STANDARD
BEGIN:DAYLIGHT
TZOFFSETFROM:+0100
TZOFFSETTO:+0200
TZNAME:CEST
DTSTART:20280326T010000
END:DAYLIGHT
BEGIN:STANDARD
TZOFFSETFROM:+0200
TZOFFSETTO:+0100
TZNAME:CET
DTSTART:20281029T010000
END:STANDARD
END:VTIMEZONE
BEGIN:VEVENT
DTSTART;VALUE=DATE:20250106
DTEND;VALUE=DATE:20270107
DTSTAMP:20260421T121551
CREATED:20250103T101815Z
LAST-MODIFIED:20250713T172127Z
UID:10014206-1736121600-1799279999@wannseekalender.de
SUMMARY:Angebote der JFE Wannsee
DESCRIPTION:ÖFFNUNGSZEITEN:\nMontag: 13:00 – 20:00 Uhr\nDienstag: 13:00 – 20:00 Uhr\nMittwoch: 14:00 – 20:00 Uhr (Nur Gruppenangebote)\nDonnerstag: 13:00 – 20:00 Uhr\nFreitag: 13:00 – 20:00 Uhr\nSamstag: 11:00 – 13:00 Uhr (Nur Gruppenangebote)\nSonntag: 15:00 – 18:00 Uhr\nAngebote\nTöpfern\nDienstags 14:45 – 16:15 oder 16:30 bis 18:00 mit Clara \nDonnerstags 15:00 – 16:30 oder 17:00 – 18:30 mit Ronja \nFreitags 15:00 – 16:00 oder 16:00 – 17:00 oder 17:00 -18:00 mit Sabine \nJeden 1.Samstag im Monat – Familientöpfern (Eltern/Kind Angebot)  11:00 – 13:00 mit Sabine \nMusik\nGitarre / Flöte / Geige / E-Piano \nMittwoch 14:00 – 19:00 Uhr mit Heiko (Gitarre\, Flöte) \nMittwoch 16:00 – 18:00 Uhr mit Miro (Geige) \nDonnerstag 17:00 – 19:00 Uhr mit Benny (E-Bass\, Ukulele\, E-Gitarre\, E-Piano\, Gesang\, Band-Coaching)) \nTheater\nDonnerstag 16:00 – 18:00 Uhr mit Sabina \nSport\nDienstag  16:15 – 17:15  Zirkel-Training mit Chris \nDonnerstag 15:00 – 16:30 Tischtennis mit Ingo \nSaisonbedingt (April bis Oktober) steht uns die Mehrzwecksportanlage in der Chausseestr.  Dienstags und Freitags ab 14:00 Uhr zur Verfügung. \nFreitags 15:00 – 16:30  Kicken im Kiez mit Ingo \nSchlagzeug\nMontags 14:00 – 18:00 Uhr mit Tom \nDienstags 14:00 – 17:00 Uhr mit Lars \nDonnerstags 13:00 – 17:00 Uhr mit Benny \nFreitags 14:00 – 17:00 Uhr mit Tom
URL:https://wannseekalender.de/event/angebote-der-jfe-wannsee/
LOCATION:JFE Jugendfreizeiteinrichtung Wannsee\, Königstraße 42\, Berlin\, 14109\, Germany
CATEGORIES:Jugendliche,Kinder
ORGANIZER;CN="JFE Jugendfreizeiteinrichtung Wannsee":MAILTO:jfewannsee@steglitz-zehlendorf.de
END:VEVENT
BEGIN:VEVENT
DTSTART;VALUE=DATE:20250824
DTEND;VALUE=DATE:20250830
DTSTAMP:20260421T121551
CREATED:20250502T223148Z
LAST-MODIFIED:20250502T223148Z
UID:10021924-1755993600-1756511999@wannseekalender.de
SUMMARY:Öffentliche Verwaltung und die Verbrechen des Nationalsozialismus!
DESCRIPTION:Die Beschäftigten der öffentlichen Verwaltung in Deutschland waren maßgeblich an den Verbrechen des Nationalsozialismus beteiligt – ohne die Mitarbeit all der Arbeitnehmer*innen in staatlichen Ämtern und Dienststellen wären die faschistischen Verbrechen in diesem Ausmaß nicht möglich gewesen. \nAls Gewerkschaft\, die auch für den öffentlichen Dienst zuständig ist\, nimmt sich ver.di dieser Zusammenhänge an: In dem Seminar wirst Du tiefere Einblicke in die Geschichte und die Traditionen der öffentlichen Verwaltung erhalten und die Gelegenheit zur Auseinandersetzung darüber haben\, wie die Konsequenzen für die heutige Zeit und die Zukunft aussehen sollten. \nDie Veranstaltung ist eine Kooperation mit dem Haus der Wannsee- Konferenz. Die Bildungs- und Gedenkstätte befindet sich unweit des ver.di-Bildungszentrums. Historiker*innen des Hauses unterstützen uns bei der Durchführung des Seminars. \n  \nZielgruppen: \n\niANi\n\nFreistellungsgrundlage: \n\nSUi\nTVi\nBUi\n\n§ 7b SGB II i.V.m. ErrV
URL:https://wannseekalender.de/event/oeffentliche-verwaltung-und-die-verbrechen-des-nationalsozialismus/
LOCATION:ver.di Bildungs- und Begegnungszentrum Clara Sahlberg\, Koblanckstr. 10\, Berlin\, 14109
CATEGORIES:Bildung
ORGANIZER;CN="Verdi Bildungs- und Begegnungsst%C3%A4tte":MAILTO:biz.berlin@verdi.de
END:VEVENT
BEGIN:VEVENT
DTSTART;TZID=Europe/Berlin:20250826T083000
DTEND;TZID=Europe/Berlin:20250826T093000
DTSTAMP:20260421T121552
CREATED:20241128T020609Z
LAST-MODIFIED:20241228T174326Z
UID:10007235-1756197000-1756200600@wannseekalender.de
SUMMARY:Heilige Messe
DESCRIPTION:Anschließend gemeinsames Frühstück.
URL:https://wannseekalender.de/event/heilige-messe-2/2025-08-26/
LOCATION:Katholisches Gemeindehaus St. Michael\, Hohenzollernstraße 28\, Berlin\, 14109
CATEGORIES:Gottesdienst,Kirche
ORGANIZER;CN="Katholische Pfarrei Johannes Bosco %E2%80%93 Berliner S%C3%BCdwesten":MAILTO:pfarrbuero@johannesboscoberlin.de
END:VEVENT
BEGIN:VEVENT
DTSTART;TZID=Europe/Berlin:20250826T090000
DTEND;TZID=Europe/Berlin:20250826T103000
DTSTAMP:20260421T121552
CREATED:20241126T082044Z
LAST-MODIFIED:20241130T220730Z
UID:10002668-1756198800-1756204200@wannseekalender.de
SUMMARY:Qi Gong mit Brigitte
DESCRIPTION:Wöchentliches Qi Gong\, 2 Gruppen. Weitere Informationen: https://www.treffpunkt-im-besten-alter.de/wannsee/
URL:https://wannseekalender.de/event/qi-gong-mit-brigitte/2025-08-26/
LOCATION:Treffpunkt Im besten Alter\, Königstraße 25-27\, Berlin\, 14109\, Germany
CATEGORIES:Sport
ORGANIZER;CN="Treffpunkt Im besten Alter":MAILTO:treffpunkt.wannsee@gmx.de
END:VEVENT
BEGIN:VEVENT
DTSTART;TZID=Europe/Berlin:20250826T143000
DTEND;TZID=Europe/Berlin:20250826T153000
DTSTAMP:20260421T121552
CREATED:20241126T082051Z
LAST-MODIFIED:20241130T220838Z
UID:10003192-1756218600-1756222200@wannseekalender.de
SUMMARY:Taijiquan mit Julian
DESCRIPTION:Wöchentliches Taijiquan. Weitere Informationen: https://www.treffpunkt-im-besten-alter.de/wannsee/
URL:https://wannseekalender.de/event/taijiquan-mit-julian/2025-08-26/
LOCATION:Treffpunkt Im besten Alter\, Königstraße 25-27\, Berlin\, 14109\, Germany
CATEGORIES:Sport
ORGANIZER;CN="Treffpunkt Im besten Alter":MAILTO:treffpunkt.wannsee@gmx.de
END:VEVENT
BEGIN:VEVENT
DTSTART;TZID=Europe/Berlin:20250826T160000
DTEND;TZID=Europe/Berlin:20250826T180000
DTSTAMP:20260421T121552
CREATED:20241217T213735Z
LAST-MODIFIED:20241217T213736Z
UID:10012284-1756224000-1756231200@wannseekalender.de
SUMMARY:Kunstkurse für Kinder
DESCRIPTION:Kunstkurs für Kinder ab 6 Jahren im Atelier der Künstlerin Simone Westphal \nIn meinem Atelier in Wannsee können Kinder in einer kleinen Gruppe unterschiedliche kreative Techniken erlernen. zeichnen\, malen\, drucken\, filzen und vieles mehr. Jedes Kind kann seiner Fantasie freien Lauf lassen und ich gebe Impulse und Anleitung um eine Idee umszusetzen. Jeden Montag- oder Dienstagnachmittag\, 60 Minuten\, Anmeldung unter 01703290894 \n  \nDie Kosten betragen 80 Euro im Monat. \nDie Kinderkurse finden montags von 16.30 Uhr bis 17.30 statt und von 17.30 bis 18.30 Uhr ( es gibt also 2 Kurse montags. Und dienstags finden die Kurse von 16 bis 17 und von 17 bis 18 Uhr statt ( also auch zwei Kurse ) ein Kurs dauert also 60 Minuten . \n 
URL:https://wannseekalender.de/event/kunstkurse-fuer-kinder-2/2025-08-26/
LOCATION:Atelier Simone Westphal\, Zum Heckeshorn 33\, Haus 2\, Berlin\, Berlin\, 14109\, Germany
CATEGORIES:Bildung,DIY,Kinder
ATTACH;FMTTYPE=image/jpeg:https://wannseekalender.de/wp-content/uploads/2024/12/Rise-and-Fall-III-Ruby-Westphal-scaled.jpg
ORGANIZER;CN="Simone Westphal Ku%CC%88nstlerin":MAILTO:Simone@Simone-Westphal.de
END:VEVENT
BEGIN:VEVENT
DTSTART;TZID=Europe/Berlin:20250826T173000
DTEND;TZID=Europe/Berlin:20250826T190000
DTSTAMP:20260421T121552
CREATED:20250731T210623Z
LAST-MODIFIED:20250731T210623Z
UID:10005549-1756229400-1756234800@wannseekalender.de
SUMMARY:Fahrbibliothek Conradstraße
DESCRIPTION:
URL:https://wannseekalender.de/event/fahrbibliothek-3-3/
LOCATION:Conradstraße\, Conradstraße Ecke Straße zum Löwen\, Berlin\, 14109\, Germany
CATEGORIES:Community,Wissen
ATTACH;FMTTYPE=image/png:https://wannseekalender.de/wp-content/uploads/2024/11/AB1811E7-B5F0-40B5-93FC-09C24660164F.png
ORGANIZER;CN="Fahrbibliothek":MAILTO:fahrbibliothek@ba-sz.berlin.de
END:VEVENT
BEGIN:VEVENT
DTSTART;TZID=Europe/Berlin:20250826T193000
DTEND;TZID=Europe/Berlin:20250826T193000
DTSTAMP:20260421T121552
CREATED:20250729T141532Z
LAST-MODIFIED:20250729T150512Z
UID:10027570-1756236600-1756236600@wannseekalender.de
SUMMARY:Portolan & endlich regen
DESCRIPTION:Daniela Danz und Samuel Kramer\nim Gespräch mit Nadja Küchenmeister\nOpen air auf der Seebühne\n \nIm August laden wir zwei Dichter:innen mit ihren aktuellen Bänden ans Wannseeufer ein: Daniela Danz (»Portolan«\, Wallstein\, 2025) und Samuel Kramer (»endlich regen«\, Urs Engeler\, 2025) setzen sich auf unterschiedliche Weise mit globalen Verflechtungen\, ökologischen Fragen und gesellschaftlichen Brüchen auseinander. Daniela Danz lenkt den Blick auf das weltumspannende Netz der Schifffahrt. Portolan\, so nennt man die alten Seekarten\, die die Wege über das Meer ins Zentrum rücken. Ihre Texte verbinden Gegenwart mit Antike\, Logistik mit Mystik und fragen nach den Folgen globaler Warenströme für die Natur. Samuel Kramer formuliert eine politische Lyrik\, die aus multiplen Krisenerfahrungen wie Krieg und Klimawandel neue Sprech- und Denkbewegungen entwickelt und als Loops mit offenen Enden immer weiterdreht. \nDurch den Abend und das Gespräch führt die Berliner Lyrikerin Nadja Küchenmeister. \nBei schönem Wetter findet die Lesung im Freien statt.
URL:https://wannseekalender.de/event/portolanendlichregen/
LOCATION:Literarisches Colloquium Berlin (LCB)\, Am Sandwerder 5\, Berlin\, 14109\, Germany
CATEGORIES:Bildung,Buchpräsentation,Kunst & Kultur
ORGANIZER;CN="Literarisches Colloquium Berlin e. V.":MAILTO:mail@lcb.de
END:VEVENT
END:VCALENDAR