BEGIN:VCALENDAR
VERSION:2.0
PRODID:-//Wannsee Kalender - ECPv6.15.20//NONSGML v1.0//EN
CALSCALE:GREGORIAN
METHOD:PUBLISH
X-WR-CALNAME:Wannsee Kalender
X-ORIGINAL-URL:https://wannseekalender.de
X-WR-CALDESC:Veranstaltungen für Wannsee Kalender
REFRESH-INTERVAL;VALUE=DURATION:PT1H
X-Robots-Tag:noindex
X-PUBLISHED-TTL:PT1H
BEGIN:VTIMEZONE
TZID:Europe/Berlin
BEGIN:DAYLIGHT
TZOFFSETFROM:+0100
TZOFFSETTO:+0200
TZNAME:CEST
DTSTART:20240331T010000
END:DAYLIGHT
BEGIN:STANDARD
TZOFFSETFROM:+0200
TZOFFSETTO:+0100
TZNAME:CET
DTSTART:20241027T010000
END:STANDARD
BEGIN:DAYLIGHT
TZOFFSETFROM:+0100
TZOFFSETTO:+0200
TZNAME:CEST
DTSTART:20250330T010000
END:DAYLIGHT
BEGIN:STANDARD
TZOFFSETFROM:+0200
TZOFFSETTO:+0100
TZNAME:CET
DTSTART:20251026T010000
END:STANDARD
BEGIN:DAYLIGHT
TZOFFSETFROM:+0100
TZOFFSETTO:+0200
TZNAME:CEST
DTSTART:20260329T010000
END:DAYLIGHT
BEGIN:STANDARD
TZOFFSETFROM:+0200
TZOFFSETTO:+0100
TZNAME:CET
DTSTART:20261025T010000
END:STANDARD
BEGIN:DAYLIGHT
TZOFFSETFROM:+0100
TZOFFSETTO:+0200
TZNAME:CEST
DTSTART:20270328T010000
END:DAYLIGHT
BEGIN:STANDARD
TZOFFSETFROM:+0200
TZOFFSETTO:+0100
TZNAME:CET
DTSTART:20271031T010000
END:STANDARD
BEGIN:DAYLIGHT
TZOFFSETFROM:+0100
TZOFFSETTO:+0200
TZNAME:CEST
DTSTART:20280326T010000
END:DAYLIGHT
BEGIN:STANDARD
TZOFFSETFROM:+0200
TZOFFSETTO:+0100
TZNAME:CET
DTSTART:20281029T010000
END:STANDARD
END:VTIMEZONE
BEGIN:VEVENT
DTSTART;VALUE=DATE:20250106
DTEND;VALUE=DATE:20270107
DTSTAMP:20260421T174506
CREATED:20250103T101815Z
LAST-MODIFIED:20250713T172127Z
UID:10014206-1736121600-1799279999@wannseekalender.de
SUMMARY:Angebote der JFE Wannsee
DESCRIPTION:ÖFFNUNGSZEITEN:\nMontag: 13:00 – 20:00 Uhr\nDienstag: 13:00 – 20:00 Uhr\nMittwoch: 14:00 – 20:00 Uhr (Nur Gruppenangebote)\nDonnerstag: 13:00 – 20:00 Uhr\nFreitag: 13:00 – 20:00 Uhr\nSamstag: 11:00 – 13:00 Uhr (Nur Gruppenangebote)\nSonntag: 15:00 – 18:00 Uhr\nAngebote\nTöpfern\nDienstags 14:45 – 16:15 oder 16:30 bis 18:00 mit Clara \nDonnerstags 15:00 – 16:30 oder 17:00 – 18:30 mit Ronja \nFreitags 15:00 – 16:00 oder 16:00 – 17:00 oder 17:00 -18:00 mit Sabine \nJeden 1.Samstag im Monat – Familientöpfern (Eltern/Kind Angebot)  11:00 – 13:00 mit Sabine \nMusik\nGitarre / Flöte / Geige / E-Piano \nMittwoch 14:00 – 19:00 Uhr mit Heiko (Gitarre\, Flöte) \nMittwoch 16:00 – 18:00 Uhr mit Miro (Geige) \nDonnerstag 17:00 – 19:00 Uhr mit Benny (E-Bass\, Ukulele\, E-Gitarre\, E-Piano\, Gesang\, Band-Coaching)) \nTheater\nDonnerstag 16:00 – 18:00 Uhr mit Sabina \nSport\nDienstag  16:15 – 17:15  Zirkel-Training mit Chris \nDonnerstag 15:00 – 16:30 Tischtennis mit Ingo \nSaisonbedingt (April bis Oktober) steht uns die Mehrzwecksportanlage in der Chausseestr.  Dienstags und Freitags ab 14:00 Uhr zur Verfügung. \nFreitags 15:00 – 16:30  Kicken im Kiez mit Ingo \nSchlagzeug\nMontags 14:00 – 18:00 Uhr mit Tom \nDienstags 14:00 – 17:00 Uhr mit Lars \nDonnerstags 13:00 – 17:00 Uhr mit Benny \nFreitags 14:00 – 17:00 Uhr mit Tom
URL:https://wannseekalender.de/event/angebote-der-jfe-wannsee/
LOCATION:JFE Jugendfreizeiteinrichtung Wannsee\, Königstraße 42\, Berlin\, 14109\, Germany
CATEGORIES:Jugendliche,Kinder
ORGANIZER;CN="JFE Jugendfreizeiteinrichtung Wannsee":MAILTO:jfewannsee@steglitz-zehlendorf.de
END:VEVENT
BEGIN:VEVENT
DTSTART;VALUE=DATE:20250816
DTEND;VALUE=DATE:20250818
DTSTAMP:20260421T174506
CREATED:20241126T082013Z
LAST-MODIFIED:20250820T193053Z
UID:10001352-1755302400-1755475199@wannseekalender.de
SUMMARY:Führung: Haus der Wannsee-Konferenz
DESCRIPTION:Immer samstags und sonntags\, immer kostenfrei: Führungen durch unsere Dauerausstellung um 14 Uhr\, 15 Uhr\, 16 Uhr. \nCa. 45 Minuten\, ohne Anmeldung\, herzlich willkommen. Treffpunkt: Rezeption.
URL:https://wannseekalender.de/event/fuehrung-haus-der-wannseekonferenz/2025-08-16/
LOCATION:Haus der Wannsee-Konferenz\, Am Großen Wannsee 56-58\, Berlin\, 14109\, Germany
CATEGORIES:Bildung,Führung,Kunst & Kultur,Wissen
ORGANIZER;CN="Gedenk- und Bildungsst%C3%A4tte Haus der Wannsee-Konferenz":MAILTO:info@ghwk.de
END:VEVENT
BEGIN:VEVENT
DTSTART;VALUE=DATE:20250817
DTEND;VALUE=DATE:20250825
DTSTAMP:20260421T174506
CREATED:20250516T201244Z
LAST-MODIFIED:20250516T201244Z
UID:10022566-1755388800-1756079999@wannseekalender.de
SUMMARY:Creating Future – Deutsch-Israelischer Jugendaustausch 2025
DESCRIPTION:IM SOMMER 2025 ERWARTET DICH EINE SPANNENDE INTERNATIONALE JUGENDBEGEGNUNG: GEMEINSAM MIT 10 JUGENDLICHEN AUS HOLON (ISRAEL) UND 10 JUGENDLICHEN AUS BERLIN VERBRINGST DU EINE WOCHE IM WANNSEEFORUM – MIT KREATIVEN WORKSHOPS\, INTERKULTURELLEM AUSTAUSCH UND VIELEN GEMEINSAMEN AKTIVITÄTEN. ZUSAMMEN BESCHÄFTIGT IHR EUCH MIT DER ZUKUNFT\, ENTDECKT NEUE PERSPEKTIVEN UND ERLEBT EINE BESONDERE ZEIT MITEINANDER – DIREKT AM SEE. \n\n\nWas dich erwartet: \n\nkreative Workshops rund um die Themen Zukunft\, Erinnerung und Zusammenleben\ninspirierender Austausch über Herkunft\, Gegenwart und Zukunft\ngemeinsames Gestalten\, Diskutieren und Nachdenken\nFreizeit\, Ausflüge\, gutes Essen und viel Raum für Begegnung\nÜbernachtung im wannseeFORUM (Mehrbettzimmer mit eigenem Bad)\n\nWer kann teilnehmen?\nDu bist zwischen 14 und 17 Jahren alt und lebst in Berlin? Dann bist du herzlich eingeladen und eine Woche lang neue Freundschaften schließen und voneinander lernen.\nVorkenntnisse sind nicht erforderlich – Bring einfach Neugier und Lust auf interkulturellen Austausch mit! \nAusblick:\nIm Frühjahr 2026 wird eine gemeinsame Fahrt nach Israel stattfinden. \nKosten:\n150 € für beide Begegnungen (Berlin & Israel) inkl. Unterkunft\, Verpflegung und Programm\nWenn der Beitrag für dich oder deine Familie schwer zu stemmen ist\, sprich uns an – wir finden gemeinsam eine Lösung. \nInteresse?\nRuf uns an oder schreib uns eine kurze E-Mail mit deinen Kontaktdaten – wir melden uns bei dir. \nfuchs@wannseeforum.de \n030-8068090 \nAlternativ kannst du dich über diesen Link online anmelden. \nDas Seminar wird gefördert von ConAct und durch die \nSenatsverwaltung für Bildung\, Jugend und Familie
URL:https://wannseekalender.de/event/creating-future-deutsch-israelischer-jugendaustausch-2025/
LOCATION:Stiftung wannseeFORUM\, Hohenzollernstr. 14\, Berlin\, Berlin\, 14109\, Germany
CATEGORIES:Bildung,Community,Jugendliche,Kinder
ORGANIZER;CN="Stiftung wannseeFORUM":MAILTO:info@wannseeforum.de
END:VEVENT
BEGIN:VEVENT
DTSTART;TZID=Europe/Berlin:20250817T093000
DTEND;TZID=Europe/Berlin:20250817T103000
DTSTAMP:20260421T174506
CREATED:20241126T082028Z
LAST-MODIFIED:20241208T123054Z
UID:10001615-1755423000-1755426600@wannseekalender.de
SUMMARY:Heilige Messe
DESCRIPTION:Weitere Informationen: https://johannesboscoberlin.de/gottesdienste/?cn-reloaded=1
URL:https://wannseekalender.de/event/heilige-messe/2025-08-17/
LOCATION:Kirche St. Michael\, Königstraße 43\, Berlin\, 14109\, Germany
CATEGORIES:Gottesdienst
ORGANIZER;CN="Katholische Pfarrei Johannes Bosco %E2%80%93 Berliner S%C3%BCdwesten":MAILTO:pfarrbuero@johannesboscoberlin.de
END:VEVENT
BEGIN:VEVENT
DTSTART;TZID=Europe/Berlin:20250817T100000
DTEND;TZID=Europe/Berlin:20250817T110000
DTSTAMP:20260421T174506
CREATED:20241126T082027Z
LAST-MODIFIED:20241130T202730Z
UID:10001878-1755424800-1755428400@wannseekalender.de
SUMMARY:Gottesdienst
DESCRIPTION:Gottesdienst um 10 Uhr – live vor Ort und auch per Zoom. \nWir feiern in Wannsee die Gottesdienste\, jeden Sonntag um 10 Uhr „hybrid“. D.h. man kann sowohl vor Ort als auch online per Zoom am Gottesdienst teilnehmen. \nEinfach Zoom öffnen\, die Meeting-ID eingeben und per Passwort beitreten.\nMeeting-ID: 890 8569 7929\nPasswort: sonntag \nOder hier per Link zum Gottesdienst am Sonntag. \nhttps://us02web.zoom.us/j/89085697929?pwd=amdrdEVJTEUxN3VYT25JT2QzQU5aUT09 \nWeitere Informationen: https://baptisten-wannsee.de/herzliche-einladung-zu-unseren-gottesdiensten-per-zoom/
URL:https://wannseekalender.de/event/gottesdienst-8/2025-08-17/
LOCATION:Baptistenkirche Wannsee (Kirche am Immanuel-Krankenhaus)\, Königstraße 66\, Berlin\, 14109\, Germany
CATEGORIES:Gottesdienst
ORGANIZER;CN="Baptisten Wannsee":MAILTO:info@baptisten-wannsee.de
END:VEVENT
BEGIN:VEVENT
DTSTART;TZID=Europe/Berlin:20250817T100000
DTEND;TZID=Europe/Berlin:20250817T110000
DTSTAMP:20260421T174506
CREATED:20250728T144658Z
LAST-MODIFIED:20250728T144658Z
UID:10027523-1755424800-1755428400@wannseekalender.de
SUMMARY:Gottesdienst Stölpchensee
DESCRIPTION:Gottesdienst mit Vikarin Raya Gerhardt.
URL:https://wannseekalender.de/event/gottesdienst-stoelpchensee-5-2-2/
LOCATION:Kirche am Stölpchensee\, Wilhelmplatz\, Berlin\, 14109\, Germany
CATEGORIES:Gottesdienst,Kirche
ORGANIZER;CN="K%C3%BCsterei Evangelische Kirchengemeinde Wannsee":MAILTO:kuesterei@kirchengemeinde-wannsee.de
END:VEVENT
BEGIN:VEVENT
DTSTART;TZID=Europe/Berlin:20250817T100000
DTEND;TZID=Europe/Berlin:20250817T110000
DTSTAMP:20260421T174506
CREATED:20250731T200820Z
LAST-MODIFIED:20250731T200820Z
UID:10027694-1755424800-1755428400@wannseekalender.de
SUMMARY:Gottesdienst mit Abendmahl
DESCRIPTION:Vikarin Raya Gerhardt
URL:https://wannseekalender.de/event/gottesdienst-mit-abendmahl-2/
LOCATION:Kirche am Stölpchensee\, Wilhelmplatz\, Berlin\, 14109\, Germany
CATEGORIES:Gottesdienst,Kirche
ORGANIZER;CN="K%C3%BCsterei Evangelische Kirchengemeinde Wannsee":MAILTO:kuesterei@kirchengemeinde-wannsee.de
END:VEVENT
BEGIN:VEVENT
DTSTART;TZID=Europe/Berlin:20250817T120000
DTEND;TZID=Europe/Berlin:20250817T133000
DTSTAMP:20260421T174506
CREATED:20250412T203706Z
LAST-MODIFIED:20250626T205650Z
UID:10015320-1755432000-1755437400@wannseekalender.de
SUMMARY:Ausstellungsführung: BERLIN. COSMOPOLITE: Die versunkene Welt von Felicie und Carl Bernstein
DESCRIPTION:Erfahren Sie mehr über die aktuelle Sonderausstellung „BERLIN. COSMOPOLITE: Die versunkene Welt von Felicie und Carl Bernstein“\nNur buchbar mit einer Eintrittskarte. Tickets gibt es online und vor Ort. \nBild: © Kupferstich-Kabinett\, Staatliche Kunstsammlungen Dresden
URL:https://wannseekalender.de/event/ausstellungsfuehrung/2025-08-17/
LOCATION:Liebermann-Villa\, Colomierstraße 3\, Berlin\, 14109\, Germany
CATEGORIES:Führung,Kunst & Kultur
ATTACH;FMTTYPE=image/png:https://wannseekalender.de/wp-content/uploads/2025/04/Bild.png
ORGANIZER;CN="Max-Liebermann-Gesellschaft Berlin e.V.":MAILTO:info@liebermann-villa.de
END:VEVENT
BEGIN:VEVENT
DTSTART;TZID=Europe/Berlin:20250817T140000
DTEND;TZID=Europe/Berlin:20250817T153000
DTSTAMP:20260421T174506
CREATED:20250413T074126Z
LAST-MODIFIED:20250413T074126Z
UID:10021452-1755439200-1755444600@wannseekalender.de
SUMMARY:Mit Elfe Tana die Pfaueninsel entdecken
DESCRIPTION:Führung für Familien mit Kindern ab 6 Jahren \nAuf der Berliner Pfaueninsel gibt es nicht nur Pfauen! Hier wohnt auch eine geheimnisvolle Inselelfe mit dem Namen Tana. Tana hilft dabei\, die Geschichte der Insel zu entdecken. An welchen Stellen gab es früher Tiere aus anderen Ländern. Wo befanden sich einst die Lieblingsplätze der Prinzessinnen? Und was haben die Königskinder damals gespielt? \nDie Führung ist auch als Angebot für Schulen und Kita-Gruppen buchbar.
URL:https://wannseekalender.de/event/mit-elfe-tana-die-pfaueninsel-entdecken-7/
LOCATION:Pfaueninsel\, Pfaueninselchaussee 1\, Berlin\, 14109\, Germany
CATEGORIES:Familie,Führung,Kinder
ORGANIZER;CN="Stiftung Preu%C3%9Fische Schl%C3%B6sser und G%C3%A4rten Berlin-Brandenburg (SPSG)":MAILTO:info@spsg.de
END:VEVENT
BEGIN:VEVENT
DTSTART;TZID=Europe/Berlin:20250817T140000
DTEND;TZID=Europe/Berlin:20250817T160000
DTSTAMP:20260421T174506
CREATED:20250413T071252Z
LAST-MODIFIED:20250626T203630Z
UID:10021354-1755439200-1755446400@wannseekalender.de
SUMMARY:Inselführung Pfaueninsel
DESCRIPTION:Die Kaninchenwerder genannte Insel übte auf den preußischen König Friedrich Wilhelm II. eine besondere Anziehungskraft aus. 1793 entschloss er sich dazu\, die Insel zu übernehmen. Gemäß Rousseaus Wahlspruch „zurück zur Natur“ wollte sich der König hier ein paradiesisches Refugium erschaffen. Sie erhielt dann den Namen „Königliche Pfaueninsel“. Die Sehnsüchte seiner Zeit\, die von Expeditionen in neue Welten (die polynesischen Inseln)\, aber auch dem Nachspüren in vergangene\, antike Welten geprägt war\, konnten auf der 68 Hektar großen Pfaueninsel ihren Ausdruck finden. Die Pfaueninsel ist seit 1924 Naturschutzgebiet\, um sie besonders zu schützen. Mittlerweile ist sie als Gartendenkmal eingetragen und steht zusätzlich unter dem Schutz des Berliner-Potsdamer Welterbe der UNESCO\, ist seit 2004 eines der NATURA-2000-Gebiete und als Flora-Fauna-Habitat und Vogelschutzgebiet gesichert. \nBild: © SPSG / Daniel Lindner
URL:https://wannseekalender.de/event/inselfuehrung-pfaueninsel/2025-08-17/
LOCATION:Pfaueninsel\, Pfaueninselchaussee 1\, Berlin\, 14109\, Germany
ATTACH;FMTTYPE=image/jpeg:https://wannseekalender.de/wp-content/uploads/2025/04/SPSG_SchlossPfaueninsel_DanielLindner_DSC_1245.jpeg
ORGANIZER;CN="Stiftung Preu%C3%9Fische Schl%C3%B6sser und G%C3%A4rten Berlin-Brandenburg (SPSG)":MAILTO:info@spsg.de
END:VEVENT
BEGIN:VEVENT
DTSTART;TZID=Europe/Berlin:20250817T140000
DTEND;TZID=Europe/Berlin:20250817T160000
DTSTAMP:20260421T174506
CREATED:20250524T185200Z
LAST-MODIFIED:20250524T185318Z
UID:10023250-1755439200-1755446400@wannseekalender.de
SUMMARY:Eine Zeitreise: Geführter Spaziergang über die Pfaueninsel mit Schlossleiterin Anke Berkhoff\, SPSG
DESCRIPTION:Die Insel\, deren Gestaltung zum Gesamtkunstwerk unter Friedrich Wilhelm II. vor 1800 begann\, entwickelte sich im Laufe des 19. Jahrhunderts unter seinem Sohn Friedrich Wilhelm III. zu einem damals als paradiesisch angesehenen Ort. Hier spiegelten sich nicht nur europäische Vorbilder\, sondern auch fantasiehafte und eurozentrische Vorstellungen über ferne Inselwelten im Südpazifik wider – sowohl im Garten als auch in der Architektur. Das Schloss und die Meierei sind bis heute Zeugen dieser Zeit. Vom Palmenhaus und der Menagerie\, in der einst südländische Pflanzen und exotische Tiere untergebracht waren\, existieren lediglich einige Fragmente. Zum höfischen Personal gehörten damals Kleinwüchsige und auffallend Großgewachsene\, ein Schwarzer Bediensteter und ein „Sandwich-Insulaner“.  \n\n\nDer Spaziergang mit der Schlossleiterin Anke Berkhoff erschließt die Geschichte der Insel\, seiner Bewohner:innen und wirft einen kritischen Blick auf die damaligen Formen der Aneignung außereuropäischer Kulturen.
URL:https://wannseekalender.de/event/eine-zeitreise-gefuehrter-spaziergang-ueber-die-pfaueninsel-mit-schlossleiterin-anke-berkhoff-spsg/2025-08-17/
LOCATION:Pfaueninsel\, Pfaueninselchaussee 1\, Berlin\, 14109\, Germany
CATEGORIES:Bildung,Kunst & Kultur
ORGANIZER;CN="Stiftung Preu%C3%9Fische Schl%C3%B6sser und G%C3%A4rten Berlin-Brandenburg (SPSG)":MAILTO:info@spsg.de
END:VEVENT
BEGIN:VEVENT
DTSTART;TZID=Europe/Berlin:20250817T150000
DTEND;TZID=Europe/Berlin:20250817T160000
DTSTAMP:20260421T174506
CREATED:20250221T204216Z
LAST-MODIFIED:20250524T141351Z
UID:10017443-1755442800-1755446400@wannseekalender.de
SUMMARY:Gottesdienst Nikolskoe
DESCRIPTION:
URL:https://wannseekalender.de/event/gottesdienst-nikolskoe-2/2025-08-17/
LOCATION:Kirche St. Peter und Paul auf Nikolskoe\, Nikolskoer Weg 17\, Berlin\, 14109\, Germany
CATEGORIES:Gottesdienst,Kirche
ORGANIZER;CN="K%C3%BCsterei Evangelische Kirchengemeinde St. Peter und Paul auf Nikolskoe":MAILTO:kuesterei@kirche-nikolskoe.de
END:VEVENT
BEGIN:VEVENT
DTSTART;TZID=Europe/Berlin:20250817T150000
DTEND;TZID=Europe/Berlin:20250817T163000
DTSTAMP:20260421T174506
CREATED:20250411T191611Z
LAST-MODIFIED:20250924T100506Z
UID:10018764-1755442800-1755448200@wannseekalender.de
SUMMARY:Führung: Liebermann-Villa
DESCRIPTION:Erfahren Sie mehr über Max Liebermann\, die Liebermann-Villa am Wannsee und die aktuellen Sonderausstellungen mit unseren öffentlichen Führungen.\nTickets gibt es online und vor Ort. \nZusätzlich wird eine Eintrittskarte benötigt. Bitte treffen Sie 15 Minuten vor Führungsbeginn im Shop ein. \nBild: © sevens[+]maltry\, Potsdam
URL:https://wannseekalender.de/event/fuehrung-liebermann-villa-3-2/2025-08-17/
LOCATION:Liebermann-Villa\, Colomierstraße 3\, Berlin\, 14109\, Germany
CATEGORIES:Führung,Kunst & Kultur
ATTACH;FMTTYPE=image/png:https://wannseekalender.de/wp-content/uploads/2025/01/Bild.png
ORGANIZER;CN="Max-Liebermann-Gesellschaft Berlin e.V.":MAILTO:info@liebermann-villa.de
END:VEVENT
BEGIN:VEVENT
DTSTART;TZID=Europe/Berlin:20250817T160000
DTEND;TZID=Europe/Berlin:20250817T180000
DTSTAMP:20260421T174506
CREATED:20250728T133150Z
LAST-MODIFIED:20250729T151113Z
UID:10027513-1755446400-1755453600@wannseekalender.de
SUMMARY:Konzerte Schloss Glienicke
DESCRIPTION:Wataru Hisasué (Klavier\, 2. Preisträger des Königin-Elisabeth-Wettbewerbs\, 2025) – „Reise nach Italien“: Fanny Hensel-Mendelssohn – „Das Jahr“ (August\, September\, Oktober\, November)\, Franz Liszt – Venzia e Napoli aus „Années de Pèlerinage“\, Muzio Clementi – Sonate „Didone Abbandonata“ op. 50 Nr. 3
URL:https://wannseekalender.de/event/konzert-schloss-glienicke/2025-08-17/
LOCATION:Baptistenkirche Wannsee (Kirche am Immanuel-Krankenhaus)\, Königstraße 66\, Berlin\, 14109\, Germany
CATEGORIES:Bildung,Klassik,Konzert,Kunst & Kultur
ORGANIZER;CN="Verein zur F%C3%B6rderung von Konzertreihen im Schloss Glienicke e.V.":MAILTO:info@konzerte-schloss-glienicke.de
END:VEVENT
END:VCALENDAR