BEGIN:VCALENDAR
VERSION:2.0
PRODID:-//Wannsee Kalender - ECPv6.15.20//NONSGML v1.0//EN
CALSCALE:GREGORIAN
METHOD:PUBLISH
X-ORIGINAL-URL:https://wannseekalender.de
X-WR-CALDESC:Veranstaltungen für Wannsee Kalender
REFRESH-INTERVAL;VALUE=DURATION:PT1H
X-Robots-Tag:noindex
X-PUBLISHED-TTL:PT1H
BEGIN:VTIMEZONE
TZID:Europe/Berlin
BEGIN:DAYLIGHT
TZOFFSETFROM:+0100
TZOFFSETTO:+0200
TZNAME:CEST
DTSTART:20240331T010000
END:DAYLIGHT
BEGIN:STANDARD
TZOFFSETFROM:+0200
TZOFFSETTO:+0100
TZNAME:CET
DTSTART:20241027T010000
END:STANDARD
BEGIN:DAYLIGHT
TZOFFSETFROM:+0100
TZOFFSETTO:+0200
TZNAME:CEST
DTSTART:20250330T010000
END:DAYLIGHT
BEGIN:STANDARD
TZOFFSETFROM:+0200
TZOFFSETTO:+0100
TZNAME:CET
DTSTART:20251026T010000
END:STANDARD
BEGIN:DAYLIGHT
TZOFFSETFROM:+0100
TZOFFSETTO:+0200
TZNAME:CEST
DTSTART:20260329T010000
END:DAYLIGHT
BEGIN:STANDARD
TZOFFSETFROM:+0200
TZOFFSETTO:+0100
TZNAME:CET
DTSTART:20261025T010000
END:STANDARD
BEGIN:DAYLIGHT
TZOFFSETFROM:+0100
TZOFFSETTO:+0200
TZNAME:CEST
DTSTART:20270328T010000
END:DAYLIGHT
BEGIN:STANDARD
TZOFFSETFROM:+0200
TZOFFSETTO:+0100
TZNAME:CET
DTSTART:20271031T010000
END:STANDARD
BEGIN:DAYLIGHT
TZOFFSETFROM:+0100
TZOFFSETTO:+0200
TZNAME:CEST
DTSTART:20280326T010000
END:DAYLIGHT
BEGIN:STANDARD
TZOFFSETFROM:+0200
TZOFFSETTO:+0100
TZNAME:CET
DTSTART:20281029T010000
END:STANDARD
END:VTIMEZONE
BEGIN:VEVENT
DTSTART;VALUE=DATE:20250106
DTEND;VALUE=DATE:20270107
DTSTAMP:20260421T060954
CREATED:20250103T101815Z
LAST-MODIFIED:20250713T172127Z
UID:10014206-1736121600-1799279999@wannseekalender.de
SUMMARY:Angebote der JFE Wannsee
DESCRIPTION:ÖFFNUNGSZEITEN:\nMontag: 13:00 – 20:00 Uhr\nDienstag: 13:00 – 20:00 Uhr\nMittwoch: 14:00 – 20:00 Uhr (Nur Gruppenangebote)\nDonnerstag: 13:00 – 20:00 Uhr\nFreitag: 13:00 – 20:00 Uhr\nSamstag: 11:00 – 13:00 Uhr (Nur Gruppenangebote)\nSonntag: 15:00 – 18:00 Uhr\nAngebote\nTöpfern\nDienstags 14:45 – 16:15 oder 16:30 bis 18:00 mit Clara \nDonnerstags 15:00 – 16:30 oder 17:00 – 18:30 mit Ronja \nFreitags 15:00 – 16:00 oder 16:00 – 17:00 oder 17:00 -18:00 mit Sabine \nJeden 1.Samstag im Monat – Familientöpfern (Eltern/Kind Angebot)  11:00 – 13:00 mit Sabine \nMusik\nGitarre / Flöte / Geige / E-Piano \nMittwoch 14:00 – 19:00 Uhr mit Heiko (Gitarre\, Flöte) \nMittwoch 16:00 – 18:00 Uhr mit Miro (Geige) \nDonnerstag 17:00 – 19:00 Uhr mit Benny (E-Bass\, Ukulele\, E-Gitarre\, E-Piano\, Gesang\, Band-Coaching)) \nTheater\nDonnerstag 16:00 – 18:00 Uhr mit Sabina \nSport\nDienstag  16:15 – 17:15  Zirkel-Training mit Chris \nDonnerstag 15:00 – 16:30 Tischtennis mit Ingo \nSaisonbedingt (April bis Oktober) steht uns die Mehrzwecksportanlage in der Chausseestr.  Dienstags und Freitags ab 14:00 Uhr zur Verfügung. \nFreitags 15:00 – 16:30  Kicken im Kiez mit Ingo \nSchlagzeug\nMontags 14:00 – 18:00 Uhr mit Tom \nDienstags 14:00 – 17:00 Uhr mit Lars \nDonnerstags 13:00 – 17:00 Uhr mit Benny \nFreitags 14:00 – 17:00 Uhr mit Tom
URL:https://wannseekalender.de/event/angebote-der-jfe-wannsee/
LOCATION:JFE Jugendfreizeiteinrichtung Wannsee\, Königstraße 42\, Berlin\, 14109\, Germany
CATEGORIES:Jugendliche,Kinder
ORGANIZER;CN="JFE Jugendfreizeiteinrichtung Wannsee":MAILTO:jfewannsee@steglitz-zehlendorf.de
END:VEVENT
BEGIN:VEVENT
DTSTART;VALUE=DATE:20250809
DTEND;VALUE=DATE:20250811
DTSTAMP:20260421T060954
CREATED:20241126T082013Z
LAST-MODIFIED:20250820T193053Z
UID:10001351-1754697600-1754870399@wannseekalender.de
SUMMARY:Führung: Haus der Wannsee-Konferenz
DESCRIPTION:Immer samstags und sonntags\, immer kostenfrei: Führungen durch unsere Dauerausstellung um 14 Uhr\, 15 Uhr\, 16 Uhr. \nCa. 45 Minuten\, ohne Anmeldung\, herzlich willkommen. Treffpunkt: Rezeption.
URL:https://wannseekalender.de/event/fuehrung-haus-der-wannseekonferenz/2025-08-09/
LOCATION:Haus der Wannsee-Konferenz\, Am Großen Wannsee 56-58\, Berlin\, 14109\, Germany
CATEGORIES:Bildung,Führung,Kunst & Kultur,Wissen
ORGANIZER;CN="Gedenk- und Bildungsst%C3%A4tte Haus der Wannsee-Konferenz":MAILTO:info@ghwk.de
END:VEVENT
BEGIN:VEVENT
DTSTART;TZID=Europe/Berlin:20250809T100000
DTEND;TZID=Europe/Berlin:20250809T120000
DTSTAMP:20260421T060954
CREATED:20250413T052714Z
LAST-MODIFIED:20250413T052714Z
UID:10020936-1754733600-1754740800@wannseekalender.de
SUMMARY:KidsComputerClub
DESCRIPTION:
URL:https://wannseekalender.de/event/kidscomputerclub/2025-08-09/
LOCATION:JFE Jugendfreizeiteinrichtung Wannsee\, Königstraße 42\, Berlin\, 14109\, Germany
ORGANIZER;CN="%C3%96kumenisches Willkommen Wannsee (%C3%96WW)":MAILTO:oeww@kirchengemeinde-wannsee.de
END:VEVENT
BEGIN:VEVENT
DTSTART;TZID=Europe/Berlin:20250809T103000
DTEND;TZID=Europe/Berlin:20250809T130000
DTSTAMP:20260421T060954
CREATED:20250724T094405Z
LAST-MODIFIED:20250724T094810Z
UID:10025852-1754735400-1754744400@wannseekalender.de
SUMMARY:Malen - Workshop
DESCRIPTION:Themen wie Eltern-Kind Malen\, Wünsche\, Träume malen \n\n\n„In meinem Malraum wird intuitiv gemalt – brauchst du Talent? Nope. Nur dich selbst.Du brauchst keine Technik\, kein Ziel\, kein „schönes Bild“. Es geht nicht ums Können\, sondern ums Spüren.Was passiert\, wenn du dich einfach mal hinsetzt\, Farbe nimmst und loslegst – ohne Plan?Malen\, um dich selbst zu treffen. Ganz ohne Erwartungsdruck. Workshops die gut tun\,  ob solo oder auch gemeinsam als Team!“​ \nKosten \nSchnupperpreis für Erwachsene: 49 Euro
URL:https://wannseekalender.de/event/malen-workshop-3/2025-08-09/
LOCATION:Atelier Kathrin Wirz\, Königsweg 309\, Berlin\, Berlin\, 14109
CATEGORIES:Kunst
ORGANIZER;CN="Kathrin Wirz - intuarts":MAILTO:kathrin_wirz@yahoo.de
END:VEVENT
BEGIN:VEVENT
DTSTART;TZID=Europe/Berlin:20250809T110000
DTEND;TZID=Europe/Berlin:20250809T130000
DTSTAMP:20260421T060954
CREATED:20250524T231959Z
LAST-MODIFIED:20250524T231959Z
UID:10023267-1754737200-1754744400@wannseekalender.de
SUMMARY:Spaziergang auf der Pfaueninsel: Führung in Einfacher Sprache
DESCRIPTION:mit Stiftungsmitarbeiterin Wilma Otte\, SPSG \n\n\nWir schauen uns besondere Orte auf der Pfaueninsel an. \nUnser Weg beginnt am Fährhaus. \nWir betrachten das kleine Schloss von außen. \nDann spazieren wir durch den runden Garten und bis zur Fontäne. \nUnterwegs werden wir sicher vielen Pfauen begegnen. \nDer Spaziergang endet auf einer großen Wiese. \nDort können wir Picknick machen. \nAnmeldung erforderlich unter: w.otte@spsg.de
URL:https://wannseekalender.de/event/spaziergang-auf-der-pfaueninsel-fuehrung-in-einfacher-sprache/
LOCATION:Pfaueninsel\, Pfaueninselchaussee 1\, Berlin\, 14109\, Germany
CATEGORIES:Bildung,Führung,Kunst & Kultur
ORGANIZER;CN="Stiftung Preu%C3%9Fische Schl%C3%B6sser und G%C3%A4rten Berlin-Brandenburg (SPSG)":MAILTO:info@spsg.de
END:VEVENT
BEGIN:VEVENT
DTSTART;TZID=Europe/Berlin:20250809T120000
DTEND;TZID=Europe/Berlin:20250809T133000
DTSTAMP:20260421T060954
CREATED:20250123T220208Z
LAST-MODIFIED:20250626T204952Z
UID:10002178-1754740800-1754746200@wannseekalender.de
SUMMARY:Führung: Liebermann-Villa
DESCRIPTION:Erfahren Sie mehr über Max Liebermann\, die Liebermann-Villa am Wannsee und die aktuellen Sonderausstellungen mit unseren öffentlichen Führungen.\nTickets gibt es online und vor Ort. \nZusätzlich wird eine Eintrittskarte benötigt. Bitte treffen Sie 15 Minuten vor Führungsbeginn im Shop ein. \nBild: © sevens[+]maltry\, Potsdam
URL:https://wannseekalender.de/event/fuehrung-liebermann-villa-2/2025-08-09/
LOCATION:Liebermann-Villa\, Colomierstraße 3\, Berlin\, 14109\, Germany
CATEGORIES:Führung,Kunst & Kultur
ATTACH;FMTTYPE=image/png:https://wannseekalender.de/wp-content/uploads/2025/01/Bild.png
ORGANIZER;CN="Max-Liebermann-Gesellschaft Berlin e.V.":MAILTO:info@liebermann-villa.de
END:VEVENT
BEGIN:VEVENT
DTSTART;TZID=Europe/Berlin:20250809T120000
DTEND;TZID=Europe/Berlin:20250809T233000
DTSTAMP:20260421T060954
CREATED:20250616T230655Z
LAST-MODIFIED:20250712T080508Z
UID:10025541-1754740800-1754782200@wannseekalender.de
SUMMARY:Malle Party Berlin Open Air
DESCRIPTION:🌴 Ballermann-Feeling direkt am Wasser – mit den größten Stars der Szene! 🌴 \n\n\n\nAm Samstag\, den 9. August 2025\, wird das Loretta am Wannsee zur absoluten Malle-Hochburg! Freu dich auf eine Sommernacht voller Stimmung\, Hits und Eskalation – direkt am Ufer des Wannsees! \n🎤 LIVE ON STAGE:\n🔥 Calvin Kleinen – bekannt aus TV & Ballermann\, mit seinen legendären Partytracks\n🔥 Specktakel – Mama Lauda – der Name ist Programm: Eskalation garantiert!\n🔥 Caro Winter – mit Power-Stimme und Ohrwurm-Garantie\n🔥 DJ Robin – der Hitmacher von „Layla“ sorgt für Abriss-Stimmung\n🔥 Timo Scheppert – wo er auflegt\, bleibt kein Fuß still\n🔥 Ingo ohne Flamingo – Saufen\, Morgen\, Mittags\, Abends – maximaler Stimmung\n🔥 Asphalt Anton – die Reibeisen-Stimme des Party-Schlagers \n🎶 Dazu: DJs\, Malle-Hits und Vollgas bis in die Nacht!\nOb Klassiker oder brandneue Partyhymnen – hier wird gesungen\, getanzt und mitgegrölt! \n🍹 Sangria\, Bier & Cocktails – wie am Ballermann\, nur schöner. \n🎟️ Jetzt Tickets sichern – bevor’s wieder heißt: Ausverkauft!\nDas wird die Sommerparty des Jahres in Berlin – Malle am Wannsee! \n\n\n\n\n\n\n\n\n\n\n\n\n\n\n\n\n\nPreis-/Einlassinformationen \n19\,90 EUR VVK Tagesticket \nEinlass ab 12 Uhr \n  \n29\,90 EUR Deluxe Ticket \nEinlass ab 12 Uhr \n1x Klopfer inkl. \n0\,7L Getränk nach Wahl inkl. \n  \n300 EUR VIP-Paket für bis zu 6 Personen \nEinlass ab 12 Uhr \nExklusivbereich direkt an der Bühne \nKein langes Warten VIP-Eingang \n0\,7L Wodka oder Rum\, 2L Softdrinks \n12 Klopfer \nEintritt zur Aftershow-Party inklusive
URL:https://wannseekalender.de/event/malle-party-berlin-open-air/
LOCATION:Loretta am Wannsee\, Kronprinzessinnenweg 253-260\, Berlin\, 14109\, Germany
CATEGORIES:Musik,Party,Tanz
ORGANIZER;CN="Loretta am Wannsee":MAILTO:info@loretta-wannsee.berlin
END:VEVENT
BEGIN:VEVENT
DTSTART;TZID=Europe/Berlin:20250809T150000
DTEND;TZID=Europe/Berlin:20250809T163000
DTSTAMP:20260421T060954
CREATED:20250411T191611Z
LAST-MODIFIED:20250924T100506Z
UID:10018506-1754751600-1754757000@wannseekalender.de
SUMMARY:Führung: Liebermann-Villa
DESCRIPTION:Erfahren Sie mehr über Max Liebermann\, die Liebermann-Villa am Wannsee und die aktuellen Sonderausstellungen mit unseren öffentlichen Führungen.\nTickets gibt es online und vor Ort. \nZusätzlich wird eine Eintrittskarte benötigt. Bitte treffen Sie 15 Minuten vor Führungsbeginn im Shop ein. \nBild: © sevens[+]maltry\, Potsdam
URL:https://wannseekalender.de/event/fuehrung-liebermann-villa-3-2/2025-08-09/
LOCATION:Liebermann-Villa\, Colomierstraße 3\, Berlin\, 14109\, Germany
CATEGORIES:Führung,Kunst & Kultur
ATTACH;FMTTYPE=image/png:https://wannseekalender.de/wp-content/uploads/2025/01/Bild.png
ORGANIZER;CN="Max-Liebermann-Gesellschaft Berlin e.V.":MAILTO:info@liebermann-villa.de
END:VEVENT
BEGIN:VEVENT
DTSTART;TZID=Europe/Berlin:20250809T160000
DTEND;TZID=Europe/Berlin:20250809T180000
DTSTAMP:20260421T060954
CREATED:20250723T081117Z
LAST-MODIFIED:20250729T151030Z
UID:10027476-1754755200-1754762400@wannseekalender.de
SUMMARY:Konzerte Schloss Glienicke
DESCRIPTION:„Von Zauber der Petersburger Nächte“ – Eine musikalisch-literarische Reminiszenz an St. Petersburg. \nDie Pianistin Marina Kaljushny begibt sich mit Michael Kaljushny an der Klarinette auf eine Reise nach St. Petersburg. Zwischen Szenen aus Tschaikowskis Ballett „Schwanensee“\, Walzer von Schostakowitsch\, Romanzen von Rachmaninow\, Musik aus Prokofjews Ballett „Romeo und Julia“ werden Texte von Alexander Dumas und Vladimir Kaminer gelesen. \nDie Konzerte des Schloss Glienicke finden zurzeit in der Kirche am Immanuel Krankenhaus Wannsee statt.
URL:https://wannseekalender.de/event/von-zauber-der-petersburger-naechte-eine-musikalisch-literarische-reminiszenz-an-st-petersburg/2025-08-09/
LOCATION:Baptistenkirche Wannsee (Kirche am Immanuel-Krankenhaus)\, Königstraße 66\, Berlin\, 14109\, Germany
CATEGORIES:Kirche,Klassik,Konzert,Kultur,Musik
ORGANIZER;CN="Verein zur F%C3%B6rderung von Konzertreihen im Schloss Glienicke e.V.":MAILTO:info@konzerte-schloss-glienicke.de
END:VEVENT
END:VCALENDAR