BEGIN:VCALENDAR
VERSION:2.0
PRODID:-//Wannsee Kalender - ECPv6.15.20//NONSGML v1.0//EN
CALSCALE:GREGORIAN
METHOD:PUBLISH
X-WR-CALNAME:Wannsee Kalender
X-ORIGINAL-URL:https://wannseekalender.de
X-WR-CALDESC:Veranstaltungen für Wannsee Kalender
REFRESH-INTERVAL;VALUE=DURATION:PT1H
X-Robots-Tag:noindex
X-PUBLISHED-TTL:PT1H
BEGIN:VTIMEZONE
TZID:Europe/Berlin
BEGIN:DAYLIGHT
TZOFFSETFROM:+0100
TZOFFSETTO:+0200
TZNAME:CEST
DTSTART:20240331T010000
END:DAYLIGHT
BEGIN:STANDARD
TZOFFSETFROM:+0200
TZOFFSETTO:+0100
TZNAME:CET
DTSTART:20241027T010000
END:STANDARD
BEGIN:DAYLIGHT
TZOFFSETFROM:+0100
TZOFFSETTO:+0200
TZNAME:CEST
DTSTART:20250330T010000
END:DAYLIGHT
BEGIN:STANDARD
TZOFFSETFROM:+0200
TZOFFSETTO:+0100
TZNAME:CET
DTSTART:20251026T010000
END:STANDARD
BEGIN:DAYLIGHT
TZOFFSETFROM:+0100
TZOFFSETTO:+0200
TZNAME:CEST
DTSTART:20260329T010000
END:DAYLIGHT
BEGIN:STANDARD
TZOFFSETFROM:+0200
TZOFFSETTO:+0100
TZNAME:CET
DTSTART:20261025T010000
END:STANDARD
BEGIN:DAYLIGHT
TZOFFSETFROM:+0100
TZOFFSETTO:+0200
TZNAME:CEST
DTSTART:20270328T010000
END:DAYLIGHT
BEGIN:STANDARD
TZOFFSETFROM:+0200
TZOFFSETTO:+0100
TZNAME:CET
DTSTART:20271031T010000
END:STANDARD
BEGIN:DAYLIGHT
TZOFFSETFROM:+0100
TZOFFSETTO:+0200
TZNAME:CEST
DTSTART:20280326T010000
END:DAYLIGHT
BEGIN:STANDARD
TZOFFSETFROM:+0200
TZOFFSETTO:+0100
TZNAME:CET
DTSTART:20281029T010000
END:STANDARD
END:VTIMEZONE
BEGIN:VEVENT
DTSTART;VALUE=DATE:20250106
DTEND;VALUE=DATE:20270107
DTSTAMP:20260421T074611
CREATED:20250103T101815Z
LAST-MODIFIED:20250713T172127Z
UID:10014206-1736121600-1799279999@wannseekalender.de
SUMMARY:Angebote der JFE Wannsee
DESCRIPTION:ÖFFNUNGSZEITEN:\nMontag: 13:00 – 20:00 Uhr\nDienstag: 13:00 – 20:00 Uhr\nMittwoch: 14:00 – 20:00 Uhr (Nur Gruppenangebote)\nDonnerstag: 13:00 – 20:00 Uhr\nFreitag: 13:00 – 20:00 Uhr\nSamstag: 11:00 – 13:00 Uhr (Nur Gruppenangebote)\nSonntag: 15:00 – 18:00 Uhr\nAngebote\nTöpfern\nDienstags 14:45 – 16:15 oder 16:30 bis 18:00 mit Clara \nDonnerstags 15:00 – 16:30 oder 17:00 – 18:30 mit Ronja \nFreitags 15:00 – 16:00 oder 16:00 – 17:00 oder 17:00 -18:00 mit Sabine \nJeden 1.Samstag im Monat – Familientöpfern (Eltern/Kind Angebot)  11:00 – 13:00 mit Sabine \nMusik\nGitarre / Flöte / Geige / E-Piano \nMittwoch 14:00 – 19:00 Uhr mit Heiko (Gitarre\, Flöte) \nMittwoch 16:00 – 18:00 Uhr mit Miro (Geige) \nDonnerstag 17:00 – 19:00 Uhr mit Benny (E-Bass\, Ukulele\, E-Gitarre\, E-Piano\, Gesang\, Band-Coaching)) \nTheater\nDonnerstag 16:00 – 18:00 Uhr mit Sabina \nSport\nDienstag  16:15 – 17:15  Zirkel-Training mit Chris \nDonnerstag 15:00 – 16:30 Tischtennis mit Ingo \nSaisonbedingt (April bis Oktober) steht uns die Mehrzwecksportanlage in der Chausseestr.  Dienstags und Freitags ab 14:00 Uhr zur Verfügung. \nFreitags 15:00 – 16:30  Kicken im Kiez mit Ingo \nSchlagzeug\nMontags 14:00 – 18:00 Uhr mit Tom \nDienstags 14:00 – 17:00 Uhr mit Lars \nDonnerstags 13:00 – 17:00 Uhr mit Benny \nFreitags 14:00 – 17:00 Uhr mit Tom
URL:https://wannseekalender.de/event/angebote-der-jfe-wannsee/
LOCATION:JFE Jugendfreizeiteinrichtung Wannsee\, Königstraße 42\, Berlin\, 14109\, Germany
CATEGORIES:Jugendliche,Kinder
ORGANIZER;CN="JFE Jugendfreizeiteinrichtung Wannsee":MAILTO:jfewannsee@steglitz-zehlendorf.de
END:VEVENT
BEGIN:VEVENT
DTSTART;TZID=Europe/Berlin:20250506T081500
DTEND;TZID=Europe/Berlin:20250506T190000
DTSTAMP:20260421T074611
CREATED:20250329T204901Z
LAST-MODIFIED:20250329T204901Z
UID:10020038-1746519300-1746558000@wannseekalender.de
SUMMARY:Kirchenentdeckerfahrt nach Neuruppin
DESCRIPTION:Programm: \nUnser Bus fährt um 8:15 Uhr vom Wilhelmplatz in Wannsee los.Gegen 9:45 Uhr werden wir in Neuruppin sein.Die St. Trinitatis Klosterkirche besichtigen wir zusammen mit einer Führung.Im Anschluss fahren wir mit dem Schiff über Ruppiner See\, Molchowsee\, Tetzensee\, Zermützelsee\, Tornowsee bis zur Boltenmühle.Dort freuen wir uns über ein leckeres Mittagessen. Nach dem Essen haben wir noch die Möglichkeit\, die Natur und den See bis um 15:30 Uhr zu genießen.Mit dem Bus geht es dann zurück nach Berlin-Staaken. Dort trinken wir im Cafè Psi 8 gemeinsam Kaffee. Weiter geht es zum Besuch der Dorfkirche Alt-Staaken mit Besichtigung und Tagesabschluss. Gegen 19:00 Uhr sind wir wieder zurück in Wannsee.Bitte melden Sie sich in der Küsterei unter 805 16 50 an.Der Tagesausflug kostet 64€.Bitte überweisen Sie den Betrag erst nach Anmeldung und Anmeldebestätigung durch die Küsterei auf das Konto:Ev. Kirchengemeinde WannseeEvangelische Bank eG\, KielIBAN: DE85 5206 0410 3903 9663 99Zweckbestimmung: Kirchenentdeckerfahrt 2025
URL:https://wannseekalender.de/event/kirchenentdeckerfahrt-nach-neuruppin/
LOCATION:Wilhelmplatz\, Wilhelmplatz\, Berlin\, Berlin\, 14109\, Germany
CATEGORIES:Community,Kirche
ORGANIZER;CN="K%C3%BCsterei Evangelische Kirchengemeinde Wannsee":MAILTO:kuesterei@kirchengemeinde-wannsee.de
END:VEVENT
BEGIN:VEVENT
DTSTART;TZID=Europe/Berlin:20250506T083000
DTEND;TZID=Europe/Berlin:20250506T093000
DTSTAMP:20260421T074611
CREATED:20241128T020609Z
LAST-MODIFIED:20241228T174326Z
UID:10007219-1746520200-1746523800@wannseekalender.de
SUMMARY:Heilige Messe
DESCRIPTION:Anschließend gemeinsames Frühstück.
URL:https://wannseekalender.de/event/heilige-messe-2/2025-05-06/
LOCATION:Katholisches Gemeindehaus St. Michael\, Hohenzollernstraße 28\, Berlin\, 14109
CATEGORIES:Gottesdienst,Kirche
ORGANIZER;CN="Katholische Pfarrei Johannes Bosco %E2%80%93 Berliner S%C3%BCdwesten":MAILTO:pfarrbuero@johannesboscoberlin.de
END:VEVENT
BEGIN:VEVENT
DTSTART;TZID=Europe/Berlin:20250506T090000
DTEND;TZID=Europe/Berlin:20250506T103000
DTSTAMP:20260421T074611
CREATED:20241126T082044Z
LAST-MODIFIED:20241130T220730Z
UID:10002652-1746522000-1746527400@wannseekalender.de
SUMMARY:Qi Gong mit Brigitte
DESCRIPTION:Wöchentliches Qi Gong\, 2 Gruppen. Weitere Informationen: https://www.treffpunkt-im-besten-alter.de/wannsee/
URL:https://wannseekalender.de/event/qi-gong-mit-brigitte/2025-05-06/
LOCATION:Treffpunkt Im besten Alter\, Königstraße 25-27\, Berlin\, 14109\, Germany
CATEGORIES:Sport
ORGANIZER;CN="Treffpunkt Im besten Alter":MAILTO:treffpunkt.wannsee@gmx.de
END:VEVENT
BEGIN:VEVENT
DTSTART;TZID=Europe/Berlin:20250506T090000
DTEND;TZID=Europe/Berlin:20250506T113000
DTSTAMP:20260421T074611
CREATED:20250315T222007Z
LAST-MODIFIED:20250707T224603Z
UID:10019096-1746522000-1746531000@wannseekalender.de
SUMMARY:Fahrbibliothek Dreilindenschule
DESCRIPTION:
URL:https://wannseekalender.de/event/fahrbibliothek-dreilindenschule/2025-05-06/
LOCATION:Dreilinden-Grundschule\, Dreilindenstr. 65\, Berlin\, 14109\, Germany
CATEGORIES:Bildung,Kinder
ATTACH;FMTTYPE=image/png:https://wannseekalender.de/wp-content/uploads/2024/11/AB1811E7-B5F0-40B5-93FC-09C24660164F.png
ORGANIZER;CN="Fahrbibliothek":MAILTO:fahrbibliothek@ba-sz.berlin.de
END:VEVENT
BEGIN:VEVENT
DTSTART;TZID=Europe/Berlin:20250506T103000
DTEND;TZID=Europe/Berlin:20250506T111500
DTSTAMP:20260421T074611
CREATED:20250425T122616Z
LAST-MODIFIED:20250430T090434Z
UID:10021815-1746527400-1746530100@wannseekalender.de
SUMMARY:DORNRÖSCHEN • Ein rasantes Erzähltheater mit einer Hand voll Puppen und einer Schauspielerin • Theater Lakritz
DESCRIPTION:Menschen\, die sich lieb haben\, streiten sich auch manchmal. Das wissen auch der König und die Königin\, die eigentlich alles haben: ein großes Schloss\, eine goldene Kutsche\, einen Hubschrauberlandeplatz\, und noch vieles mehr… \nAber eines hatten sie nicht\, und das wünschen sie sich am allermeisten: ein Kind! Eines Tages geht ihr größter Wunsch in Erfüllung… \nSpiel\nNicole Weißbrodt \nRegieberatung\nJuliane Solvang \nPublikumsstimmen\n „Nochmal!!!“\nEva\, 3 Jahre \n„Man glaubt gar nicht was man alles nicht braucht!- Super!“\nVater \n „Ich wurde heute eines besseren belehrt! Ich hätte nie gedacht\, dass man mit Fingerpuppen Theater machen kann“\nPuppenspieler \n„Tolle Erzählerin und Puppenspielerin mit Ideen und Witz“\nTheaterleiterin \nFür Kinder von 3-9 Jahren\nDauer: 35 Min \nBitte mit Voranmeldung bis zum 5. Mai
URL:https://wannseekalender.de/event/dornroeschen-ein-rasantes-erzaehltheater-mit-einer-hand-voll-puppen-und-einer-schauspielerin-theater-lakritz/
LOCATION:Galerie Mutter Fourage & Kulturscheune\, Chausseestraße 15A\, Berlin\, 14109\, Germany
CATEGORIES:Bildung,Kinder,Kita/Grundschule,Kunst & Kultur,Theater
ATTACH;FMTTYPE=image/jpeg:https://wannseekalender.de/wp-content/uploads/2025/04/DSC02349.jpg
END:VEVENT
BEGIN:VEVENT
DTSTART;TZID=Europe/Berlin:20250506T143000
DTEND;TZID=Europe/Berlin:20250506T153000
DTSTAMP:20260421T074611
CREATED:20241126T082051Z
LAST-MODIFIED:20241130T220838Z
UID:10003176-1746541800-1746545400@wannseekalender.de
SUMMARY:Taijiquan mit Julian
DESCRIPTION:Wöchentliches Taijiquan. Weitere Informationen: https://www.treffpunkt-im-besten-alter.de/wannsee/
URL:https://wannseekalender.de/event/taijiquan-mit-julian/2025-05-06/
LOCATION:Treffpunkt Im besten Alter\, Königstraße 25-27\, Berlin\, 14109\, Germany
CATEGORIES:Sport
ORGANIZER;CN="Treffpunkt Im besten Alter":MAILTO:treffpunkt.wannsee@gmx.de
END:VEVENT
BEGIN:VEVENT
DTSTART;TZID=Europe/Berlin:20250506T160000
DTEND;TZID=Europe/Berlin:20250506T180000
DTSTAMP:20260421T074611
CREATED:20241217T213735Z
LAST-MODIFIED:20241217T213736Z
UID:10012268-1746547200-1746554400@wannseekalender.de
SUMMARY:Kunstkurse für Kinder
DESCRIPTION:Kunstkurs für Kinder ab 6 Jahren im Atelier der Künstlerin Simone Westphal \nIn meinem Atelier in Wannsee können Kinder in einer kleinen Gruppe unterschiedliche kreative Techniken erlernen. zeichnen\, malen\, drucken\, filzen und vieles mehr. Jedes Kind kann seiner Fantasie freien Lauf lassen und ich gebe Impulse und Anleitung um eine Idee umszusetzen. Jeden Montag- oder Dienstagnachmittag\, 60 Minuten\, Anmeldung unter 01703290894 \n  \nDie Kosten betragen 80 Euro im Monat. \nDie Kinderkurse finden montags von 16.30 Uhr bis 17.30 statt und von 17.30 bis 18.30 Uhr ( es gibt also 2 Kurse montags. Und dienstags finden die Kurse von 16 bis 17 und von 17 bis 18 Uhr statt ( also auch zwei Kurse ) ein Kurs dauert also 60 Minuten . \n 
URL:https://wannseekalender.de/event/kunstkurse-fuer-kinder-2/2025-05-06/
LOCATION:Atelier Simone Westphal\, Zum Heckeshorn 33\, Haus 2\, Berlin\, Berlin\, 14109\, Germany
CATEGORIES:Bildung,DIY,Kinder
ATTACH;FMTTYPE=image/jpeg:https://wannseekalender.de/wp-content/uploads/2024/12/Rise-and-Fall-III-Ruby-Westphal-scaled.jpg
ORGANIZER;CN="Simone Westphal Ku%CC%88nstlerin":MAILTO:Simone@Simone-Westphal.de
END:VEVENT
BEGIN:VEVENT
DTSTART;TZID=Europe/Berlin:20250506T170000
DTEND;TZID=Europe/Berlin:20250506T190000
DTSTAMP:20260421T074611
CREATED:20250502T224934Z
LAST-MODIFIED:20250502T224934Z
UID:10021927-1746550800-1746558000@wannseekalender.de
SUMMARY:Hand in Hand ins ANDERSLAND
DESCRIPTION:Mit dem Theater-Workshop-Projekt „ANDERSLAND“ wollen wir mit Alt und Jung auf eine Reise gehen – eine Reise gegen die Angst!\nGegen die Angst vor der Zukunft\, vor politischen Entwicklungen\,\nGegen die Angst vor dem Fremden\, Unbekannten.\nGegen die Angst vor dem eigenen Mut.\nGegen die Angst vor der Angst. \nDie Teilnehmenden\, von Jung bis Alt\, lernen sich auf (schau-)spielerische Weise kennen\, entdecken Unterschiede und Gemeinsamkeiten und machen sich gegenseitig Mut zum Anderssein! \nZiel soll ein „begehbares“ Theaterstück sein\, bei dem das Publikum „ANDERSLAND“ besucht – ein Land\, wo alle anders sind und genau darum niemand voreinander Angst haben muss! \nDas Projekt beinhaltet wöchentliche Theaterkurse mit den Künstlerinnen und Künstlern der Drehbühne Berlin\, von Mai bis Nov. 2025 (außer Sommer-/Herbstferien)\, sowie Abschlussaufführungen voraussichtlich am 10./11. Okt. & 15./16. Nov. 2025. \nGenaue Orten und Daten der einzelnen Kurse werden beim ersten Treffen am Di.\, dem 6. Mai\, 17 Uhr im Gemeindehaus Nikolassee besprochen.  Einer der 3 geplanten Kurse wird im Gemeindehaus der Kirchgemeinde Wannsee im Schuchartweg stattfinden. \nInitiiert von der Drehbühne Berlin\, zusammen mit dem evang. Kirchenkreis Teltow-Zehlendorf und verschiedenen Kirchengemeinden der Region. \nAnmeldung\, bzw. weitere Infos zu Teilnehmenden-Beiträgen\, Terminen\nunter Tel.: 030 – 805 801 39\noder per Mail: info@drehbuehne-berlin.de
URL:https://wannseekalender.de/event/hand-in-hand-ins-andersland/
LOCATION:Gemeindehaus Nikolassee\, Kirchweg 6\, Berlin\, 14129\, Germany
CATEGORIES:Kunst & Kultur,Theater
ATTACH;FMTTYPE=image/jpeg:https://wannseekalender.de/wp-content/uploads/2025/05/andersland-plakat.jpg
ORGANIZER;CN="Drehb%C3%BChne Berlin Theater- und Filmproduktionen":MAILTO:info@drehbuehne-berlin.de
END:VEVENT
BEGIN:VEVENT
DTSTART;TZID=Europe/Berlin:20250506T173000
DTEND;TZID=Europe/Berlin:20250506T190000
DTSTAMP:20260421T074611
CREATED:20241126T082012Z
LAST-MODIFIED:20250411T203422Z
UID:10005533-1746552600-1746558000@wannseekalender.de
SUMMARY:Fahrbibliothek Conradstraße
DESCRIPTION:
URL:https://wannseekalender.de/event/fahrbibliothek-3/2025-05-06/
LOCATION:Conradstraße\, Conradstraße Ecke Straße zum Löwen\, Berlin\, 14109\, Germany
CATEGORIES:Community,Wissen
ATTACH;FMTTYPE=image/png:https://wannseekalender.de/wp-content/uploads/2024/11/AB1811E7-B5F0-40B5-93FC-09C24660164F.png
ORGANIZER;CN="Fahrbibliothek":MAILTO:fahrbibliothek@ba-sz.berlin.de
END:VEVENT
BEGIN:VEVENT
DTSTART;TZID=Europe/Berlin:20250506T190000
DTEND;TZID=Europe/Berlin:20250506T210000
DTSTAMP:20260421T074611
CREATED:20250329T204246Z
LAST-MODIFIED:20250429T043106Z
UID:10020037-1746558000-1746565200@wannseekalender.de
SUMMARY:Kunstgespräch über „Künstlerinnen um 1900“
DESCRIPTION:Oft voller Spott als „Malweibchen“ bezeichnet\, waren nicht nur die Ausbildungsmöglichkeiten von Künstlerinnen um 1900 äußerst begrenzt\, sondern ihr Talent und der Wunsch\, sich professionell der Kunst zu widmen\, passten nicht zur kaiserzeitlichen Wirklichkeit: „Die einen möchten heiraten und die anderen haben auch kein Talent.“ (Bruno Paul\, 1901) war die weitverbreitete Ansicht.Die künstlerische Leidenschaft einer Frau um 1900 musste entsprechend ausgeprägt sein\, um vor diesem sozio-kulturellen Hintergrund alsm professionelle Künstlerin zu bestehen.Dora Hitz\, Julie Wolfthorn und Lotte Laserstein waren solch herausragenden Künstlerinnen. Wir freuen uns sehr\, eine Auswahl ihrer Werke am Dienstag\, 6. Mai\, um 19 Uhr in der Kirche am Stölpchensee in Kooperation mit der Galerie Mutter Fourage zu zeigen.Nach einer kunsthistorischen Einführung durch Dr. Friederike Südmeyer wollen wir vor den Originalen ins Gespräch kommen und gemeinsam in die Welt der Künstlerinnen um 1900 eintauchen.Im Anschluss laden wir sehr herzlich zum beliebten „Rosé an der Chaussee“ am Alten Schulhaus ein.Außerdem möchten wir Sie auf die Vernissage der Galerie Mutter Fourage hinweisen\, die am Sonntag\, 11. Mai um 15 Uhr passend dazu eine bemerkenswerte Ausstellung über neue Aspekte wichtiger Künstlerinnen der letzten 125 Jahre eröffnen wird.Es grüßen herzlichSapna Joshi\, Annette Brinker und Annette Grohmann-Kind
URL:https://wannseekalender.de/event/kunstgespraech-ueber-kuenstlerinnen-um-1900/
LOCATION:Kirche am Stölpchensee\, Wilhelmplatz\, Berlin\, 14109\, Germany
CATEGORIES:Kunst
ATTACH;FMTTYPE=image/jpeg:https://wannseekalender.de/wp-content/uploads/2025/03/Einladung_6.5.25-scaled.jpg
ORGANIZER;CN="K%C3%BCsterei Evangelische Kirchengemeinde Wannsee":MAILTO:kuesterei@kirchengemeinde-wannsee.de
END:VEVENT
BEGIN:VEVENT
DTSTART;TZID=Europe/Berlin:20250506T190000
DTEND;TZID=Europe/Berlin:20250506T220000
DTSTAMP:20260421T074611
CREATED:20250429T043658Z
LAST-MODIFIED:20250429T043658Z
UID:10021824-1746558000-1746568800@wannseekalender.de
SUMMARY:Get Together - Auf einen Rosé an der Chaussee
DESCRIPTION:mit Wein und Käse aus Werder (Havel). \nNeben den verbindenden Kiezgesprächen möchten wir Euch dieses Mal in einem kurzen Vortrag die bezaubernde Weinregion Werder an der Havel vorstellen. Frank Watzke\, Mitglied des Weinbauvereines Werder und leidenschaftlicher Hobbysommelier\, wird uns Einblicke in die Geschichte und die Besonderheiten dieser Region ge-ben. Im Anschluss können mehrere Weine vom Weinbau Dr. Lindicke sowie drei Käsesorten der Käserei Henning aus Töplitz probiert werden.
URL:https://wannseekalender.de/event/get-together-auf-einen-rose-an-der-chaussee-2/
LOCATION:Altes Schulhaus\, Wilhelmplatz 1\, Berlin\, 14109\, Germany
CATEGORIES:Community,Networking
ORGANIZER;CN="F%C3%B6rderverein Evangelische Kirche Wannsee":MAILTO:foerderverein@kirchengemeinde-wannsee.de
END:VEVENT
BEGIN:VEVENT
DTSTART;TZID=Europe/Berlin:20250506T193000
DTEND;TZID=Europe/Berlin:20250506T210000
DTSTAMP:20260421T074611
CREATED:20250327T210222Z
LAST-MODIFIED:20250327T210222Z
UID:10019641-1746559800-1746565200@wannseekalender.de
SUMMARY:Hubert Winkels: Die Hände zum Himmel
DESCRIPTION:Buchpremiere\nGesprächspartner: Tobias Lehmkuhl \nEs sind Entdeckungsreisen in alle Himmelsrichtungen: nach Moskau und Jerusalem\, nach Tokio und Paris\, nach Missouri und in die Oberlausitz\, auf die Künstlerinsel Hombroich\, zum Amselfeld im Kosovo\, nach Stonehenge und nach Delphi. Zwischen Jahrzehnten\, Kontinenten und Ideen bewegt sich Winkels Opus Magnum hin zur Erfahrung selbst. Der tiefere Zusammenhang aller Erfahrungen ist das\, was im Zentrum des modernen Bildungsromans steht. \nIm LCB moderierte Hubert Winkels viele Folgen unserer Veranstaltungsreihe ›Studio LCB‹; heute feiern wir mit dem Verlag Kiepenheuer & Witsch die Premiere seines Romans »Die Hände zum Himmel«.
URL:https://wannseekalender.de/event/hubert-winkels-die-haende-zum-himmel/
LOCATION:Literarisches Colloquium Berlin (LCB)\, Am Sandwerder 5\, Berlin\, 14109\, Germany
CATEGORIES:Bildung,Buchpräsentation,Lesung
ATTACH;FMTTYPE=image/jpeg:https://wannseekalender.de/wp-content/uploads/2025/03/IMG_6095.jpeg
ORGANIZER;CN="Literarisches Colloquium Berlin e. V.":MAILTO:mail@lcb.de
END:VEVENT
END:VCALENDAR