BEGIN:VCALENDAR
VERSION:2.0
PRODID:-//Wannsee Kalender - ECPv6.15.20//NONSGML v1.0//EN
CALSCALE:GREGORIAN
METHOD:PUBLISH
X-ORIGINAL-URL:https://wannseekalender.de
X-WR-CALDESC:Veranstaltungen für Wannsee Kalender
REFRESH-INTERVAL;VALUE=DURATION:PT1H
X-Robots-Tag:noindex
X-PUBLISHED-TTL:PT1H
BEGIN:VTIMEZONE
TZID:Europe/Berlin
BEGIN:DAYLIGHT
TZOFFSETFROM:+0100
TZOFFSETTO:+0200
TZNAME:CEST
DTSTART:20240331T010000
END:DAYLIGHT
BEGIN:STANDARD
TZOFFSETFROM:+0200
TZOFFSETTO:+0100
TZNAME:CET
DTSTART:20241027T010000
END:STANDARD
BEGIN:DAYLIGHT
TZOFFSETFROM:+0100
TZOFFSETTO:+0200
TZNAME:CEST
DTSTART:20250330T010000
END:DAYLIGHT
BEGIN:STANDARD
TZOFFSETFROM:+0200
TZOFFSETTO:+0100
TZNAME:CET
DTSTART:20251026T010000
END:STANDARD
BEGIN:DAYLIGHT
TZOFFSETFROM:+0100
TZOFFSETTO:+0200
TZNAME:CEST
DTSTART:20260329T010000
END:DAYLIGHT
BEGIN:STANDARD
TZOFFSETFROM:+0200
TZOFFSETTO:+0100
TZNAME:CET
DTSTART:20261025T010000
END:STANDARD
BEGIN:DAYLIGHT
TZOFFSETFROM:+0100
TZOFFSETTO:+0200
TZNAME:CEST
DTSTART:20270328T010000
END:DAYLIGHT
BEGIN:STANDARD
TZOFFSETFROM:+0200
TZOFFSETTO:+0100
TZNAME:CET
DTSTART:20271031T010000
END:STANDARD
BEGIN:DAYLIGHT
TZOFFSETFROM:+0100
TZOFFSETTO:+0200
TZNAME:CEST
DTSTART:20280326T010000
END:DAYLIGHT
BEGIN:STANDARD
TZOFFSETFROM:+0200
TZOFFSETTO:+0100
TZNAME:CET
DTSTART:20281029T010000
END:STANDARD
END:VTIMEZONE
BEGIN:VEVENT
DTSTART;VALUE=DATE:20250106
DTEND;VALUE=DATE:20270107
DTSTAMP:20260420T222653
CREATED:20250103T101815Z
LAST-MODIFIED:20250713T172127Z
UID:10014206-1736121600-1799279999@wannseekalender.de
SUMMARY:Angebote der JFE Wannsee
DESCRIPTION:ÖFFNUNGSZEITEN:\nMontag: 13:00 – 20:00 Uhr\nDienstag: 13:00 – 20:00 Uhr\nMittwoch: 14:00 – 20:00 Uhr (Nur Gruppenangebote)\nDonnerstag: 13:00 – 20:00 Uhr\nFreitag: 13:00 – 20:00 Uhr\nSamstag: 11:00 – 13:00 Uhr (Nur Gruppenangebote)\nSonntag: 15:00 – 18:00 Uhr\nAngebote\nTöpfern\nDienstags 14:45 – 16:15 oder 16:30 bis 18:00 mit Clara \nDonnerstags 15:00 – 16:30 oder 17:00 – 18:30 mit Ronja \nFreitags 15:00 – 16:00 oder 16:00 – 17:00 oder 17:00 -18:00 mit Sabine \nJeden 1.Samstag im Monat – Familientöpfern (Eltern/Kind Angebot)  11:00 – 13:00 mit Sabine \nMusik\nGitarre / Flöte / Geige / E-Piano \nMittwoch 14:00 – 19:00 Uhr mit Heiko (Gitarre\, Flöte) \nMittwoch 16:00 – 18:00 Uhr mit Miro (Geige) \nDonnerstag 17:00 – 19:00 Uhr mit Benny (E-Bass\, Ukulele\, E-Gitarre\, E-Piano\, Gesang\, Band-Coaching)) \nTheater\nDonnerstag 16:00 – 18:00 Uhr mit Sabina \nSport\nDienstag  16:15 – 17:15  Zirkel-Training mit Chris \nDonnerstag 15:00 – 16:30 Tischtennis mit Ingo \nSaisonbedingt (April bis Oktober) steht uns die Mehrzwecksportanlage in der Chausseestr.  Dienstags und Freitags ab 14:00 Uhr zur Verfügung. \nFreitags 15:00 – 16:30  Kicken im Kiez mit Ingo \nSchlagzeug\nMontags 14:00 – 18:00 Uhr mit Tom \nDienstags 14:00 – 17:00 Uhr mit Lars \nDonnerstags 13:00 – 17:00 Uhr mit Benny \nFreitags 14:00 – 17:00 Uhr mit Tom
URL:https://wannseekalender.de/event/angebote-der-jfe-wannsee/
LOCATION:JFE Jugendfreizeiteinrichtung Wannsee\, Königstraße 42\, Berlin\, 14109\, Germany
CATEGORIES:Jugendliche,Kinder
ORGANIZER;CN="JFE Jugendfreizeiteinrichtung Wannsee":MAILTO:jfewannsee@steglitz-zehlendorf.de
END:VEVENT
BEGIN:VEVENT
DTSTART;VALUE=DATE:20250430
DTEND;VALUE=DATE:20250501
DTSTAMP:20260420T222653
CREATED:20250424T232913Z
LAST-MODIFIED:20250424T232914Z
UID:10021807-1745971200-1746057599@wannseekalender.de
SUMMARY:Tibetische Energiearbeit Schnuppertag
DESCRIPTION:Wir laden Euch herzlich ein\, mit uns in die Tibetische\nEnergiearbeit (TE®) einzutauchen.\nDiese einzigartige Methode unterstützt jeden Menschen in\nseiner ganz persönlichen Entwicklung und ermöglicht Zugang\nzu bisher ungenutztem Potential.\nIn der TE® arbeiten wir mit einem System von 24\nOrgankreisen. Es basiert auf dem uralten Wissen tibetischer\nMeister*innen.\nWährend einer Behandlung liegst du und bestimmte Punkte\nauf deinem Körper werden berührt. Energie kommt ins Fließen\,\nBlockaden auf allen Ebenen dürfen sich lösen\, und dein\nSystem kann in sein ureigenes Gleichgewicht zurückfinden.\nDieser Prozess ist auf seine sanfte Art tief entspannend und\nvitalisierend.\nGespräch + Behandlung (insgesamt ca. 60 Minuten): 50€\nMehr Informationen und Anmeldung: www.annakalvelage.de
URL:https://wannseekalender.de/event/2843-2/
LOCATION:Königsweg 332\, Königsweg 332\, Berlin\, 14109\, Germany
CATEGORIES:Bildung
ORGANIZER;CN="Anna Kalvelage":MAILTO:kontakt@annakalvelage.de
END:VEVENT
BEGIN:VEVENT
DTSTART;TZID=Europe/Berlin:20250430T083000
DTEND;TZID=Europe/Berlin:20250430T094500
DTSTAMP:20260420T222653
CREATED:20250227T225755Z
LAST-MODIFIED:20250227T225932Z
UID:10018047-1746001800-1746006300@wannseekalender.de
SUMMARY:Kundalini Yoga
DESCRIPTION:Hatha Yoga in der Tradition des Kundalini Yoga richtet sich ausdrücklich an Dich\, wenn du in unserer heutigen schnelllebigen\, komplexen\, ungewissen Welt die vielen Herausforderungen im Berufs- und Privatleben gut bewältigen möchtest. Es fördert deine eigene Kraft\, dein Durchhaltevermögen und deine innere Stabilität\, so dass du herausfordernden Situationen gewachsen bist und diese mit mehr Gelassenheit\, Lebensmut und Optimismus angehen kannst. \n  \nKundalini-Yoga ist besonders auf die eigene tiefe Erfahrung ausgerichtet und verbindet dich mit deinem wahren inneren Selbst. Das Bewusstsein wird in allen Lebensbereichen sensibilisiert\, weckt die Lebensenergie\, die Kundalini\, und bringt sie zum Fließen. \n\n\n\n\n\n\n\n\n\n\n\n\n\n\n\n\n\nAblauf einer Yogastunde\n\n\n\n\nBestandteil jeder Stunde sind Körperübungen (Asanas)\, Atemführung (Pranayama)\, Tiefenentspannung und Meditation.\n  \nNach dem gemeinsamen Einstimmen und den Aufwärmübungen folgt eine Übungsreihe (Kriya) für einen bestimmten Nutzen (z.B. für die Flexibilität der Wirbelsäule oder zur Stärkung des Immun- oder Nervensystems). Neben ruhigen Halteübungen gibt es auch dynamische fließende Übungen. Anschließend folgen eine lange Tiefenentspannung im Liegen und eine Meditation. Die Meditationen sind sehr vielseitig und können bestimmte Atemtechniken (Pranayamas)\, Mudras (Hand- und Armhaltungen) und Mantren (Konzentrationswörter) oder eine Kombination aus allen enthalten. Den Abschluss bildet das gemeinsame Ausstimmen. \n  \nEs ist günstig\, zwei Stunden vor dem Yogaunterricht keine größeren Mahlzeiten zu sich zu nehmen. \n  \nEin Einstieg ist jederzeit für Yogaerfahrene und Anfänger – auch ohne Vorkenntnisse – möglich\, unabhängig von Deinem Alter und Deiner körperlichen Leistungsfähigkeit. Teile mir hier bitte vorher mit\, wenn Du Einschränkungen oder Beschwerden hast. \n\n\n\n\n\n\n\n\nKosten:\nProbestunde Yoga 15 € \nEinzelne Yogastunde (im Kurs) 18 € \n10 Termine 160 € (75 Min.) \n  \nErfreulicherweise ist mein Kurs „Hatha Yoga für mehr Beweglichkeit und Gesundheit“ 10 x 75 Min. von der Zentralen Prüfstelle Prävention (ZPP) zertifiziert worden. Du kannst bis zu 2x/Jahr für diesen Präventionskurs einen Zuschuss von deiner Krankenkasse erhalten und dich bei deiner Krankenkasse erkundigen\, in welcher Höhe der Zuschuss ausfällt. \nDu kannst auch während des Kurses dazu stoßen und die Yogastunden einzeln bezahlen
URL:https://wannseekalender.de/event/kundalini-yoga-2/2025-04-30/
LOCATION:Im Haus des Waldkindergarten\, Zum Heckeshorn 33\, Haus 2\, Berlin\, 14109\, Germany
ORGANIZER;CN="Christiane Eske - Coaching & Yoga":MAILTO:christiane@christiane-eske.de
END:VEVENT
BEGIN:VEVENT
DTSTART;TZID=Europe/Berlin:20250430T093000
DTEND;TZID=Europe/Berlin:20250430T120000
DTSTAMP:20260420T222653
CREATED:20241126T082011Z
LAST-MODIFIED:20251024T232910Z
UID:10003437-1746005400-1746014400@wannseekalender.de
SUMMARY:Fahrbibliothek Conradschule
DESCRIPTION:Weitere Informationen: https://www.berlin.de/stadtbibliothek-steglitz-zehlendorf/bibliotheken/fahrbibliothek/haltestellen/artikel.1224872.php
URL:https://wannseekalender.de/event/fahrbibliothek/2025-04-30/
LOCATION:Conradschule\, Schulstraße 4\, Berlin\, 14109\, Germany
CATEGORIES:Community
ATTACH;FMTTYPE=image/png:https://wannseekalender.de/wp-content/uploads/2024/11/AB1811E7-B5F0-40B5-93FC-09C24660164F.png
ORGANIZER;CN="Fahrbibliothek":MAILTO:fahrbibliothek@ba-sz.berlin.de
END:VEVENT
BEGIN:VEVENT
DTSTART;TZID=Europe/Berlin:20250430T150000
DTEND;TZID=Europe/Berlin:20250430T160000
DTSTAMP:20260420T222653
CREATED:20241126T082050Z
LAST-MODIFIED:20241229T201758Z
UID:10003699-1746025200-1746028800@wannseekalender.de
SUMMARY:Rückengymnastik mit Jana
DESCRIPTION:Wöchentliche Rückengymnastik\, 2 Gruppen. Weitere Informationen: https://www.treffpunkt-im-besten-alter.de/wannsee/
URL:https://wannseekalender.de/event/rueckengymnastik-mit-jana/2025-04-30/
LOCATION:Treffpunkt Im besten Alter\, Königstraße 25-27\, Berlin\, 14109\, Germany
CATEGORIES:Sport
ORGANIZER;CN="Treffpunkt Im besten Alter":MAILTO:treffpunkt.wannsee@gmx.de
END:VEVENT
BEGIN:VEVENT
DTSTART;TZID=Europe/Berlin:20250430T150000
DTEND;TZID=Europe/Berlin:20250430T170000
DTSTAMP:20260420T222653
CREATED:20250125T184659Z
LAST-MODIFIED:20250125T185244Z
UID:10015901-1746025200-1746032400@wannseekalender.de
SUMMARY:Töpferkurse für Kinder und Jugendliche
DESCRIPTION:Kinder und Jugendliche können sich hier am Arbeiten mit Ton ausprobieren und ihrer Fantasie beim Herstellen eigener kleiner Kunstwerke freien Lauf lassen. \nBeginn: 15 und 16 Uhr
URL:https://wannseekalender.de/event/toepferkurse-fuer-kinder-und-jugendliche/2025-04-30/
LOCATION:JFE Jugendfreizeiteinrichtung Wannsee\, Königstraße 42\, Berlin\, 14109\, Germany
CATEGORIES:Kinder
ORGANIZER;CN="%C3%96kumenisches Willkommen Wannsee (%C3%96WW)":MAILTO:oeww@kirchengemeinde-wannsee.de
END:VEVENT
BEGIN:VEVENT
DTSTART;TZID=Europe/Berlin:20250430T150000
DTEND;TZID=Europe/Berlin:20250430T173000
DTSTAMP:20260420T222653
CREATED:20241207T063341Z
LAST-MODIFIED:20241207T063440Z
UID:10008224-1746025200-1746034200@wannseekalender.de
SUMMARY:Sprach- und Begegnungscafé
DESCRIPTION:In unserem Café haben alle Besucher Zeit\, sich bei Kaffee\, Tee und Kuchen auszutauschen. \nHier ist die Gelegenheit\, die Kenntnisse der deutschen Sprache mit Themen des Alltags zu üben. Wenn es Fragen zu Anträgen\, Wohnung\, Arbeit und ähnlichen Themen gibt\, helfen unsere Ehrenamtlichen gerne. \nAnmeldung: nicht erforderlich
URL:https://wannseekalender.de/event/sprach-und-begegnungscafe/2025-04-30/
LOCATION:JFE Jugendfreizeiteinrichtung Wannsee\, Königstraße 42\, Berlin\, 14109\, Germany
CATEGORIES:Community
ORGANIZER;CN="%C3%96kumenisches Willkommen Wannsee (%C3%96WW)":MAILTO:oeww@kirchengemeinde-wannsee.de
END:VEVENT
BEGIN:VEVENT
DTSTART;TZID=Europe/Berlin:20250430T150000
DTEND;TZID=Europe/Berlin:20250430T180000
DTSTAMP:20260420T222653
CREATED:20241126T082042Z
LAST-MODIFIED:20241208T130053Z
UID:10005793-1746025200-1746036000@wannseekalender.de
SUMMARY:Mittwochsgruppe
DESCRIPTION:Kaffee und Kuchen. Anschließend Canasterspiel. \nWeitere Informationen:\nDiakonin Indra Wiesinger 0151/20221966 oder Gemeindebüro 030/8051650 \nhttps://wannseebote.ekbo.de/wir/kontakte
URL:https://wannseekalender.de/event/mittwochsgruppe/2025-04-30/
LOCATION:Altes Schulhaus\, Wilhelmplatz 1\, Berlin\, 14109\, Germany
CATEGORIES:Community
ORGANIZER;CN="Diakonie Evangelische Kirchengemeinde Berlin-Wannsee":MAILTO:diakonin@kirchengemeinde-wannsee.de
END:VEVENT
BEGIN:VEVENT
DTSTART;TZID=Europe/Berlin:20250430T160000
DTEND;TZID=Europe/Berlin:20250430T170000
DTSTAMP:20260420T222653
CREATED:20250413T053111Z
LAST-MODIFIED:20250413T053137Z
UID:10021181-1746028800-1746032400@wannseekalender.de
SUMMARY:Osterkonzert im Sprachcafé
DESCRIPTION:Kinder aus unseren Musikkursen zeigen was sie gelernt haben. Wir laden alle Interessierten zum Mithören herzlich ein.\nVorher ab 15 Uhr Kaffee und Kuchen
URL:https://wannseekalender.de/event/osterkonzert-im-sprachcafe/
LOCATION:JFE Jugendfreizeiteinrichtung Wannsee\, Königstraße 42\, Berlin\, 14109\, Germany
CATEGORIES:Familie,Kinder,Musik
ORGANIZER;CN="%C3%96kumenisches Willkommen Wannsee (%C3%96WW)":MAILTO:oeww@kirchengemeinde-wannsee.de
END:VEVENT
BEGIN:VEVENT
DTSTART;TZID=Europe/Berlin:20250430T160000
DTEND;TZID=Europe/Berlin:20250430T173000
DTSTAMP:20260420T222653
CREATED:20250308T202447Z
LAST-MODIFIED:20250308T202543Z
UID:10019004-1746028800-1746034200@wannseekalender.de
SUMMARY:IM FOKUS. Gesammelte Geschichten | Kuratorische Führung
DESCRIPTION:Herzlich laden wir Sie zu kostenfreien\, exklusiven Führungen durch die Ausstellung „IM FOKUS. Gesammelte Geschichten“ ein. Erfahren Sie aus erster Hand mehr über die einzelnen Schenkungen und Dauerleihgaben der Liebermann-Villa sowie über die Briefe Max Liebermanns. \nIm Anschluss bieten wir Ihnen gerne ein Glas Wein an und freuen uns auf den gemeinsamen Austausch.
URL:https://wannseekalender.de/event/im-fokus-gesammelte-geschichten-kuratorische-fuehrung/
LOCATION:Liebermann-Villa\, Colomierstraße 3\, Berlin\, 14109\, Germany
CATEGORIES:Führung
ORGANIZER;CN="Max-Liebermann-Gesellschaft Berlin e.V.":MAILTO:info@liebermann-villa.de
END:VEVENT
BEGIN:VEVENT
DTSTART;TZID=Europe/Berlin:20250430T160000
DTEND;TZID=Europe/Berlin:20250430T183000
DTSTAMP:20260420T222653
CREATED:20250125T185121Z
LAST-MODIFIED:20250125T185121Z
UID:10015640-1746028800-1746037800@wannseekalender.de
SUMMARY:Musikunterricht für Kinder und Jugendliche
DESCRIPTION:Der kostenlose Unterricht für ist ein offenes Angebot für Kinder und Jugendliche aller Kulturen. Hier können sie erste Erfahrungen mit den Instrumenten Gitarre\, Violine und E-Piano machen\, oder ihr vorhandenes Können erweitern. \nBeginn: 16:00/16:30/17:00/17:30 Uhr \nDauer: 1 Stunde \nInstrumente: Gitarre\, Kurs bei Heiko\nVioline\, Kurs bei Myroslav\nE-Piano\, Kurs bei Anna
URL:https://wannseekalender.de/event/musikunterricht-fuer-kinder-und-jugendliche/2025-04-30/
LOCATION:JFE Jugendfreizeiteinrichtung Wannsee\, Königstraße 42\, Berlin\, 14109\, Germany
ORGANIZER;CN="%C3%96kumenisches Willkommen Wannsee (%C3%96WW)":MAILTO:oeww@kirchengemeinde-wannsee.de
END:VEVENT
BEGIN:VEVENT
DTSTART;TZID=Europe/Berlin:20250430T180000
DTEND;TZID=Europe/Berlin:20250430T193000
DTSTAMP:20260420T222653
CREATED:20250215T223620Z
LAST-MODIFIED:20250215T223656Z
UID:10017143-1746036000-1746041400@wannseekalender.de
SUMMARY:Methodisches Stegreif-Theater
DESCRIPTION:Leichtigkeit leben !\n„Jeder Mensch ist ein göttlicher Paradiesvogel. Die Meisten wissen es nur noch nicht…“\nEinmal völlig loslassen\, raus aus den eingefahrenen immer gleichen „Hamsterrad“-Verhaltensmustern.\nEin bischen „ver-rückt“ spielen\, in diverse Rollen schlüpfen\, und dadurch andere Perspektiven und Lösungen erkennen.\nSich spielerisch spontanen Entscheidungen nähern\, und so das Ur-Vertrauen in die Kraft der eigenen Intuition zurückgewinnen. \nDurch Lachen und Überzeichnung den Alltagsdramen mit Humor und Leichtigkeit begegnen und ihnen so den blockierenden Ernst nehmen. Ein freudvoller Sprung hinein in den persönlichen „Flow „! \nAus langjähriger Erfahrung der Theaterarbeit kann ich berichten:\nWer einmal über den Tellerrand gesprungen ist\, möchte nicht mehr zurück in die Einheitssuppe…:-)\nAnmeldung zur kostenlosen Schnupperstunde ist allzeit möglich!\nIch freue mich über jeden neuen „Paradiesvogel“ \nGruppengröße: maximal 10 Teilnehmer\nMtl. Kursgebühr: 65\,- Euro
URL:https://wannseekalender.de/event/methodisches-stegreif-theater/2025-04-30/
LOCATION:JFE Jugendfreizeiteinrichtung Wannsee\, Königstraße 42\, Berlin\, 14109\, Germany
ORGANIZER;CN="Schauspielclub Wannsee":MAILTO:schauspielclub.wannsee@gmail.com
END:VEVENT
BEGIN:VEVENT
DTSTART;TZID=Europe/Berlin:20250430T193000
DTEND;TZID=Europe/Berlin:20250430T213000
DTSTAMP:20260420T222653
CREATED:20241208T143905Z
LAST-MODIFIED:20241208T144413Z
UID:10008492-1746041400-1746048600@wannseekalender.de
SUMMARY:Kunstkurs
DESCRIPTION:Kunstkurs für Erwachsene und Jugendliche im Atelier von der Künstlerin Simone Westphal Hier kannst du unterschiedliche Techniken kennenlernen oder vertiefen: ob zeichen\, malen mit Stiften\, Kohle\, mit Aquarell oder Acryl\, filzen oder drucken. Alles ist möglich. Ich begleite dich bei deinen kreativen Projekten und gebe Impulse und Anleitung damit du deine Idee umsetzen kannst. Jeden Mittwochabend von 19.30 Uhr bis 21.30 Uhr (außer in den Ferien)\nAnmeldung unter 01703290894 \n  \nDer kurs kostet pro Mittwochabend 30 Euro.
URL:https://wannseekalender.de/event/kunstkurs/2025-04-30/
LOCATION:Atelier Simone Westphal\, Zum Heckeshorn 33\, Haus 2\, Berlin\, Berlin\, 14109\, Germany
CATEGORIES:Bildung,DIY
ATTACH;FMTTYPE=image/jpeg:https://wannseekalender.de/wp-content/uploads/2024/12/Der-Sprung-2014-klein-Ruby-Westphal-scaled.jpg
ORGANIZER;CN="Simone Westphal Ku%CC%88nstlerin":MAILTO:Simone@Simone-Westphal.de
END:VEVENT
BEGIN:VEVENT
DTSTART;TZID=Europe/Berlin:20250430T193000
DTEND;TZID=Europe/Berlin:20250430T213000
DTSTAMP:20260420T222653
CREATED:20250102T115941Z
LAST-MODIFIED:20250103T141541Z
UID:10013386-1746041400-1746048600@wannseekalender.de
SUMMARY:Probetermin Kantatenchor Wannsee
DESCRIPTION:Unser wöchentlicher Probentermin Vierzehntägig arbeitet eine Stimmbildnerin in Gruppen mit dem Chor.Der Chor freut sich über interessierte Sängerinnen und Sänger und heißt sie herzlich willkommen. \nLeitung: Ada Belidis\nKontakt: Anne Heinrichs 0151/20554243
URL:https://wannseekalender.de/event/probetermin-kantatenchor-wannsee/2025-04-30/
LOCATION:Evangelisches Gemeindehaus\, Schuchardtweg 5\, Berlin\, 14109\, Germany
END:VEVENT
BEGIN:VEVENT
DTSTART;TZID=Europe/Berlin:20250430T193000
DTEND;TZID=Europe/Berlin:20250501T001000
DTSTAMP:20260420T222653
CREATED:20250209T130020Z
LAST-MODIFIED:20250429T082518Z
UID:10016805-1746041400-1746058200@wannseekalender.de
SUMMARY:MUTTER ANDERS • Ein Hexenmonolog | im Anschluss Band 50somethings & Tanz in den Mai
DESCRIPTION:BITTE ANMELDEN unter karten@mutter-fourage.de – Theatertickets sind limitiert. \n  \nACHTUNG VERLOSUNG:\n \nWir verlosen 1 x 2 Karten für das einmalige Kultur-Erlebnis in Wannsee:\nMUTTER ANDERS • Ein Hexenmonolog der Drehbühne Berlin + Tanz in den Mai\nEinfach bis 22.4.2025 eine E-Mail schreiben an: info@wannseekalender.de – Viel Glück! \nDer oder die glückliche Gewinner/in wird von uns nach Einsendeschluss telefonisch benachrichtigt. \n  \nDas Musik-Theater-Highlight des Abends\n19.30 Uhr MUTTER ANDERS – Ein Hexenmonolog • Drehbühne Berlin \nMit Nanda Ben Chaabane und Ivan Andrianov \nMutter Anders kommt aus der Anderswelt. Mit Charme und Witz erzählt und singt sie ihre Geschichte. Die Geschichte der Frauen\, der Hexen\, der Geschlechter. Die Geschichte von uns allen – vom Anbeginn der Zeit bis heute. Ein Hexenmonolog\, der mit Leichtigkeit und Humor ernsthafte Fragen stellt und vom Geschlechterfrieden träumt. \n   \n \nmehr Infos hier \n21 bis 22 Uhr Die Jazzband „50somethings“ spielt auf dem Hof Mutter Fourage Musik für flotte Tänzer\nmit Martin Raddatz – Klarinette & Gesang • Michael Stindtmann – Bass • Martin Wilkens – Piano • Kai Meyer-Ricks – Gitarre & Gesang \n \n50somethings \n22 bis 0.10 Uhr gibt es DJ-Musik in der Scheune \nFeuerkorb und Bar auf dem Hof \nWir bitten um Anmeldung per Email karten@mutter-fourage.de oder Sie buchen Ihr Ticket direkt online bei der Drehbühne Berlin.\nTICKETS IM VORVERKAUF HIER \nEintritt für alles (inklusive Band danach und DJ) 25€/ ermässigt 20€ (Schüler/Studenten/Azubis/BerlinPass – Nachweis bitte vorzeigen) \nNachzügler ab 21h zahlen 10€ (Zweiter Einlass ab 20.45h – während des Theaterstücks ist kein Einlass möglich) \n  \n 
URL:https://wannseekalender.de/event/tanz-in-den-mai-in-der-kulturscheune-und-auf-dem-hof-mutter-fourage/
LOCATION:Galerie Mutter Fourage & Kulturscheune\, Chausseestraße 15A\, Berlin\, 14109\, Germany
CATEGORIES:Musik,Tanz,Theater
ATTACH;FMTTYPE=image/jpeg:https://wannseekalender.de/wp-content/uploads/2025/02/TanzindenMai-scaled.jpg
ORGANIZER;CN="Drehb%C3%BChne Berlin Theater- und Filmproduktionen":MAILTO:info@drehbuehne-berlin.de
END:VEVENT
END:VCALENDAR