BEGIN:VCALENDAR
VERSION:2.0
PRODID:-//Wannsee Kalender - ECPv6.15.20//NONSGML v1.0//EN
CALSCALE:GREGORIAN
METHOD:PUBLISH
X-WR-CALNAME:Wannsee Kalender
X-ORIGINAL-URL:https://wannseekalender.de
X-WR-CALDESC:Veranstaltungen für Wannsee Kalender
REFRESH-INTERVAL;VALUE=DURATION:PT1H
X-Robots-Tag:noindex
X-PUBLISHED-TTL:PT1H
BEGIN:VTIMEZONE
TZID:Europe/Berlin
BEGIN:DAYLIGHT
TZOFFSETFROM:+0100
TZOFFSETTO:+0200
TZNAME:CEST
DTSTART:20240331T010000
END:DAYLIGHT
BEGIN:STANDARD
TZOFFSETFROM:+0200
TZOFFSETTO:+0100
TZNAME:CET
DTSTART:20241027T010000
END:STANDARD
BEGIN:DAYLIGHT
TZOFFSETFROM:+0100
TZOFFSETTO:+0200
TZNAME:CEST
DTSTART:20250330T010000
END:DAYLIGHT
BEGIN:STANDARD
TZOFFSETFROM:+0200
TZOFFSETTO:+0100
TZNAME:CET
DTSTART:20251026T010000
END:STANDARD
BEGIN:DAYLIGHT
TZOFFSETFROM:+0100
TZOFFSETTO:+0200
TZNAME:CEST
DTSTART:20260329T010000
END:DAYLIGHT
BEGIN:STANDARD
TZOFFSETFROM:+0200
TZOFFSETTO:+0100
TZNAME:CET
DTSTART:20261025T010000
END:STANDARD
BEGIN:DAYLIGHT
TZOFFSETFROM:+0100
TZOFFSETTO:+0200
TZNAME:CEST
DTSTART:20270328T010000
END:DAYLIGHT
BEGIN:STANDARD
TZOFFSETFROM:+0200
TZOFFSETTO:+0100
TZNAME:CET
DTSTART:20271031T010000
END:STANDARD
BEGIN:DAYLIGHT
TZOFFSETFROM:+0100
TZOFFSETTO:+0200
TZNAME:CEST
DTSTART:20280326T010000
END:DAYLIGHT
BEGIN:STANDARD
TZOFFSETFROM:+0200
TZOFFSETTO:+0100
TZNAME:CET
DTSTART:20281029T010000
END:STANDARD
END:VTIMEZONE
BEGIN:VEVENT
DTSTART;VALUE=DATE:20250106
DTEND;VALUE=DATE:20270107
DTSTAMP:20260420T092736
CREATED:20250103T101815Z
LAST-MODIFIED:20250713T172127Z
UID:10014206-1736121600-1799279999@wannseekalender.de
SUMMARY:Angebote der JFE Wannsee
DESCRIPTION:ÖFFNUNGSZEITEN:\nMontag: 13:00 – 20:00 Uhr\nDienstag: 13:00 – 20:00 Uhr\nMittwoch: 14:00 – 20:00 Uhr (Nur Gruppenangebote)\nDonnerstag: 13:00 – 20:00 Uhr\nFreitag: 13:00 – 20:00 Uhr\nSamstag: 11:00 – 13:00 Uhr (Nur Gruppenangebote)\nSonntag: 15:00 – 18:00 Uhr\nAngebote\nTöpfern\nDienstags 14:45 – 16:15 oder 16:30 bis 18:00 mit Clara \nDonnerstags 15:00 – 16:30 oder 17:00 – 18:30 mit Ronja \nFreitags 15:00 – 16:00 oder 16:00 – 17:00 oder 17:00 -18:00 mit Sabine \nJeden 1.Samstag im Monat – Familientöpfern (Eltern/Kind Angebot)  11:00 – 13:00 mit Sabine \nMusik\nGitarre / Flöte / Geige / E-Piano \nMittwoch 14:00 – 19:00 Uhr mit Heiko (Gitarre\, Flöte) \nMittwoch 16:00 – 18:00 Uhr mit Miro (Geige) \nDonnerstag 17:00 – 19:00 Uhr mit Benny (E-Bass\, Ukulele\, E-Gitarre\, E-Piano\, Gesang\, Band-Coaching)) \nTheater\nDonnerstag 16:00 – 18:00 Uhr mit Sabina \nSport\nDienstag  16:15 – 17:15  Zirkel-Training mit Chris \nDonnerstag 15:00 – 16:30 Tischtennis mit Ingo \nSaisonbedingt (April bis Oktober) steht uns die Mehrzwecksportanlage in der Chausseestr.  Dienstags und Freitags ab 14:00 Uhr zur Verfügung. \nFreitags 15:00 – 16:30  Kicken im Kiez mit Ingo \nSchlagzeug\nMontags 14:00 – 18:00 Uhr mit Tom \nDienstags 14:00 – 17:00 Uhr mit Lars \nDonnerstags 13:00 – 17:00 Uhr mit Benny \nFreitags 14:00 – 17:00 Uhr mit Tom
URL:https://wannseekalender.de/event/angebote-der-jfe-wannsee/
LOCATION:JFE Jugendfreizeiteinrichtung Wannsee\, Königstraße 42\, Berlin\, 14109\, Germany
CATEGORIES:Jugendliche,Kinder
ORGANIZER;CN="JFE Jugendfreizeiteinrichtung Wannsee":MAILTO:jfewannsee@steglitz-zehlendorf.de
END:VEVENT
BEGIN:VEVENT
DTSTART;VALUE=DATE:20250422
DTEND;VALUE=DATE:20250426
DTSTAMP:20260420T092736
CREATED:20250102T201802Z
LAST-MODIFIED:20250102T201802Z
UID:10013656-1745280000-1745625599@wannseekalender.de
SUMMARY:Europa direkt: Rechtspopulismus und Rechtsextremismus in der EU!
DESCRIPTION:Rechtspopulistische und rechtsextreme bzw. nationalistische Einstellungen\, Bewegungen und Organisationen werden in vielen Staaten der EU immer stärker. In einigen Ländern sind sie zu einer bestimmenden Größe geworden. Dies wirkt sich nicht zuletzt auf die Innen- und Außenpolitik der EU aus und bestimmt die Auseinandersetzungen um ihre Weiterentwicklung. \nIn diesem Seminar sollen Hintergründe und Dimensionen sowie Ziele und Methoden rechtspopulistischer Bewegungen und Parteien im Vergleich analysiert und gleichzeitig Strategien und Wege diskutiert werden\, wie diesen Herausforderungen begegnet und das demokratische und soziale Europa gestärkt werden kann. \nEs wird neben den klassischen Seminarformen auch Gespräche mit Europapolitiker*innen aus Parteien und Verbänden geben\, um ein möglichst aktuelles Bild der Möglichkeiten und Grenzen der politischen Auseinandersetzung mit dem Rechtspopulismus und Rechtsextremismus in Europa zu erhalten. \n\nZIELGRUPPEN\n\niAN (interessierte Arbeitnehmer*innen)\n\n\n\nFREISTELLUNGSGRUNDLAGE\n\nSU (§ 9 Satz 2 Nr. 3 Sonderurlaubsverordnung für Bundesbeamt*innen und Richter*innen)\nTV (tarifvertragliche Freistellungsregelungen)\nBU (Bildungsurlaubsgesetze/ Bildungszeitgesetze der Länder)\n§ 7b SGB II i.V.m. ErrV\n\n\n\n\n\n\n\n\n22.04.-25.04.2025\nNr.:\nBE0325042205 \nVeranstalter:\nver.di GPB \nOrt:\nver.di – Bildungszentrum Berlin \nKosten:\nFür ver.di-Mitglieder kostenlos. Für Nicht-ver.di-Mitglieder: Seminargebühr inkl. Tagungspauschale und Unterkunft beträgt 425\,00 EUR (inkl. MwSt.) \nANMELDEN
URL:https://wannseekalender.de/event/europa-direkt-rechtspopulismus-und-rechtsextremismus-in-der-eu/
LOCATION:ver.di Bildungs- und Begegnungszentrum Clara Sahlberg\, Koblanckstr. 10\, Berlin\, 14109
CATEGORIES:Bildung
ORGANIZER;CN="ver.di GPB":MAILTO:bildung@verdi-gpb.de
END:VEVENT
BEGIN:VEVENT
DTSTART;VALUE=DATE:20250422
DTEND;VALUE=DATE:20250426
DTSTAMP:20260420T092736
CREATED:20250102T202106Z
LAST-MODIFIED:20250102T202106Z
UID:10013657-1745280000-1745625599@wannseekalender.de
SUMMARY:Die Zukunft in unseren Händen!
DESCRIPTION:Eine Entdeckungsreise in die Denkräume des Futuriums \nWie werden wir in Zukunft leben und arbeiten? In diesem Seminar erfahren wir\, welche Innovationen unsere Zukunft prägen könnten. Wir analysieren Chancen und Risiken des digitalen Wandels und diskutieren\, wie wir damit umgehen können. Es gibt viele Möglichkeiten\, sich mit technologischen Entwicklungen und sozialen Innovationen auseinanderzusetzen. Im Haus der Zukünfte  dem Berliner Museum Futurium  entdecken die Teilnehmenden verschiedene Szenarien und entwickeln Ideen\, wie eine wünschenswerte Arbeits- und Lebenswelt der Zukunft aussehen könnte. Wir erarbeiten Lösungen\, um den Herausforderungen der Gegenwart zu begegnen und diese Zukunft solidarisch und demokratisch zu gestalten. Nutze deine Chance und gestalte die Zukunft aktiv mit! \n\nZIELGRUPPEN\n\niAN (interessierte Arbeitnehmer*innen)\n\n\n\nFREISTELLUNGSGRUNDLAGE\n\nSU (§ 9 Satz 2 Nr. 3 Sonderurlaubsverordnung für Bundesbeamt*innen und Richter*innen)\nBU (Bildungsurlaubsgesetze/ Bildungszeitgesetze der Länder)\n\n\n\n\n\n\n\n\n22.04.-25.04.2025\nNr.:\nBE0325042206 \nVeranstalter:\nver.di GPB\nin Kooperation mit dem IMK \nOrt:\nver.di – Bildungszentrum Berlin \nKosten:\nFür ver.di-Mitglieder kostenlos. Für Nicht-ver.di-Mitglieder: Seminargebühr inkl. Tagungspauschale und Unterkunft beträgt 340\,00 EUR (inkl. MwSt.) \nANMELDEN
URL:https://wannseekalender.de/event/die-zukunft-in-unseren-haenden/
LOCATION:ver.di Bildungs- und Begegnungszentrum Clara Sahlberg\, Koblanckstr. 10\, Berlin\, 14109
ORGANIZER;CN="ver.di GPB":MAILTO:bildung@verdi-gpb.de
END:VEVENT
BEGIN:VEVENT
DTSTART;VALUE=DATE:20250424
DTEND;VALUE=DATE:20250428
DTSTAMP:20260420T092736
CREATED:20250301T211459Z
LAST-MODIFIED:20250301T211513Z
UID:10018125-1745452800-1745798399@wannseekalender.de
SUMMARY:StadtLandschaften im Dialog • Carsten Kaufhold | Hans Goetsch
DESCRIPTION:In Stadtlandschaften im Dialog begegnen sich zwei künstlerische Positionen aus unterschiedlichen Zeiten. Die Ausstellung vereint Werke von Carsten Kaufhold (1967–2022) und Hans Goetsch (1892–1981) und lässt ihre jeweiligen Blickwelten und Perspektiven auf die Stadtlandschaft in einen inspirierenden Dialog treten. \nDie Werke von Carsten Kaufhold fangen Berlin in einer außergewöhnlichen Klarheit ein. Über drei Jahrzehnte hinweg widmete er sich den charakteristischen Straßenschluchten\, Brandmauern\, Gewerbehöfen und Randgebieten der Stadt – fernab von Hektik und urbaner Betriebsamkeit. Seine lichtdurchfluteten Gemälde zeigen Berlin als stillen\, strukturierten Raum\, in dem die Zeit scheinbar innehält. Ohne nostalgische Verklärung\, doch voller Präzision und Ruhe\, erschafft Kaufhold eine eindrückliche\, fast greifbare Atmosphäre der Großstadt. \nHans Goetsch widmete sich zeitlebens der Darstellung von Landschaften und Stadtansichten\, die durch eine klare\, reduzierte Formsprache geprägt sind. Besonders das zerstörte Berlin wurde zu einem zentralen Thema seines Schaffens. In seinen großformatigen Zeichnungen und Aquarellen spiegelt sich eine melancholische Farbigkeit wider\, die die Atmosphäre der Stadt eindrucksvoll einfängt. Seine Werke\, geprägt von grafischer Kargheit und feiner Nuancierung\, laden dazu ein\, urbane Räume in ihrer stillen\, oft nachdenklichen Schönheit neu zu betrachten. \n2. März bis 27. April 2025 \nÖffnungszeiten\nDonnerstag und Freitag 14 bis 18 Uhr\nSamstag und Sonntag 12 bis 17 Uhr
URL:https://wannseekalender.de/event/stadtlandschaften-im-dialog-carsten-kaufhold-hans-goetsch-8/
LOCATION:Galerie Mutter Fourage & Kulturscheune\, Chausseestraße 15A\, Berlin\, 14109\, Germany
CATEGORIES:Kunst & Kultur,Kunstausstellung
ATTACH;FMTTYPE=image/jpeg:https://wannseekalender.de/wp-content/uploads/2025/03/Plakat_Stadtlandschaften-scaled.jpg
ORGANIZER;CN="Galerie Mutter Fourage":MAILTO:galerie@mutter-fourage.de
END:VEVENT
BEGIN:VEVENT
DTSTART;TZID=Europe/Berlin:20250424T083000
DTEND;TZID=Europe/Berlin:20250424T093000
DTSTAMP:20260420T092736
CREATED:20250123T192938Z
LAST-MODIFIED:20251228T224357Z
UID:10015038-1745483400-1745487000@wannseekalender.de
SUMMARY:Breathwalk
DESCRIPTION:Atmen und Gehen sind zwei der natürlichsten und energetisch wirkungsvollsten Dinge\, die wir tun. Breathwalk ist eine Technik\, die bestimmte Atem- und Schrittmuster mit leichten Yogaübungen\, beruhigenden Klangmeditationen und energetisierende Fingerbewegungen kombiniert. Es gibt unterschiedliche Programme\, die verschiedene Wirkungen haben\, z. B. für mehr Gelassenheit\, Energie\, Fokus oder Kreativität. Breathwalk ist für alle geeignet\, die ihre körperliche und mentale Verfassung verbessern möchten. Walken ist gut für das Herz-Kreislauf-System\, den Stoffwechsel und die hormonelle Steuerung. Meditation verbessert die Konzentration und baut Stress ab. Die beiden Begründer\, Yogi Bhajan\, Kundalini-Yoga-Meister und Gurucharan Singh\, Wissenschaftler und Psychotherapeut\, haben diese kraftvolle Methode als Gesundheitstraining für Vitalität und Lebensfreude entwickelt. Und das Beste: es macht Spaß\, ist einfach auszuführen\, schnell zu erlernen\, und du brauchst lediglich feste bequeme Schuhe!\n\n\n\n\nKurs\n\n\n\n\nDer Walk endet an der Badestelle Alter Hof\, daher bitte noch Zeit für das Zurücklaufen zum Ausgangspunkt einplanen. \nKosten: \nEinzelstunde 13\,- € \n10er Karte 110 € (3 Monate gültig) \nAnmeldung:\nBitte vorherige Anmeldung unter 0178-4326225. \n 
URL:https://wannseekalender.de/event/breathwalk/2025-04-24/
LOCATION:Andreaskirche – Kurve Lindenstraße / Ecke Braschzeile\, Lindenstraße 33\, Berlin\, 14109\, Germany
CATEGORIES:Sport
ORGANIZER;CN="Christiane Eske - Coaching & Yoga":MAILTO:christiane@christiane-eske.de
END:VEVENT
BEGIN:VEVENT
DTSTART;TZID=Europe/Berlin:20250424T100000
DTEND;TZID=Europe/Berlin:20250424T113000
DTSTAMP:20260420T092736
CREATED:20241126T082028Z
LAST-MODIFIED:20250517T081047Z
UID:10006053-1745488800-1745494200@wannseekalender.de
SUMMARY:Krabbel- & Spielgruppe von Baby bis Kleinkind
DESCRIPTION:Treffpunkt für Eltern und Babys/Kleinkinder bis ca. 2 Jahre. Freies Spielen\, soziales Miteinander und Austausch. Beitrag pro Treffen: 3 € für Nicht-Mitglieder\, 2 € für Vereinsmitglieder. Kontakt: Dominique Klawonn\, 017645845026\, kinderspielkreise@kirchengemeinde-wannsee.de
URL:https://wannseekalender.de/event/krabbel-spielgruppe-von-baby-bis-kleinkind/2025-04-24/
LOCATION:Evangelisches Gemeindehaus\, Schuchardtweg 5\, Berlin\, 14109\, Germany
CATEGORIES:Community
ORGANIZER;CN="Kinderspielkreise in der Evangelischen Kirchengemeinde Wannsee e.V.":MAILTO:kinderspielkreise@kirchengemeinde-wannsee.de
END:VEVENT
BEGIN:VEVENT
DTSTART;TZID=Europe/Berlin:20250424T113000
DTEND;TZID=Europe/Berlin:20250424T133000
DTSTAMP:20260420T092736
CREATED:20250102T204654Z
LAST-MODIFIED:20250517T081421Z
UID:10013936-1745494200-1745501400@wannseekalender.de
SUMMARY:Probetermin Gitarrenensemble
DESCRIPTION:Immer Donnerstags von 11:30 bis 13:30 Uhr treffen sich am Gitarrenspiel interessierte im Gemeindehaus. \nDie Gruppe spielt schon längere Zeit mit viel Spaß zusammen und freut sich auch immer über neue Mitspieler.
URL:https://wannseekalender.de/event/probetermin-gitarrenensemble/2025-04-24/
LOCATION:Evangelisches Gemeindehaus\, Schuchardtweg 5\, Berlin\, 14109\, Germany
ORGANIZER;CN="K%C3%BCsterei Evangelische Kirchengemeinde Wannsee":MAILTO:kuesterei@kirchengemeinde-wannsee.de
END:VEVENT
BEGIN:VEVENT
DTSTART;TZID=Europe/Berlin:20250424T130000
DTEND;TZID=Europe/Berlin:20250424T143000
DTSTAMP:20260420T092736
CREATED:20250411T192713Z
LAST-MODIFIED:20260325T204818Z
UID:10020653-1745499600-1745505000@wannseekalender.de
SUMMARY:Benefizführung durch Max Liebermanns Garten mit unserem Gärtner Sven Lieberenz
DESCRIPTION:Benefizführung durch Max Liebermanns Garten mit unserem Gärtner Sven Lieberenz \nGärtner Sven Lieberenz führt Sie durch die denkmalgeschützte Gartenanlage am Wannsee und gibt Einblicke in ihre Geschichte\, Pflege und heutige Gestaltung. Der Garten der Liebermann-Villa am Wannsee ist nicht nur ein historisches Denkmal\, sondern auch ein lebendiges Stück Gartengeschichte. Erfahren Sie\, wie der Garten nach Liebermanns Vorstellungen angelegt wurde und welche Pflanzen ihn für seine Gemälde inspirierten. Zudem erhalten Sie Einblicke in die tägliche Arbeit zur Pflege\, Erhaltung und Weiterentwicklung der historischen Gartenanlage – insbesondere vor dem Hintergrund des Klimawandels. Das Benefizticket kommt der Erhalt des Gartens zugute. \nBenefizticket pro Person\n25\,00 € (inkl. Eintritt) \nBild: © sevens[+]maltry\, Potsdam
URL:https://wannseekalender.de/event/benefizfuehrung-durch-max-liebermanns-garten-mit-unserem-gaertner-sven-lieberenz/2025-04-24/
LOCATION:Liebermann-Villa\, Colomierstraße 3\, Berlin\, 14109\, Germany
CATEGORIES:Bildung,Community,Führung,Kunst & Kultur
ATTACH;FMTTYPE=image/jpeg:https://wannseekalender.de/wp-content/uploads/2025/04/Max-Liebermann-Villa-c-sevensmaltry-3-scaled.jpg
ORGANIZER;CN="Max-Liebermann-Gesellschaft Berlin e.V.":MAILTO:info@liebermann-villa.de
END:VEVENT
BEGIN:VEVENT
DTSTART;TZID=Europe/Berlin:20250424T150000
DTEND;TZID=Europe/Berlin:20250424T191500
DTSTAMP:20260420T092736
CREATED:20250215T222803Z
LAST-MODIFIED:20250622T094447Z
UID:10016881-1745506800-1745522100@wannseekalender.de
SUMMARY:Schauspiel für Kinder und Jugendliche
DESCRIPTION:Was passiert in den Kursen?\n\n\n\n\n\n\n\n– Übungen und Spiele für eine gesunde Gruppendynamik\, Vertrauen\, Gestik und Mimik\n-Improvisationsspiele verschiedenster Art zur Förderung der persönlichen Kreativität und Selbstwirksamkeit\n-Ausdenken und Erzählen von Geschichten\n– Umsetzen der Geschichten in Spielszenen\n-Einbindung der Kinder in den Prozeß eines selbst ausgedachten Theaterstückes\n-Aufführung vor Publikum des erarbeiteten Stückes\n\nEin kleiner Kostüm- und Requisitenfundus zum Verkleiden ist vorhanden\nGruppengröße: maximal 8-10 Kinder \n\n\n\n\nKurs 1\nDonnerstags: 15-16 Uhr\nAlter: 8-9 Jahre\nMtl. Kursgebühr: 50\,- Euro \nKurs 2\nDonnerstags: 16.15-17.30 Uhr\nAlter: 10-12 Jahre\nMtl. Kursgebühr: 55\,- Euro \nKurs 3\nDonnerstags: 17.45-19.15 Uhr\nAlter: ab 13 Jahre \nMtl. Kursgebühr: 60\,- Euro \nKurs 4\nMittwochs:  16.30 -17.30  Uhr  ( 5-7 Jahre )\nMtl. Kursgebühr: 48\,- Euro \n 
URL:https://wannseekalender.de/event/schauspiel-fuer-kinder-und-jugendliche/2025-04-24/
LOCATION:JFE Jugendfreizeiteinrichtung Wannsee\, Königstraße 42\, Berlin\, 14109\, Germany
CATEGORIES:Jugendliche,Kinder
ORGANIZER;CN="Schauspielclub Wannsee":MAILTO:schauspielclub.wannsee@gmail.com
END:VEVENT
BEGIN:VEVENT
DTSTART;TZID=Europe/Berlin:20250424T163000
DTEND;TZID=Europe/Berlin:20250424T183000
DTSTAMP:20260420T092736
CREATED:20250413T075216Z
LAST-MODIFIED:20250413T075216Z
UID:10021464-1745512200-1745519400@wannseekalender.de
SUMMARY:Offene Kirche
DESCRIPTION:
URL:https://wannseekalender.de/event/offene-kirche/2025-04-24/
LOCATION:Baptistenkirche Wannsee (Kirche am Immanuel-Krankenhaus)\, Königstraße 66\, Berlin\, 14109\, Germany
CATEGORIES:Kirche
ORGANIZER;CN="Baptisten Wannsee":MAILTO:info@baptisten-wannsee.de
END:VEVENT
BEGIN:VEVENT
DTSTART;TZID=Europe/Berlin:20250424T180000
DTEND;TZID=Europe/Berlin:20250424T200000
DTSTAMP:20260420T092736
CREATED:20241228T165214Z
LAST-MODIFIED:20250517T081636Z
UID:10012545-1745517600-1745524800@wannseekalender.de
SUMMARY:Mitsingen und Musizieren
DESCRIPTION:Jede und jeder ist herzlich eingeladen mitzusingen oder sich mit einem Instrument in die Chorarbeit einzubringen. Die Proben von Michael’s Friends finden jeweils donnerstags um 18.00 Uhr im Gemeindehaus St. Michael\, Hohenzollernstr. 28\, 14109 Berlin statt. Den Chor leitet Maja Leschke\, eine junge Studentin\, die im Rahmen ihrer kirchenmusikalischen C-Ausbildung  den Chorleiterabschluss erwarb. Sie spielt Klavier\, Orgel und Bratsche. \nMichael’s Friends singt mehrstimmig moderne und klassische Kirchenlieder und begleitet monatlich die Familienmesse an jedem 3. Sonntag im Monat. Der Chor singt auch zu besonderen Gottesdiensten im Kirchenjahr\, wie z.B. Erstkommunion\, Weltgebettag\, Patronatsfest etc. Der Fokus liegt besonders auf dem neuen Geistlichen Liedgut. \nWir freuen uns jederzeit über neue Mitglieder. \nKontakt: Maja Leschke\, Tel. 0177 4430324\, Mail m.leschke@t-online.de
URL:https://wannseekalender.de/event/mitsingen-und-musizieren/2025-04-24/
LOCATION:Katholisches Gemeindehaus St. Michael\, Hohenzollernstraße 28\, Berlin\, 14109
CATEGORIES:Musik
ORGANIZER;CN="Michael's Friends":MAILTO:m.leschke@t-online.de
END:VEVENT
BEGIN:VEVENT
DTSTART;TZID=Europe/Berlin:20250424T193000
DTEND;TZID=Europe/Berlin:20250424T210000
DTSTAMP:20260420T092736
CREATED:20250322T060615Z
LAST-MODIFIED:20250322T060615Z
UID:10019384-1745523000-1745528400@wannseekalender.de
SUMMARY:Kristine Bilkau: Halbinsel
DESCRIPTION:Lesung und Gespräch\nGesprächspartner: Thorsten Dönges \nEine Mutter\, eine Tochter und ein Haus am Wattenmeer. Die Mutter ist Bibliothekarin in einem kleinen Ort an der Nordsee\, die Tochter arbeitet im Umweltschutz. Als sie bei einem Vortrag ohnmächtig wird\, zieht sie sich zu ihrer Mutter zurück. Je länger sich die Tochter bei der Mutter am Meer aufhält\, desto schwieriger wird das Verhältnis der beiden\, denn immer stärker tritt ein Unverständnis zwischen den Generationen hervor. Die Mutter ist stolz auf ihre Tochter und beeindruckt von dem\, was sie leistet. Diese allerdings ist erschöpft und resigniert angesichts der Weltlage. \nNach dem großartigen Roman »Eine Liebe\, in Gedanken« (Luchterhand\, 2018) und dem Essay »Wasserzeiten« (Arche\, 2023) stellt die Hamburger Schriftstellerin Kristine Bilkau ihren vierten Roman »Halbinsel« (Luchterhand\, 2025) vor\, der für den diesjährigen Preis der Leipziger Buchmesse nominiert ist.
URL:https://wannseekalender.de/event/kristine-bilkau-halbinsel/
LOCATION:Literarisches Colloquium Berlin (LCB)\, Am Sandwerder 5\, Berlin\, 14109\, Germany
CATEGORIES:Bildung,Buchpräsentation,Lesung
ATTACH;FMTTYPE=image/webp:https://wannseekalender.de/wp-content/uploads/2025/03/IMG_6028.webp
ORGANIZER;CN="Literarisches Colloquium Berlin e. V.":MAILTO:mail@lcb.de
END:VEVENT
BEGIN:VEVENT
DTSTART;TZID=Europe/Berlin:20250424T193000
DTEND;TZID=Europe/Berlin:20250424T213000
DTSTAMP:20260420T092736
CREATED:20250102T115557Z
LAST-MODIFIED:20250517T081801Z
UID:10013125-1745523000-1745530200@wannseekalender.de
SUMMARY:Probetermin Camerata Wannsee
DESCRIPTION:Interessierte chorerfahrene Sängerinnen und Sänger mit guter stimmlicher Anlage und Bereitschaft zu regelmäßiger und anspruchsvoller Probenarbeit mögen sich bitte direkt beim Chorleiter Jan Sören Fölster melden:\nmail: kirchenmusik@kg-dahlem.de
URL:https://wannseekalender.de/event/probetermin-camerata-wannsee/2025-04-24/
LOCATION:Evangelisches Gemeindehaus\, Schuchardtweg 5\, Berlin\, 14109\, Germany
CATEGORIES:Musik
ORGANIZER;CN="Camerata Wannsee":MAILTO:kirchenmusik@kg-dahlem.de
END:VEVENT
BEGIN:VEVENT
DTSTART;TZID=Europe/Berlin:20250424T200000
DTEND;TZID=Europe/Berlin:20250424T213000
DTSTAMP:20260420T092736
CREATED:20250329T210915Z
LAST-MODIFIED:20250329T210916Z
UID:10020294-1745524800-1745530200@wannseekalender.de
SUMMARY:Ökumenischer Gesprächskreis
DESCRIPTION:„Auferstanden von den Toten“Das Apostolische Glaubensbekenntnis – wider die Vernunft?Vortrag und Gespräch mit Cornelia Doms
URL:https://wannseekalender.de/event/oekumenischer-gespraechskreis-3-2/
LOCATION:Evangelisches Gemeindehaus\, Schuchardtweg 5\, Berlin\, 14109\, Germany
CATEGORIES:Gesprächskreis,Kirche
ORGANIZER;CN="Diakonie Evangelische Kirchengemeinde Berlin-Wannsee":MAILTO:diakonin@kirchengemeinde-wannsee.de
END:VEVENT
END:VCALENDAR