BEGIN:VCALENDAR
VERSION:2.0
PRODID:-//Wannsee Kalender - ECPv6.15.20//NONSGML v1.0//EN
CALSCALE:GREGORIAN
METHOD:PUBLISH
X-WR-CALNAME:Wannsee Kalender
X-ORIGINAL-URL:https://wannseekalender.de
X-WR-CALDESC:Veranstaltungen für Wannsee Kalender
REFRESH-INTERVAL;VALUE=DURATION:PT1H
X-Robots-Tag:noindex
X-PUBLISHED-TTL:PT1H
BEGIN:VTIMEZONE
TZID:Europe/Berlin
BEGIN:DAYLIGHT
TZOFFSETFROM:+0100
TZOFFSETTO:+0200
TZNAME:CEST
DTSTART:20230326T010000
END:DAYLIGHT
BEGIN:STANDARD
TZOFFSETFROM:+0200
TZOFFSETTO:+0100
TZNAME:CET
DTSTART:20231029T010000
END:STANDARD
BEGIN:DAYLIGHT
TZOFFSETFROM:+0100
TZOFFSETTO:+0200
TZNAME:CEST
DTSTART:20240331T010000
END:DAYLIGHT
BEGIN:STANDARD
TZOFFSETFROM:+0200
TZOFFSETTO:+0100
TZNAME:CET
DTSTART:20241027T010000
END:STANDARD
BEGIN:DAYLIGHT
TZOFFSETFROM:+0100
TZOFFSETTO:+0200
TZNAME:CEST
DTSTART:20250330T010000
END:DAYLIGHT
BEGIN:STANDARD
TZOFFSETFROM:+0200
TZOFFSETTO:+0100
TZNAME:CET
DTSTART:20251026T010000
END:STANDARD
BEGIN:DAYLIGHT
TZOFFSETFROM:+0100
TZOFFSETTO:+0200
TZNAME:CEST
DTSTART:20260329T010000
END:DAYLIGHT
BEGIN:STANDARD
TZOFFSETFROM:+0200
TZOFFSETTO:+0100
TZNAME:CET
DTSTART:20261025T010000
END:STANDARD
BEGIN:DAYLIGHT
TZOFFSETFROM:+0100
TZOFFSETTO:+0200
TZNAME:CEST
DTSTART:20270328T010000
END:DAYLIGHT
BEGIN:STANDARD
TZOFFSETFROM:+0200
TZOFFSETTO:+0100
TZNAME:CET
DTSTART:20271031T010000
END:STANDARD
BEGIN:DAYLIGHT
TZOFFSETFROM:+0100
TZOFFSETTO:+0200
TZNAME:CEST
DTSTART:20280326T010000
END:DAYLIGHT
BEGIN:STANDARD
TZOFFSETFROM:+0200
TZOFFSETTO:+0100
TZNAME:CET
DTSTART:20281029T010000
END:STANDARD
END:VTIMEZONE
BEGIN:VEVENT
DTSTART;VALUE=DATE:20241001
DTEND;VALUE=DATE:20250404
DTSTAMP:20260420T043443
CREATED:20241124T213327Z
LAST-MODIFIED:20241125T095103Z
UID:10000625-1727751600-1743649199@wannseekalender.de
SUMMARY:Kältehilfe Notübernachtung
DESCRIPTION:Seit 2015 bieten wir obdachlosen Menschen jeden Winter im Rahmen der Kältehilfe eine unbürokratische Übernachtungsmöglichkeit. \nAuch in der Kältehilfeperiode Oktober 2023 bis April 2024 betreiben wir erneut unsere Notübernachtung in der Bergstraße 4 in Steglitz-Zehlendorf mit 32 Übernachtungsplätzen für Männer und Frauen. \nWir bieten warme Mahlzeiten\, warme Duschen\, eine Kleiderkammer und nach Bedarf weiterführende Informationen und Beratung. \nAuch in dieser Wintersaison sind Tiere bei uns willkommen\, wenn die Halter*innen in der Einrichtung gut auf sie aufpassen!\nALLE ANGEBOTE DER BERLINER KÄLTEHILFE\nAdresse:\nBergstraße 4\n14109 Berlin\n Fon:\n+49 176 178 799 09\n E-Mail:\nkaeltehilfe@neuechance.berlin\n Öffnungszeiten:\n01. Oktober 2024 bis 30. April 2025\nab 19:00 Uhr\nAnsprechperson:\nJosephine Lysek\n Flyer:\nFlyer als PDF\n Angebot:\nNachtunterkunft im Rahmen von Zuwendungsförderung\nUnser Team aus einer Fachkraft der Sozialarbeit und ehrenamtlichen Nachtdiensten kümmert sich die ganze Woche um die Grundversorgung und Sicherheit der Gäste. Das Angebot wird wöchentlich durch eine mehrsprachige Sozialberatung unterstützt. So bekommen Hilfesuchende einen unkomplizierten Zugang zu den Sozialen Hilfen und können sich auf Wunsch auf dem Weg in das Regelhilfesystem unterstützen lassen.\nDie Platzvergabe erfolgt jeden Tag direkt vor Ort. Es werden keine Kostenübernahmen\, persönliche Angaben oder ähnliches benötigt. Voraussetzung für eine Übernachtung ist die Bereitschaft\, sich an die Hausordnung zu halten.\nIHR WEG ZU UNS\nAnreise\n S1\, S7 Wannsee (plus 20 Minuten Fußweg)\n Bus 114 Seglerweg\n Bus 118\, 218\, 316\, 318\, N16 Wernerstraße \nWeitere Informationen: https://www.neuechance.berlin/kaeltehilfe-notuebernachtung
URL:https://wannseekalender.de/event/kaeltehilfe-notuebernachtung/
LOCATION:Bergstraße 4\, Bergstraße 4\, Berlin\, 14109\, Germany
ORGANIZER;CN="K%C3%A4ltehilfe Not%C3%BCbernachtung":MAILTO:kaeltehilfe@neuechance.berlin
END:VEVENT
BEGIN:VEVENT
DTSTART;VALUE=DATE:20250106
DTEND;VALUE=DATE:20270107
DTSTAMP:20260420T043443
CREATED:20250103T101815Z
LAST-MODIFIED:20250713T172127Z
UID:10014206-1736121600-1799279999@wannseekalender.de
SUMMARY:Angebote der JFE Wannsee
DESCRIPTION:ÖFFNUNGSZEITEN:\nMontag: 13:00 – 20:00 Uhr\nDienstag: 13:00 – 20:00 Uhr\nMittwoch: 14:00 – 20:00 Uhr (Nur Gruppenangebote)\nDonnerstag: 13:00 – 20:00 Uhr\nFreitag: 13:00 – 20:00 Uhr\nSamstag: 11:00 – 13:00 Uhr (Nur Gruppenangebote)\nSonntag: 15:00 – 18:00 Uhr\nAngebote\nTöpfern\nDienstags 14:45 – 16:15 oder 16:30 bis 18:00 mit Clara \nDonnerstags 15:00 – 16:30 oder 17:00 – 18:30 mit Ronja \nFreitags 15:00 – 16:00 oder 16:00 – 17:00 oder 17:00 -18:00 mit Sabine \nJeden 1.Samstag im Monat – Familientöpfern (Eltern/Kind Angebot)  11:00 – 13:00 mit Sabine \nMusik\nGitarre / Flöte / Geige / E-Piano \nMittwoch 14:00 – 19:00 Uhr mit Heiko (Gitarre\, Flöte) \nMittwoch 16:00 – 18:00 Uhr mit Miro (Geige) \nDonnerstag 17:00 – 19:00 Uhr mit Benny (E-Bass\, Ukulele\, E-Gitarre\, E-Piano\, Gesang\, Band-Coaching)) \nTheater\nDonnerstag 16:00 – 18:00 Uhr mit Sabina \nSport\nDienstag  16:15 – 17:15  Zirkel-Training mit Chris \nDonnerstag 15:00 – 16:30 Tischtennis mit Ingo \nSaisonbedingt (April bis Oktober) steht uns die Mehrzwecksportanlage in der Chausseestr.  Dienstags und Freitags ab 14:00 Uhr zur Verfügung. \nFreitags 15:00 – 16:30  Kicken im Kiez mit Ingo \nSchlagzeug\nMontags 14:00 – 18:00 Uhr mit Tom \nDienstags 14:00 – 17:00 Uhr mit Lars \nDonnerstags 13:00 – 17:00 Uhr mit Benny \nFreitags 14:00 – 17:00 Uhr mit Tom
URL:https://wannseekalender.de/event/angebote-der-jfe-wannsee/
LOCATION:JFE Jugendfreizeiteinrichtung Wannsee\, Königstraße 42\, Berlin\, 14109\, Germany
CATEGORIES:Jugendliche,Kinder
ORGANIZER;CN="JFE Jugendfreizeiteinrichtung Wannsee":MAILTO:jfewannsee@steglitz-zehlendorf.de
END:VEVENT
BEGIN:VEVENT
DTSTART;VALUE=DATE:20250309
DTEND;VALUE=DATE:20250315
DTSTAMP:20260420T043443
CREATED:20250304T231122Z
LAST-MODIFIED:20250304T231713Z
UID:10018193-1741478400-1741996799@wannseekalender.de
SUMMARY:Ausstellung: Wannsee-Impressionen
DESCRIPTION:Öffnungszeiten sind im Gemeindehaus zu erfragen.
URL:https://wannseekalender.de/event/ausstellung-wannsee-impressionen/
LOCATION:Evangelisches Gemeindehaus\, Schuchardtweg 5\, Berlin\, 14109\, Germany
CATEGORIES:Kunst & Kultur
ATTACH;FMTTYPE=image/jpeg:https://wannseekalender.de/wp-content/uploads/2025/03/IMG_5768.jpeg
ORGANIZER;CN="K%C3%BCsterei Evangelische Kirchengemeinde Wannsee":MAILTO:kuesterei@kirchengemeinde-wannsee.de
END:VEVENT
BEGIN:VEVENT
DTSTART;VALUE=DATE:20250313
DTEND;VALUE=DATE:20250317
DTSTAMP:20260420T043443
CREATED:20250301T205017Z
LAST-MODIFIED:20250301T205017Z
UID:10018119-1741824000-1742169599@wannseekalender.de
SUMMARY:StadtLandschaften im Dialog • Carsten Kaufhold | Hans Goetsch
DESCRIPTION:In Stadtlandschaften im Dialog begegnen sich zwei künstlerische Positionen aus unterschiedlichen Zeiten. Die Ausstellung vereint Werke von Carsten Kaufhold (1967–2022) und Hans Goetsch (1892–1981) und lässt ihre jeweiligen Blickwelten und Perspektiven auf die Stadtlandschaft in einen inspirierenden Dialog treten. \nDie Werke von Carsten Kaufhold fangen Berlin in einer außergewöhnlichen Klarheit ein. Über drei Jahrzehnte hinweg widmete er sich den charakteristischen Straßenschluchten\, Brandmauern\, Gewerbehöfen und Randgebieten der Stadt – fernab von Hektik und urbaner Betriebsamkeit. Seine lichtdurchfluteten Gemälde zeigen Berlin als stillen\, strukturierten Raum\, in dem die Zeit scheinbar innehält. Ohne nostalgische Verklärung\, doch voller Präzision und Ruhe\, erschafft Kaufhold eine eindrückliche\, fast greifbare Atmosphäre der Großstadt. \nHans Goetsch widmete sich zeitlebens der Darstellung von Landschaften und Stadtansichten\, die durch eine klare\, reduzierte Formsprache geprägt sind. Besonders das zerstörte Berlin wurde zu einem zentralen Thema seines Schaffens. In seinen großformatigen Zeichnungen und Aquarellen spiegelt sich eine melancholische Farbigkeit wider\, die die Atmosphäre der Stadt eindrucksvoll einfängt. Seine Werke\, geprägt von grafischer Kargheit und feiner Nuancierung\, laden dazu ein\, urbane Räume in ihrer stillen\, oft nachdenklichen Schönheit neu zu betrachten. \n2. März bis 27. April 2025 \nÖffnungszeiten\nDonnerstag und Freitag 14 bis 18 Uhr\nSamstag und Sonntag 12 bis 17 Uhr
URL:https://wannseekalender.de/event/stadtlandschaften-im-dialog-carsten-kaufhold-hans-goetsch-2/
LOCATION:Galerie Mutter Fourage & Kulturscheune\, Chausseestraße 15A\, Berlin\, 14109\, Germany
CATEGORIES:Kunst & Kultur,Kunstausstellung
ATTACH;FMTTYPE=image/jpeg:https://wannseekalender.de/wp-content/uploads/2025/03/Plakat_Stadtlandschaften-scaled.jpg
ORGANIZER;CN="Galerie Mutter Fourage":MAILTO:galerie@mutter-fourage.de
END:VEVENT
BEGIN:VEVENT
DTSTART;TZID=Europe/Berlin:20250314T140000
DTEND;TZID=Europe/Berlin:20250314T170000
DTSTAMP:20260420T043443
CREATED:20241126T082012Z
LAST-MODIFIED:20250411T203610Z
UID:10004216-1741960800-1741971600@wannseekalender.de
SUMMARY:Fahrbibliothek Wilhelmplatz
DESCRIPTION:Weitere Informationen: https://www.berlin.de/stadtbibliothek-steglitz-zehlendorf/bibliotheken/fahrbibliothek/haltestellen/artikel.1224872.php
URL:https://wannseekalender.de/event/fahrbibliothek-2/2025-03-14/
LOCATION:Wilhelmplatz\, Wilhelmplatz\, Berlin\, Berlin\, 14109\, Germany
CATEGORIES:Community
ATTACH;FMTTYPE=image/png:https://wannseekalender.de/wp-content/uploads/2024/11/AB1811E7-B5F0-40B5-93FC-09C24660164F.png
ORGANIZER;CN="Fahrbibliothek":MAILTO:fahrbibliothek@ba-sz.berlin.de
END:VEVENT
BEGIN:VEVENT
DTSTART;TZID=Europe/Berlin:20250314T140000
DTEND;TZID=Europe/Berlin:20250314T170000
DTSTAMP:20260420T043443
CREATED:20241126T082027Z
LAST-MODIFIED:20250103T091314Z
UID:10004478-1741960800-1741971600@wannseekalender.de
SUMMARY:Handy & Computer/Laptop mit Tim
DESCRIPTION:Wöchentliche Beratung zur Nutzung von Handy & Computer. Weitere Informationen: https://www.treffpunkt-im-besten-alter.de/wannsee/
URL:https://wannseekalender.de/event/handy-computer-laptop-mit-tim/2025-03-14/
LOCATION:Treffpunkt Im besten Alter\, Königstraße 25-27\, Berlin\, 14109\, Germany
CATEGORIES:Community
ORGANIZER;CN="Treffpunkt Im besten Alter":MAILTO:treffpunkt.wannsee@gmx.de
END:VEVENT
BEGIN:VEVENT
DTSTART;TZID=Europe/Berlin:20250314T140000
DTEND;TZID=Europe/Berlin:20250314T180000
DTSTAMP:20260420T043443
CREATED:20241126T082010Z
LAST-MODIFIED:20250915T112753Z
UID:10004740-1741960800-1741975200@wannseekalender.de
SUMMARY:Dorfmarkt Wannsee
DESCRIPTION:Unser Wochenmarkt erwartet Sie jeden Freitag von 14.00-18.00 Uhr mit dem kombinierten Angebot von regional angebauten Lebensmitteln und Spezialitäten wie dem Potsdamer Traditionsmetzger mit dem hochwertigen Neuland-Fleisch\, vielfältige Kartoffelsorten aus unseren Landen\, knackiges Obst und Gemüse\, ein Käse- Eldorado\, frischen Fisch und Meeresfrüchte und Wildspezialitäten aus der Schorfheide zu bieten- also alles\, was das Herz begehrt.
URL:https://wannseekalender.de/event/dorfmarkt-wannsee/2025-03-14/
LOCATION:Wilhelmplatz\, Wilhelmplatz\, Berlin\, Berlin\, 14109\, Germany
CATEGORIES:Community,Märkte
ATTACH;FMTTYPE=image/jpeg:https://wannseekalender.de/wp-content/uploads/2024/11/WAN-2020-06-08-Atmo-Baum-gut-nf-an-ha.jpg
ORGANIZER;CN="diemarktplaner":MAILTO:info@diemarktplaner.de
END:VEVENT
BEGIN:VEVENT
DTSTART;TZID=Europe/Berlin:20250314T150000
DTEND;TZID=Europe/Berlin:20250314T170000
DTSTAMP:20260420T043443
CREATED:20250215T202809Z
LAST-MODIFIED:20250424T225745Z
UID:10016808-1741964400-1741971600@wannseekalender.de
SUMMARY:Moment mal…
DESCRIPTION:Moment mal… freitags am Markt \nWenn Sie freitags nachmittags auf den Markt am Wilhelmplatz gehen\, wird Ihnen bald ein neuer Stand auffallen. Da stehen Menschen aus der Gemeinde mit Kaffee und kleinen Knabbereien. „Moment mal…“\, denken Sie vielleicht\, „was wollen die denn?“ \nWir wollen mit Ihnen ins Gespräch kommen. Wir verschenken Zeit und unser Ohr\, sei es für einen kleinen Plausch oder ein tiefergehendes Gespräch. Ein Moment Gemeinschaft. Einen Moment für Sie und das\, was Ihnen auf dem Herzen liegt. Wir sind für diesen Moment da. Redend und schweigend. \nDieses Gesprächsangebot ist ein Projekt\, das von der Passionszeit bis Pfingsten (14. März bis Mai) freitags von 15-17 Uhr auf dem Markt ausprobiert wird. Sprechen Sie uns gerne an\, wir freuen uns auf Sie! \nVikarin Raya Gerhardt und Team \nKontakt:\nvikarin@kirchengemeinde-wannsee.de\n01520 2041384
URL:https://wannseekalender.de/event/moment-mal/2025-03-14/
LOCATION:Wilhelmplatz\, Wilhelmplatz\, Berlin\, Berlin\, 14109\, Germany
CATEGORIES:Community,Märkte
ORGANIZER;CN="K%C3%BCsterei Evangelische Kirchengemeinde Wannsee":MAILTO:kuesterei@kirchengemeinde-wannsee.de
END:VEVENT
BEGIN:VEVENT
DTSTART;TZID=Europe/Berlin:20250314T151500
DTEND;TZID=Europe/Berlin:20250314T161500
DTSTAMP:20260420T043443
CREATED:20250304T232759Z
LAST-MODIFIED:20250304T234353Z
UID:10018199-1741965300-1741968900@wannseekalender.de
SUMMARY:Kostenloses Probetraining Eltern-Kind Judo
DESCRIPTION:
URL:https://wannseekalender.de/event/kostenloses-probetraining-eltern-kind-judo/2025-03-14/
LOCATION:Gymnastikhalle (zwischen Kirche und Rathaus)\, Königstraße 42a\, Berlin\, 14109\, Germany
CATEGORIES:Sport
ORGANIZER;CN="Turn- und Sportclub (TuS) Wannsee 1896 e.V.":MAILTO:info@tus-wannsee.de
END:VEVENT
BEGIN:VEVENT
DTSTART;TZID=Europe/Berlin:20250314T170000
DTEND;TZID=Europe/Berlin:20250314T180000
DTSTAMP:20260420T043443
CREATED:20241126T082029Z
LAST-MODIFIED:20250103T091836Z
UID:10005002-1741971600-1741975200@wannseekalender.de
SUMMARY:Linedance mit Ute
DESCRIPTION:Wöchentliches Linedance. Weitere Informationen: https://www.treffpunkt-im-besten-alter.de/wannsee/
URL:https://wannseekalender.de/event/linedance-mit-ute/2025-03-14/
LOCATION:Treffpunkt Im besten Alter\, Königstraße 25-27\, Berlin\, 14109\, Germany
CATEGORIES:Sport
ORGANIZER;CN="Treffpunkt Im besten Alter":MAILTO:treffpunkt.wannsee@gmx.de
END:VEVENT
BEGIN:VEVENT
DTSTART;TZID=Europe/Berlin:20250314T180000
DTEND;TZID=Europe/Berlin:20250314T190000
DTSTAMP:20260420T043443
CREATED:20250304T233217Z
LAST-MODIFIED:20250304T234255Z
UID:10018207-1741975200-1741978800@wannseekalender.de
SUMMARY:Kostenloses Probetraining Latin Dance Fitness
DESCRIPTION:für Menschen von 8 – 88 Jahren
URL:https://wannseekalender.de/event/kostenloses-probetraining-latin-dance-fitness/2025-03-14/
LOCATION:Neue Sporthalle der Conrad-Grundschule\, Schulstraße 3\, Berlin\, 14109\, Germany
CATEGORIES:Sport
ORGANIZER;CN="Turn- und Sportclub (TuS) Wannsee 1896 e.V.":MAILTO:info@tus-wannsee.de
END:VEVENT
BEGIN:VEVENT
DTSTART;TZID=Europe/Berlin:20250314T181500
DTEND;TZID=Europe/Berlin:20250314T211500
DTSTAMP:20260420T043443
CREATED:20250102T205106Z
LAST-MODIFIED:20250723T103542Z
UID:10016163-1741976100-1741986900@wannseekalender.de
SUMMARY:Erfülltes Tanzen in Wannsee für Paare
DESCRIPTION:Foxtrott\, Quickstep\, Walzer\, ChaCha\, Rumba\,\nSamba\, Wiener Walzer\, Discofox\, Swing\,\nSalsa\, Jive (bei Interesse auch Tango Argentino). \n18.15-19.45 Uhr Fortgeschrittene \n19.45-21.15 Uhr Einsteiger \nBitte mit Anmeldung und paarweise über Uta Bonz \nwww.utabonzamoretango.com \ntanz@amoretango.de/ \n0171 – 463 75 34 \n15 Euro pro P. und Termin
URL:https://wannseekalender.de/event/erfuelltes-tanzen-in-wannsee-fuer-paare/2025-03-14/
LOCATION:Evangelisches Gemeindehaus\, Schuchardtweg 5\, Berlin\, 14109\, Germany
CATEGORIES:Musik
ATTACH;FMTTYPE=image/jpeg:https://wannseekalender.de/wp-content/uploads/2025/01/IMG_5586.jpeg
ORGANIZER;CN="AMORE TANGO":MAILTO:tanz@amoretango.de
END:VEVENT
BEGIN:VEVENT
DTSTART;TZID=Europe/Berlin:20250314T190000
DTEND;TZID=Europe/Berlin:20250314T213000
DTSTAMP:20260420T043443
CREATED:20241215T003254Z
LAST-MODIFIED:20250205T202641Z
UID:10010400-1741978800-1741987800@wannseekalender.de
SUMMARY:Gin-Tasting
DESCRIPTION:
URL:https://wannseekalender.de/event/gin-tasting/
LOCATION:HAPPY HOUR COLLECTIONS\, Königstraße 61\, Berlin\, 14109\, Germany
CATEGORIES:Bildung
ORGANIZER;CN="Happy Hour Collections%C2%AE Domaschk & Fischer GbR":MAILTO:hello@hahoc.de
END:VEVENT
END:VCALENDAR