BEGIN:VCALENDAR
VERSION:2.0
PRODID:-//Wannsee Kalender - ECPv6.15.20//NONSGML v1.0//EN
CALSCALE:GREGORIAN
METHOD:PUBLISH
X-ORIGINAL-URL:https://wannseekalender.de
X-WR-CALDESC:Veranstaltungen für Wannsee Kalender
REFRESH-INTERVAL;VALUE=DURATION:PT1H
X-Robots-Tag:noindex
X-PUBLISHED-TTL:PT1H
BEGIN:VTIMEZONE
TZID:Europe/Berlin
BEGIN:DAYLIGHT
TZOFFSETFROM:+0100
TZOFFSETTO:+0200
TZNAME:CEST
DTSTART:20230326T010000
END:DAYLIGHT
BEGIN:STANDARD
TZOFFSETFROM:+0200
TZOFFSETTO:+0100
TZNAME:CET
DTSTART:20231029T010000
END:STANDARD
BEGIN:DAYLIGHT
TZOFFSETFROM:+0100
TZOFFSETTO:+0200
TZNAME:CEST
DTSTART:20240331T010000
END:DAYLIGHT
BEGIN:STANDARD
TZOFFSETFROM:+0200
TZOFFSETTO:+0100
TZNAME:CET
DTSTART:20241027T010000
END:STANDARD
BEGIN:DAYLIGHT
TZOFFSETFROM:+0100
TZOFFSETTO:+0200
TZNAME:CEST
DTSTART:20250330T010000
END:DAYLIGHT
BEGIN:STANDARD
TZOFFSETFROM:+0200
TZOFFSETTO:+0100
TZNAME:CET
DTSTART:20251026T010000
END:STANDARD
BEGIN:DAYLIGHT
TZOFFSETFROM:+0100
TZOFFSETTO:+0200
TZNAME:CEST
DTSTART:20260329T010000
END:DAYLIGHT
BEGIN:STANDARD
TZOFFSETFROM:+0200
TZOFFSETTO:+0100
TZNAME:CET
DTSTART:20261025T010000
END:STANDARD
BEGIN:DAYLIGHT
TZOFFSETFROM:+0100
TZOFFSETTO:+0200
TZNAME:CEST
DTSTART:20270328T010000
END:DAYLIGHT
BEGIN:STANDARD
TZOFFSETFROM:+0200
TZOFFSETTO:+0100
TZNAME:CET
DTSTART:20271031T010000
END:STANDARD
BEGIN:DAYLIGHT
TZOFFSETFROM:+0100
TZOFFSETTO:+0200
TZNAME:CEST
DTSTART:20280326T010000
END:DAYLIGHT
BEGIN:STANDARD
TZOFFSETFROM:+0200
TZOFFSETTO:+0100
TZNAME:CET
DTSTART:20281029T010000
END:STANDARD
END:VTIMEZONE
BEGIN:VEVENT
DTSTART;VALUE=DATE:20241001
DTEND;VALUE=DATE:20250404
DTSTAMP:20260421T000202
CREATED:20241124T213327Z
LAST-MODIFIED:20241125T095103Z
UID:10000625-1727751600-1743649199@wannseekalender.de
SUMMARY:Kältehilfe Notübernachtung
DESCRIPTION:Seit 2015 bieten wir obdachlosen Menschen jeden Winter im Rahmen der Kältehilfe eine unbürokratische Übernachtungsmöglichkeit. \nAuch in der Kältehilfeperiode Oktober 2023 bis April 2024 betreiben wir erneut unsere Notübernachtung in der Bergstraße 4 in Steglitz-Zehlendorf mit 32 Übernachtungsplätzen für Männer und Frauen. \nWir bieten warme Mahlzeiten\, warme Duschen\, eine Kleiderkammer und nach Bedarf weiterführende Informationen und Beratung. \nAuch in dieser Wintersaison sind Tiere bei uns willkommen\, wenn die Halter*innen in der Einrichtung gut auf sie aufpassen!\nALLE ANGEBOTE DER BERLINER KÄLTEHILFE\nAdresse:\nBergstraße 4\n14109 Berlin\n Fon:\n+49 176 178 799 09\n E-Mail:\nkaeltehilfe@neuechance.berlin\n Öffnungszeiten:\n01. Oktober 2024 bis 30. April 2025\nab 19:00 Uhr\nAnsprechperson:\nJosephine Lysek\n Flyer:\nFlyer als PDF\n Angebot:\nNachtunterkunft im Rahmen von Zuwendungsförderung\nUnser Team aus einer Fachkraft der Sozialarbeit und ehrenamtlichen Nachtdiensten kümmert sich die ganze Woche um die Grundversorgung und Sicherheit der Gäste. Das Angebot wird wöchentlich durch eine mehrsprachige Sozialberatung unterstützt. So bekommen Hilfesuchende einen unkomplizierten Zugang zu den Sozialen Hilfen und können sich auf Wunsch auf dem Weg in das Regelhilfesystem unterstützen lassen.\nDie Platzvergabe erfolgt jeden Tag direkt vor Ort. Es werden keine Kostenübernahmen\, persönliche Angaben oder ähnliches benötigt. Voraussetzung für eine Übernachtung ist die Bereitschaft\, sich an die Hausordnung zu halten.\nIHR WEG ZU UNS\nAnreise\n S1\, S7 Wannsee (plus 20 Minuten Fußweg)\n Bus 114 Seglerweg\n Bus 118\, 218\, 316\, 318\, N16 Wernerstraße \nWeitere Informationen: https://www.neuechance.berlin/kaeltehilfe-notuebernachtung
URL:https://wannseekalender.de/event/kaeltehilfe-notuebernachtung/
LOCATION:Bergstraße 4\, Bergstraße 4\, Berlin\, 14109\, Germany
ORGANIZER;CN="K%C3%A4ltehilfe Not%C3%BCbernachtung":MAILTO:kaeltehilfe@neuechance.berlin
END:VEVENT
BEGIN:VEVENT
DTSTART;VALUE=DATE:20250106
DTEND;VALUE=DATE:20270107
DTSTAMP:20260421T000202
CREATED:20250103T101815Z
LAST-MODIFIED:20250713T172127Z
UID:10014206-1736121600-1799279999@wannseekalender.de
SUMMARY:Angebote der JFE Wannsee
DESCRIPTION:ÖFFNUNGSZEITEN:\nMontag: 13:00 – 20:00 Uhr\nDienstag: 13:00 – 20:00 Uhr\nMittwoch: 14:00 – 20:00 Uhr (Nur Gruppenangebote)\nDonnerstag: 13:00 – 20:00 Uhr\nFreitag: 13:00 – 20:00 Uhr\nSamstag: 11:00 – 13:00 Uhr (Nur Gruppenangebote)\nSonntag: 15:00 – 18:00 Uhr\nAngebote\nTöpfern\nDienstags 14:45 – 16:15 oder 16:30 bis 18:00 mit Clara \nDonnerstags 15:00 – 16:30 oder 17:00 – 18:30 mit Ronja \nFreitags 15:00 – 16:00 oder 16:00 – 17:00 oder 17:00 -18:00 mit Sabine \nJeden 1.Samstag im Monat – Familientöpfern (Eltern/Kind Angebot)  11:00 – 13:00 mit Sabine \nMusik\nGitarre / Flöte / Geige / E-Piano \nMittwoch 14:00 – 19:00 Uhr mit Heiko (Gitarre\, Flöte) \nMittwoch 16:00 – 18:00 Uhr mit Miro (Geige) \nDonnerstag 17:00 – 19:00 Uhr mit Benny (E-Bass\, Ukulele\, E-Gitarre\, E-Piano\, Gesang\, Band-Coaching)) \nTheater\nDonnerstag 16:00 – 18:00 Uhr mit Sabina \nSport\nDienstag  16:15 – 17:15  Zirkel-Training mit Chris \nDonnerstag 15:00 – 16:30 Tischtennis mit Ingo \nSaisonbedingt (April bis Oktober) steht uns die Mehrzwecksportanlage in der Chausseestr.  Dienstags und Freitags ab 14:00 Uhr zur Verfügung. \nFreitags 15:00 – 16:30  Kicken im Kiez mit Ingo \nSchlagzeug\nMontags 14:00 – 18:00 Uhr mit Tom \nDienstags 14:00 – 17:00 Uhr mit Lars \nDonnerstags 13:00 – 17:00 Uhr mit Benny \nFreitags 14:00 – 17:00 Uhr mit Tom
URL:https://wannseekalender.de/event/angebote-der-jfe-wannsee/
LOCATION:JFE Jugendfreizeiteinrichtung Wannsee\, Königstraße 42\, Berlin\, 14109\, Germany
CATEGORIES:Jugendliche,Kinder
ORGANIZER;CN="JFE Jugendfreizeiteinrichtung Wannsee":MAILTO:jfewannsee@steglitz-zehlendorf.de
END:VEVENT
BEGIN:VEVENT
DTSTART;VALUE=DATE:20250306
DTEND;VALUE=DATE:20250310
DTSTAMP:20260421T000202
CREATED:20250301T204200Z
LAST-MODIFIED:20250301T204551Z
UID:10018118-1741219200-1741564799@wannseekalender.de
SUMMARY:StadtLandschaften im Dialog • Carsten Kaufhold | Hans Goetsch
DESCRIPTION:In Stadtlandschaften im Dialog begegnen sich zwei künstlerische Positionen aus unterschiedlichen Zeiten. Die Ausstellung vereint Werke von Carsten Kaufhold (1967–2022) und Hans Goetsch (1892–1981) und lässt ihre jeweiligen Blickwelten und Perspektiven auf die Stadtlandschaft in einen inspirierenden Dialog treten. \nDie Werke von Carsten Kaufhold fangen Berlin in einer außergewöhnlichen Klarheit ein. Über drei Jahrzehnte hinweg widmete er sich den charakteristischen Straßenschluchten\, Brandmauern\, Gewerbehöfen und Randgebieten der Stadt – fernab von Hektik und urbaner Betriebsamkeit. Seine lichtdurchfluteten Gemälde zeigen Berlin als stillen\, strukturierten Raum\, in dem die Zeit scheinbar innehält. Ohne nostalgische Verklärung\, doch voller Präzision und Ruhe\, erschafft Kaufhold eine eindrückliche\, fast greifbare Atmosphäre der Großstadt. \nHans Goetsch widmete sich zeitlebens der Darstellung von Landschaften und Stadtansichten\, die durch eine klare\, reduzierte Formsprache geprägt sind. Besonders das zerstörte Berlin wurde zu einem zentralen Thema seines Schaffens. In seinen großformatigen Zeichnungen und Aquarellen spiegelt sich eine melancholische Farbigkeit wider\, die die Atmosphäre der Stadt eindrucksvoll einfängt. Seine Werke\, geprägt von grafischer Kargheit und feiner Nuancierung\, laden dazu ein\, urbane Räume in ihrer stillen\, oft nachdenklichen Schönheit neu zu betrachten. \n2. März bis 27. April 2025 \nÖffnungszeiten\nDonnerstag und Freitag 14 bis 18 Uhr\nSamstag und Sonntag 12 bis 17 Uhr
URL:https://wannseekalender.de/event/stadtlandschaften-im-dialog-carsten-kaufhold-hans-goetsch/
LOCATION:Galerie Mutter Fourage & Kulturscheune\, Chausseestraße 15A\, Berlin\, 14109\, Germany
CATEGORIES:Kunst & Kultur,Kunstausstellung
ATTACH;FMTTYPE=image/jpeg:https://wannseekalender.de/wp-content/uploads/2025/03/Plakat_Stadtlandschaften-scaled.jpg
ORGANIZER;CN="Galerie Mutter Fourage":MAILTO:galerie@mutter-fourage.de
END:VEVENT
BEGIN:VEVENT
DTSTART;TZID=Europe/Berlin:20250306T083000
DTEND;TZID=Europe/Berlin:20250306T093000
DTSTAMP:20260421T000202
CREATED:20250123T192938Z
LAST-MODIFIED:20251228T224357Z
UID:10015031-1741249800-1741253400@wannseekalender.de
SUMMARY:Breathwalk
DESCRIPTION:Atmen und Gehen sind zwei der natürlichsten und energetisch wirkungsvollsten Dinge\, die wir tun. Breathwalk ist eine Technik\, die bestimmte Atem- und Schrittmuster mit leichten Yogaübungen\, beruhigenden Klangmeditationen und energetisierende Fingerbewegungen kombiniert. Es gibt unterschiedliche Programme\, die verschiedene Wirkungen haben\, z. B. für mehr Gelassenheit\, Energie\, Fokus oder Kreativität. Breathwalk ist für alle geeignet\, die ihre körperliche und mentale Verfassung verbessern möchten. Walken ist gut für das Herz-Kreislauf-System\, den Stoffwechsel und die hormonelle Steuerung. Meditation verbessert die Konzentration und baut Stress ab. Die beiden Begründer\, Yogi Bhajan\, Kundalini-Yoga-Meister und Gurucharan Singh\, Wissenschaftler und Psychotherapeut\, haben diese kraftvolle Methode als Gesundheitstraining für Vitalität und Lebensfreude entwickelt. Und das Beste: es macht Spaß\, ist einfach auszuführen\, schnell zu erlernen\, und du brauchst lediglich feste bequeme Schuhe!\n\n\n\n\nKurs\n\n\n\n\nDer Walk endet an der Badestelle Alter Hof\, daher bitte noch Zeit für das Zurücklaufen zum Ausgangspunkt einplanen. \nKosten: \nEinzelstunde 13\,- € \n10er Karte 110 € (3 Monate gültig) \nAnmeldung:\nBitte vorherige Anmeldung unter 0178-4326225. \n 
URL:https://wannseekalender.de/event/breathwalk/2025-03-06/
LOCATION:Andreaskirche – Kurve Lindenstraße / Ecke Braschzeile\, Lindenstraße 33\, Berlin\, 14109\, Germany
CATEGORIES:Sport
ORGANIZER;CN="Christiane Eske - Coaching & Yoga":MAILTO:christiane@christiane-eske.de
END:VEVENT
BEGIN:VEVENT
DTSTART;TZID=Europe/Berlin:20250306T100000
DTEND;TZID=Europe/Berlin:20250306T113000
DTSTAMP:20260421T000202
CREATED:20241126T082028Z
LAST-MODIFIED:20250517T081047Z
UID:10006046-1741255200-1741260600@wannseekalender.de
SUMMARY:Krabbel- & Spielgruppe von Baby bis Kleinkind
DESCRIPTION:Treffpunkt für Eltern und Babys/Kleinkinder bis ca. 2 Jahre. Freies Spielen\, soziales Miteinander und Austausch. Beitrag pro Treffen: 3 € für Nicht-Mitglieder\, 2 € für Vereinsmitglieder. Kontakt: Dominique Klawonn\, 017645845026\, kinderspielkreise@kirchengemeinde-wannsee.de
URL:https://wannseekalender.de/event/krabbel-spielgruppe-von-baby-bis-kleinkind/2025-03-06/
LOCATION:Evangelisches Gemeindehaus\, Schuchardtweg 5\, Berlin\, 14109\, Germany
CATEGORIES:Community
ORGANIZER;CN="Kinderspielkreise in der Evangelischen Kirchengemeinde Wannsee e.V.":MAILTO:kinderspielkreise@kirchengemeinde-wannsee.de
END:VEVENT
BEGIN:VEVENT
DTSTART;TZID=Europe/Berlin:20250306T110000
DTEND;TZID=Europe/Berlin:20250306T150000
DTSTAMP:20260421T000202
CREATED:20250130T212447Z
LAST-MODIFIED:20250130T213125Z
UID:10016418-1741258800-1741273200@wannseekalender.de
SUMMARY:Gewächshäuser im Botanischen Garten
DESCRIPTION:
URL:https://wannseekalender.de/event/gewaechshaeuser-im-botanischen-garten/
LOCATION:Treffpunkt Rathaus Wannsee\, Königstraße 42\, Berlin\, 14109\, Germany
CATEGORIES:Bildung
ORGANIZER;CN="Diakonie Evangelische Kirchengemeinde Berlin-Wannsee":MAILTO:diakonin@kirchengemeinde-wannsee.de
END:VEVENT
BEGIN:VEVENT
DTSTART;TZID=Europe/Berlin:20250306T113000
DTEND;TZID=Europe/Berlin:20250306T133000
DTSTAMP:20260421T000202
CREATED:20250102T204654Z
LAST-MODIFIED:20250517T081421Z
UID:10013929-1741260600-1741267800@wannseekalender.de
SUMMARY:Probetermin Gitarrenensemble
DESCRIPTION:Immer Donnerstags von 11:30 bis 13:30 Uhr treffen sich am Gitarrenspiel interessierte im Gemeindehaus. \nDie Gruppe spielt schon längere Zeit mit viel Spaß zusammen und freut sich auch immer über neue Mitspieler.
URL:https://wannseekalender.de/event/probetermin-gitarrenensemble/2025-03-06/
LOCATION:Evangelisches Gemeindehaus\, Schuchardtweg 5\, Berlin\, 14109\, Germany
ORGANIZER;CN="K%C3%BCsterei Evangelische Kirchengemeinde Wannsee":MAILTO:kuesterei@kirchengemeinde-wannsee.de
END:VEVENT
BEGIN:VEVENT
DTSTART;TZID=Europe/Berlin:20250306T150000
DTEND;TZID=Europe/Berlin:20250306T191500
DTSTAMP:20260421T000202
CREATED:20250215T222803Z
LAST-MODIFIED:20250622T094447Z
UID:10016874-1741273200-1741288500@wannseekalender.de
SUMMARY:Schauspiel für Kinder und Jugendliche
DESCRIPTION:Was passiert in den Kursen?\n\n\n\n\n\n\n\n– Übungen und Spiele für eine gesunde Gruppendynamik\, Vertrauen\, Gestik und Mimik\n-Improvisationsspiele verschiedenster Art zur Förderung der persönlichen Kreativität und Selbstwirksamkeit\n-Ausdenken und Erzählen von Geschichten\n– Umsetzen der Geschichten in Spielszenen\n-Einbindung der Kinder in den Prozeß eines selbst ausgedachten Theaterstückes\n-Aufführung vor Publikum des erarbeiteten Stückes\n\nEin kleiner Kostüm- und Requisitenfundus zum Verkleiden ist vorhanden\nGruppengröße: maximal 8-10 Kinder \n\n\n\n\nKurs 1\nDonnerstags: 15-16 Uhr\nAlter: 8-9 Jahre\nMtl. Kursgebühr: 50\,- Euro \nKurs 2\nDonnerstags: 16.15-17.30 Uhr\nAlter: 10-12 Jahre\nMtl. Kursgebühr: 55\,- Euro \nKurs 3\nDonnerstags: 17.45-19.15 Uhr\nAlter: ab 13 Jahre \nMtl. Kursgebühr: 60\,- Euro \nKurs 4\nMittwochs:  16.30 -17.30  Uhr  ( 5-7 Jahre )\nMtl. Kursgebühr: 48\,- Euro \n 
URL:https://wannseekalender.de/event/schauspiel-fuer-kinder-und-jugendliche/2025-03-06/
LOCATION:JFE Jugendfreizeiteinrichtung Wannsee\, Königstraße 42\, Berlin\, 14109\, Germany
CATEGORIES:Jugendliche,Kinder
ORGANIZER;CN="Schauspielclub Wannsee":MAILTO:schauspielclub.wannsee@gmail.com
END:VEVENT
BEGIN:VEVENT
DTSTART;TZID=Europe/Berlin:20250306T160000
DTEND;TZID=Europe/Berlin:20250306T173000
DTSTAMP:20260421T000202
CREATED:20250104T155902Z
LAST-MODIFIED:20250104T155902Z
UID:10014602-1741276800-1741282200@wannseekalender.de
SUMMARY:Trauercafé
DESCRIPTION:Sie trauern um einen nahen Menschen. Wir möchten Ihnen in dieser Situation helfen\, so gut wir das können. \nDurch einen kurzen thematischen Impuls\, Raum zum Austausch mit Menschen in ähnlicher Lage und dem Angebot der Seelsorge. Das Trauercafé leiten Roxane Pieper und Uwe Reinhard.
URL:https://wannseekalender.de/event/trauercafe/2025-03-06/
LOCATION:Baptistenkirche Wannsee (Kirche am Immanuel-Krankenhaus)\, Königstraße 66\, Berlin\, 14109\, Germany
CATEGORIES:Community,Gesprächskreis
ORGANIZER;CN="Diakonie Hospiz Wannsee":MAILTO:info@diakonie-hospiz-wannsee.de
END:VEVENT
BEGIN:VEVENT
DTSTART;TZID=Europe/Berlin:20250306T163000
DTEND;TZID=Europe/Berlin:20250306T183000
DTSTAMP:20260421T000202
CREATED:20250304T232214Z
LAST-MODIFIED:20250304T232510Z
UID:10018194-1741278600-1741285800@wannseekalender.de
SUMMARY:Kostenloses Probetraining Taekwondo
DESCRIPTION:Kinder : jeden Donnerstag um 16:30 h – 17:30 h\nKinder / Jugendliche / Erwachsene: jeden Donnerstag 17:30 h – 18:30 h
URL:https://wannseekalender.de/event/3413/2025-03-06/
LOCATION:Gymnastikhalle (zwischen Kirche und Rathaus)\, Königstraße 42a\, Berlin\, 14109\, Germany
CATEGORIES:Sport
ORGANIZER;CN="Turn- und Sportclub (TuS) Wannsee 1896 e.V.":MAILTO:info@tus-wannsee.de
END:VEVENT
BEGIN:VEVENT
DTSTART;TZID=Europe/Berlin:20250306T180000
DTEND;TZID=Europe/Berlin:20250306T200000
DTSTAMP:20260421T000202
CREATED:20241228T165214Z
LAST-MODIFIED:20250517T081636Z
UID:10012538-1741284000-1741291200@wannseekalender.de
SUMMARY:Mitsingen und Musizieren
DESCRIPTION:Jede und jeder ist herzlich eingeladen mitzusingen oder sich mit einem Instrument in die Chorarbeit einzubringen. Die Proben von Michael’s Friends finden jeweils donnerstags um 18.00 Uhr im Gemeindehaus St. Michael\, Hohenzollernstr. 28\, 14109 Berlin statt. Den Chor leitet Maja Leschke\, eine junge Studentin\, die im Rahmen ihrer kirchenmusikalischen C-Ausbildung  den Chorleiterabschluss erwarb. Sie spielt Klavier\, Orgel und Bratsche. \nMichael’s Friends singt mehrstimmig moderne und klassische Kirchenlieder und begleitet monatlich die Familienmesse an jedem 3. Sonntag im Monat. Der Chor singt auch zu besonderen Gottesdiensten im Kirchenjahr\, wie z.B. Erstkommunion\, Weltgebettag\, Patronatsfest etc. Der Fokus liegt besonders auf dem neuen Geistlichen Liedgut. \nWir freuen uns jederzeit über neue Mitglieder. \nKontakt: Maja Leschke\, Tel. 0177 4430324\, Mail m.leschke@t-online.de
URL:https://wannseekalender.de/event/mitsingen-und-musizieren/2025-03-06/
LOCATION:Katholisches Gemeindehaus St. Michael\, Hohenzollernstraße 28\, Berlin\, 14109
CATEGORIES:Musik
ORGANIZER;CN="Michael's Friends":MAILTO:m.leschke@t-online.de
END:VEVENT
BEGIN:VEVENT
DTSTART;TZID=Europe/Berlin:20250306T180000
DTEND;TZID=Europe/Berlin:20250306T200000
DTSTAMP:20260421T000202
CREATED:20250104T160657Z
LAST-MODIFIED:20250104T160658Z
UID:10014347-1741284000-1741291200@wannseekalender.de
SUMMARY:Frauengruppe
DESCRIPTION:Ansprechpartnerin: \nMonika Baldszuhn\, Telefon: 805 28 14
URL:https://wannseekalender.de/event/frauengruppe-2/2025-03-06/
LOCATION:Katholisches Gemeindehaus St. Michael\, Hohenzollernstraße 28\, Berlin\, 14109
CATEGORIES:Gesprächskreis,Kirche
ORGANIZER;CN="Katholische Pfarrei Johannes Bosco %E2%80%93 Berliner S%C3%BCdwesten":MAILTO:pfarrbuero@johannesboscoberlin.de
END:VEVENT
BEGIN:VEVENT
DTSTART;TZID=Europe/Berlin:20250306T180000
DTEND;TZID=Europe/Berlin:20250306T200000
DTSTAMP:20260421T000202
CREATED:20250221T202546Z
LAST-MODIFIED:20250221T202546Z
UID:10017404-1741284000-1741291200@wannseekalender.de
SUMMARY:The Vicious Circle
DESCRIPTION:Eröffnung der Sonderausstellung des National Holocaust Museum\, London\, im neuen Seminarhaus der Gedenk- und Bildungsstätte Haus der Wannsee-Konferenz (7. März bis 3. April 2025)\n\n\n\n\n\n\n\n\n\nNachdem die Ausstellung in London\, Tallinn\, Brüssel und dem Berliner Abgeordnetenhaus zu sehen war\, wird sie am 6. März 2025 um 18.00 Uhr bei uns mit einem Panelgespräch eröffnet. \nBitte hier anmelden! \n\nDie Ausstellung zeigt fünf Geschichten in einer eindrucksvollen runden Installation\, mit originalen Objekten\, mit Texten und fünf großen Videobildschirmen. Wir laden Sie ein\, in den Kreis zu treten\, und dabei zu erkunden: \n\n5 jüdische Gemeinden (Berlin\, Bagdad\, Kielce in Polen\, Aden im Jemen\, und Südisrael).\n5 beeindruckende Objekte\, die von liebevoller Hingabe\, Kreativität und friedlicher Koexistenz dieser Gemeinden zeugen.\n5 Pogrome\, die zu einer „ethnischen Säuberung“ dieser Gemeinden führten (1938\, 1941\, 1946\, 1947 und 2023).\n5 falsche Propheten\, deren falsche Befreiungsversprechen diese Pogrome auslösten.\n\nDie Ausstellung ist in englischer Sprache und wird vor Ort von deutschsprachigen Guides begleitet
URL:https://wannseekalender.de/event/the-vicious-circle/
LOCATION:Haus der Wannsee-Konferenz\, Am Großen Wannsee 56-58\, Berlin\, 14109\, Germany
ORGANIZER;CN="Gedenk- und Bildungsst%C3%A4tte Haus der Wannsee-Konferenz":MAILTO:info@ghwk.de
END:VEVENT
BEGIN:VEVENT
DTSTART;TZID=Europe/Berlin:20250306T193000
DTEND;TZID=Europe/Berlin:20250306T213000
DTSTAMP:20260421T000202
CREATED:20250102T115557Z
LAST-MODIFIED:20250517T081801Z
UID:10013118-1741289400-1741296600@wannseekalender.de
SUMMARY:Probetermin Camerata Wannsee
DESCRIPTION:Interessierte chorerfahrene Sängerinnen und Sänger mit guter stimmlicher Anlage und Bereitschaft zu regelmäßiger und anspruchsvoller Probenarbeit mögen sich bitte direkt beim Chorleiter Jan Sören Fölster melden:\nmail: kirchenmusik@kg-dahlem.de
URL:https://wannseekalender.de/event/probetermin-camerata-wannsee/2025-03-06/
LOCATION:Evangelisches Gemeindehaus\, Schuchardtweg 5\, Berlin\, 14109\, Germany
CATEGORIES:Musik
ORGANIZER;CN="Camerata Wannsee":MAILTO:kirchenmusik@kg-dahlem.de
END:VEVENT
BEGIN:VEVENT
DTSTART;TZID=Europe/Berlin:20250306T200000
DTEND;TZID=Europe/Berlin:20250306T223000
DTSTAMP:20260421T000202
CREATED:20250115T212857Z
LAST-MODIFIED:20251117T202035Z
UID:10014759-1741291200-1741300200@wannseekalender.de
SUMMARY:Clubabend BSV
DESCRIPTION:Für ein erstes Kennenlernen empfehlen sich die Clubabende\, die regelmäßig jeden ersten Donnerstag eines Monats ab 20.00 Uhr im Clubhaus am Wannsee stattfinden.
URL:https://wannseekalender.de/event/clubabend-bsv/2025-03-06/
LOCATION:Clubhaus BSV\, Am Großen Wannsee 20\, Berlin\, 14109\, Germany
ORGANIZER;CN="BSV Berlin":MAILTO:vorsitzende.berlin@baltsv.de
END:VEVENT
END:VCALENDAR