BEGIN:VCALENDAR
VERSION:2.0
PRODID:-//Wannsee Kalender - ECPv6.15.20//NONSGML v1.0//EN
CALSCALE:GREGORIAN
METHOD:PUBLISH
X-WR-CALNAME:Wannsee Kalender
X-ORIGINAL-URL:https://wannseekalender.de
X-WR-CALDESC:Veranstaltungen für Wannsee Kalender
REFRESH-INTERVAL;VALUE=DURATION:PT1H
X-Robots-Tag:noindex
X-PUBLISHED-TTL:PT1H
BEGIN:VTIMEZONE
TZID:Europe/Berlin
BEGIN:DAYLIGHT
TZOFFSETFROM:+0100
TZOFFSETTO:+0200
TZNAME:CEST
DTSTART:20230326T010000
END:DAYLIGHT
BEGIN:STANDARD
TZOFFSETFROM:+0200
TZOFFSETTO:+0100
TZNAME:CET
DTSTART:20231029T010000
END:STANDARD
BEGIN:DAYLIGHT
TZOFFSETFROM:+0100
TZOFFSETTO:+0200
TZNAME:CEST
DTSTART:20240331T010000
END:DAYLIGHT
BEGIN:STANDARD
TZOFFSETFROM:+0200
TZOFFSETTO:+0100
TZNAME:CET
DTSTART:20241027T010000
END:STANDARD
BEGIN:DAYLIGHT
TZOFFSETFROM:+0100
TZOFFSETTO:+0200
TZNAME:CEST
DTSTART:20250330T010000
END:DAYLIGHT
BEGIN:STANDARD
TZOFFSETFROM:+0200
TZOFFSETTO:+0100
TZNAME:CET
DTSTART:20251026T010000
END:STANDARD
BEGIN:DAYLIGHT
TZOFFSETFROM:+0100
TZOFFSETTO:+0200
TZNAME:CEST
DTSTART:20260329T010000
END:DAYLIGHT
BEGIN:STANDARD
TZOFFSETFROM:+0200
TZOFFSETTO:+0100
TZNAME:CET
DTSTART:20261025T010000
END:STANDARD
END:VTIMEZONE
BEGIN:VEVENT
DTSTART;VALUE=DATE:20241001
DTEND;VALUE=DATE:20250404
DTSTAMP:20260420T074355
CREATED:20241124T213327Z
LAST-MODIFIED:20241125T095103Z
UID:10000625-1727751600-1743649199@wannseekalender.de
SUMMARY:Kältehilfe Notübernachtung
DESCRIPTION:Seit 2015 bieten wir obdachlosen Menschen jeden Winter im Rahmen der Kältehilfe eine unbürokratische Übernachtungsmöglichkeit. \nAuch in der Kältehilfeperiode Oktober 2023 bis April 2024 betreiben wir erneut unsere Notübernachtung in der Bergstraße 4 in Steglitz-Zehlendorf mit 32 Übernachtungsplätzen für Männer und Frauen. \nWir bieten warme Mahlzeiten\, warme Duschen\, eine Kleiderkammer und nach Bedarf weiterführende Informationen und Beratung. \nAuch in dieser Wintersaison sind Tiere bei uns willkommen\, wenn die Halter*innen in der Einrichtung gut auf sie aufpassen!\nALLE ANGEBOTE DER BERLINER KÄLTEHILFE\nAdresse:\nBergstraße 4\n14109 Berlin\n Fon:\n+49 176 178 799 09\n E-Mail:\nkaeltehilfe@neuechance.berlin\n Öffnungszeiten:\n01. Oktober 2024 bis 30. April 2025\nab 19:00 Uhr\nAnsprechperson:\nJosephine Lysek\n Flyer:\nFlyer als PDF\n Angebot:\nNachtunterkunft im Rahmen von Zuwendungsförderung\nUnser Team aus einer Fachkraft der Sozialarbeit und ehrenamtlichen Nachtdiensten kümmert sich die ganze Woche um die Grundversorgung und Sicherheit der Gäste. Das Angebot wird wöchentlich durch eine mehrsprachige Sozialberatung unterstützt. So bekommen Hilfesuchende einen unkomplizierten Zugang zu den Sozialen Hilfen und können sich auf Wunsch auf dem Weg in das Regelhilfesystem unterstützen lassen.\nDie Platzvergabe erfolgt jeden Tag direkt vor Ort. Es werden keine Kostenübernahmen\, persönliche Angaben oder ähnliches benötigt. Voraussetzung für eine Übernachtung ist die Bereitschaft\, sich an die Hausordnung zu halten.\nIHR WEG ZU UNS\nAnreise\n S1\, S7 Wannsee (plus 20 Minuten Fußweg)\n Bus 114 Seglerweg\n Bus 118\, 218\, 316\, 318\, N16 Wernerstraße \nWeitere Informationen: https://www.neuechance.berlin/kaeltehilfe-notuebernachtung
URL:https://wannseekalender.de/event/kaeltehilfe-notuebernachtung/
LOCATION:Bergstraße 4\, Bergstraße 4\, Berlin\, 14109\, Germany
ORGANIZER;CN="K%C3%A4ltehilfe Not%C3%BCbernachtung":MAILTO:kaeltehilfe@neuechance.berlin
END:VEVENT
BEGIN:VEVENT
DTSTART;VALUE=DATE:20250102
DTEND;VALUE=DATE:20250106
DTSTAMP:20260420T074355
CREATED:20241206T234743Z
LAST-MODIFIED:20241230T141053Z
UID:10008152-1735776000-1736121599@wannseekalender.de
SUMMARY:Weihnachtsmarkt Loretta
DESCRIPTION:Winterzauber im Loretta am Wannsee. Wir haben den Biergarten als Weihnachtsmarkt umgestaltet mit gemütlichen Zelten die zum verweilen einladen. Natürlich gibt es Glühwein\, herzhafte und süße Snacks\, eine große rutsche und sogar eine Schlittschuhbahn. \nDer Weihnachtsmarkt hat jeden Do-Fr von 14-21 Uhr und Sa-So von 12-21 Uhr auf.
URL:https://wannseekalender.de/event/weihnachtsmarkt-2/2025-01-02/
LOCATION:Loretta am Wannsee\, Kronprinzessinnenweg 253-260\, Berlin\, 14109\, Germany
CATEGORIES:Community,Märkte
ORGANIZER;CN="Loretta am Wannsee":MAILTO:info@loretta-wannsee.berlin
END:VEVENT
BEGIN:VEVENT
DTSTART;VALUE=DATE:20250102
DTEND;VALUE=DATE:20250106
DTSTAMP:20260420T074355
CREATED:20241213T134005Z
LAST-MODIFIED:20241213T134139Z
UID:10010395-1735776000-1736121599@wannseekalender.de
SUMMARY:Anton von Werner • Sammlung Ketels
DESCRIPTION:Alle Wannseer kennen die Wernerstraße in Wannsee\, aber weiß auch jeder\, wer Anton von Werner war? Vielen ist dieser Künstler nicht bekannt. Wer neugierig ist\, kann sich unsere umfangreiche Ausstellung anschauen sowie an einer der Führungen teilnehmen. \nÖffnungszeiten\nDo | Fr • 14 bis 18 Uhr\nSa | So • 12 bis 17 Uhr \nFührungen am 12. Januar 2025 | 15 Uhr – Dominik Bartmann führt durch die Sammlungsausstellung zum Künstler Anton von Werner. Er spricht über Bildnisse von Werners Familie und dessen Liebe zur Gegend des Wannsees sowie über Parallelen im Leben und Schaffen von Anton von Werner und Max Liebermann\, der ebenfalls ein Sommerhaus am Wannsee besaß sowie über sein Leben und Wirken insgesamt. Wir bitten um Anmeldung zu dieser Führung. \nInformationen zur Ausstellung\nIm Jahr 1993 begann der Sammler Jens-Peter Ketels seine Beschäftigung mit dem Künstler Anton von Werner durch die Ausstellung „Geschichte in Bildern“ im Berliner Zeughaus. Bis dahin war ihm Anton von Werner nur als Maler staatstragender Ereignisse seiner Zeit bekannt. Doch in dieser Ausstellung entdeckte Ketels eine andere Seite des Künstlers: Bildnisse seiner Familie sowie Landschaftsmotive von der Nord- und Ostsee\, aus dem Schwarzwald und den Schweizer Bergen. Besonders die geteilte Liebe zur Gegend des Wannsees weckte in Ketels den Sammler\, der sich eigentlich den Werken der Berliner Secession zugetan hatte und es auch weiterhin ist. \nKetels begann zu hinterfragen\, ob Anton von Werner wirklich der alles Neue verhindernde Gegner Max Liebermanns war\, wie er einst angenommen hatte\, oder ob es nicht auch Parallelen im Leben und Schaffen der beiden Künstler gab. Anton von Werners Können und Fleiß ermöglichten ihm den Bau eines Sommerhauses in der Wannseer Straße zum Löwen 5\, ergänzt durch seine Stadtvilla in der heutigen Potsdamer Straße. Auch Liebermann schätzte seine Villa in der nahe gelegenen Colomierstraße 3\, die er sich durch eigene Arbeit finanziert hatte\, während sein Stadthaus am Pariser Platz ererbt war. Die Landschaft am Wannsee hatte für beide Künstler eine besondere Bedeutung und inspirierte sie zu zahlreichen Bildern ihrer eigenen Familien – ein Ausdruck der damit verbundenen Geborgenheit. \nDarüber hinaus scheuten weder Anton von Werner noch Max Liebermann öffentliche Verantwortung: Anton von Werner übernahm 1875 das Direktorat der Hochschule der bildenden Künste\, Max Liebermann 1920 die Präsidentschaft der Akademie der Künste. Beide Künstler vertraten ihre jeweiligen Kunstauffassungen engagiert und oft streitbar. \nJens-Peter Ketels möchte seine Faszination für den Künstler Anton von Werner mit der Öffentlichkeit teilen. In dieser Ausstellung zeigen wir sechzig besonders aussagekräftige Werke aus seiner Sammlung\, die insgesamt rund fünfmal so viele Arbeiten von Anton von Werner umfasst. Damit schließt Ketels eine Lücke\, denn Anton von Werners Sommerresidenz existiert heute nicht mehr\, während Max Liebermanns Haus am Wannsee erhalten geblieben ist und den Künstler weiterhin repräsentiert. \n\n\n\nAnton Alexander von Werner (1843–1915)\, geboren in Frankfurt an der Oder\, war ein bedeutender Historienmaler\, Illustrator und Kunstpolitiker des Deutschen Kaiserreichs. Aus einfachen Verhältnissen stammend\, entwickelte er früh ein Talent für die Malerei und studierte an der Berliner Akademie\, bevor er durch den Einfluss von Adolph Schroedter und Carl Friedrich Lessing zu seinem historisierenden Stil fand. \nVon Werner wurde besonders bekannt für seine Werke zur Reichseinigung\, insbesondere zur Darstellung des Deutsch-Französischen Krieges 1870/71\, bei dem er als Bildberichterstatter fungierte. Sein bekanntestes Werk\, die „Proklamierung des Deutschen Kaiserreiches“ von 1871\, existiert in mehreren Versionen und prägte die öffentliche Erinnerung an diese Zeit. Werners patriotische Darstellungen des Krieges hoben heroische Momente hervor\, ohne den Gegner zu erniedrigen\, und zielen oft auf eine ideelle\, zeitlose Überhöhung der Ereignisse. \nTrotz seines Fokus auf historische Szenen schuf von Werner auch zahlreiche persönliche Motive\, darunter Porträts und Familienszenen\, die sein Gespür für Details und menschliche Emotionen zeigten. Diese intimeren Arbeiten vermitteln eine private Seite des Künstlers und betonen seine Verbundenheit mit der Familie und dem persönlichen Umfeld. \n1875 wurde Werner Direktor der Hochschule für die bildenden Künste in Berlin und prägte die Akademie in einem konservativen Geist\, der die Moderne ablehnte und nationale sowie monarchistische Werte betonte. Gleichzeitig wirkte er als Vorsitzender des Vereins Berliner Künstler\, in dessen Zeit unter anderem die „Munch-Affäre“ 1892 fiel. Er galt als mächtige Persönlichkeit in der Berliner Kunstszene\, der stets die Nähe zum Kaiserhof suchte\, was ihm gleichermaßen Einfluss und Kritik einbrachte. \nAnton von Werner war zudem für dekorative Werke und monumentale öffentliche Aufträge bekannt. So gestaltete er den Berliner Kongress und die Eröffnung des Reichstags und war an der Ausgestaltung des Berliner Doms beteiligt. Seine „Villa VI“ in Berlin\, die er 1873/74 an der Potsdamer Straße in Tiergarten hatte errichten lassen\, lässt Rückschlüsse auf das Harmoniebedürfnis\, aber auch Repräsentationsbestreben des Hausherrn zu. Die von ihm selbst entworfene malerisch-dekorative Ausgestaltung zeigte seine Fähigkeit zur repräsentativen und dekorativen Kunst. Sein Wohnhaus war ein beliebter Treffpunkt für Künstler und Gelehrte. \nAnton von Werner verstand sich weniger als Chronist\, sondern als Historiograf\, der eine „Geschichte in Bildern“ schuf\, die oft symbolkräftiger wirkte als das tatsächliche Geschehen. Seine Werke prägen bis heute das Bild jener Zeit und verdeutlichen\, wie eng seine Kunst mit den politischen Glanzpunkten des Kaiserreichs verwoben war. \nZur Ausstellung ist ein Buch erschienen mit dem Zugang zum vollständigen Werkverzeichnis von Anton von Werner. \n 
URL:https://wannseekalender.de/event/anton-von-werner-sammlung-ketels-4/
LOCATION:Galerie Mutter Fourage & Kulturscheune\, Chausseestraße 15A\, Berlin\, 14109\, Germany
CATEGORIES:Bildung,Kunst & Kultur,Kunstausstellung
ORGANIZER;CN="Galerie Mutter Fourage":MAILTO:galerie@mutter-fourage.de
END:VEVENT
BEGIN:VEVENT
DTSTART;VALUE=DATE:20250104
DTEND;VALUE=DATE:20250106
DTSTAMP:20260420T074355
CREATED:20241126T082013Z
LAST-MODIFIED:20250820T193053Z
UID:10001320-1735948800-1736121599@wannseekalender.de
SUMMARY:Führung: Haus der Wannsee-Konferenz
DESCRIPTION:Immer samstags und sonntags\, immer kostenfrei: Führungen durch unsere Dauerausstellung um 14 Uhr\, 15 Uhr\, 16 Uhr. \nCa. 45 Minuten\, ohne Anmeldung\, herzlich willkommen. Treffpunkt: Rezeption.
URL:https://wannseekalender.de/event/fuehrung-haus-der-wannseekonferenz/2025-01-04/
LOCATION:Haus der Wannsee-Konferenz\, Am Großen Wannsee 56-58\, Berlin\, 14109\, Germany
CATEGORIES:Bildung,Führung,Kunst & Kultur,Wissen
ORGANIZER;CN="Gedenk- und Bildungsst%C3%A4tte Haus der Wannsee-Konferenz":MAILTO:info@ghwk.de
END:VEVENT
BEGIN:VEVENT
DTSTART;TZID=Europe/Berlin:20250104T120000
DTEND;TZID=Europe/Berlin:20250104T130000
DTSTAMP:20260420T074355
CREATED:20241124T225854Z
LAST-MODIFIED:20250123T214927Z
UID:10002116-1735992000-1735995600@wannseekalender.de
SUMMARY:Führung: Liebermann-Villa
DESCRIPTION:Erfahren Sie mehr über Max Liebermann\, die Liebermann-Villa am Wannsee und die aktuellen Sonderausstellungen mit unseren öffentlichen Führungen.\nTickets gibt es online und vor Ort. \nZusätzlich wird eine Eintrittskarte benötigt. Bitte treffen Sie 15 Minuten vor Führungsbeginn im Shop ein.
URL:https://wannseekalender.de/event/fuehrung-liebermann-villa/2025-01-04/
LOCATION:Liebermann-Villa\, Colomierstraße 3\, Berlin\, 14109\, Germany
ORGANIZER;CN="Max-Liebermann-Gesellschaft Berlin e.V.":MAILTO:info@liebermann-villa.de
END:VEVENT
BEGIN:VEVENT
DTSTART;TZID=Europe/Berlin:20250104T120000
DTEND;TZID=Europe/Berlin:20250104T140000
DTSTAMP:20260420T074355
CREATED:20241208T151919Z
LAST-MODIFIED:20250102T095030Z
UID:10013104-1735992000-1735999200@wannseekalender.de
SUMMARY:Ausstellung: ANIMA
DESCRIPTION:Kuratiert von Nike Bätzner und Avi Feldman.\nArbeiten von Studierenden und Alumni der Burg Giebichenstein Kunsthochschule Halle. \nÖffnungszeiten: Do & Fr 12–15 Uhr\, Sa 12-14 Uhr\nEintritt frei\, Spende willkommen\n+49 (0)30 262 849 91\ninfo@wannsee-contemporary.com\nwww.wannsee-contemporary.com \nAusstellende\nTobias Daum\, Julia Frank\, Sarah Goerke\, Merle Häußler\, Elisabeth Hildebrandt\, Louisa Kolloff\, Elise Möller\, Paula Reupke Alverez\, Jakob Schreiter\, Kathrin Schuster\, Josefine Wendlinger\, Miriam Zimmermann aus den Studienrichtungen Master Kunst– und Designwissenschaften\, Bildhauerei\, Malerei\, Keramik\, Schmuck und Lehramt Kunst. \n\nThemen der künstlerischen Auseinandersetzung sind: Die jüdische Geschichte der Region\, NS-Zeit\, DDR und deren Übergang zur BRD. Werke setzen sich mit Flucht\, Zugänglichkeit und Bewegung auseinander – inspiriert von der Topografie des Sees und den Tanzbewegungen von „Volkskörpern.“ Mit Film\, Keramik\, Text\, Tanz und weiteren Medien werden zeitgenössische Zugänge zu historischen Fragestellungen geschaffen. \n  \nBegleitprogramm\nWährend der gesamten Laufzeit der Ausstellung:\nWannsee: How does it feel? Wie erleben Sie Wannsee? Wie fühlt sich Wannsee an?\nEine Mitmachstation\, die zum kreativen Schreiben einlädt und aus der eine Textsammlung zum Mitnehmen entsteht\, initiiert von Elise Möller.
URL:https://wannseekalender.de/event/ausstellung-anima-2/2025-01-04/
LOCATION:Wannsee Contemporary\, Chausseestraße 46\, Berlin\, 14109\, Germany
CATEGORIES:Bildung
ORGANIZER;CN="Wannsee Contemporary UG":MAILTO:info@wannsee-contemporary.com
END:VEVENT
BEGIN:VEVENT
DTSTART;TZID=Europe/Berlin:20250104T160000
DTEND;TZID=Europe/Berlin:20250104T180000
DTSTAMP:20260420T074355
CREATED:20241208T122808Z
LAST-MODIFIED:20241231T073522Z
UID:10000677-1736006400-1736013600@wannseekalender.de
SUMMARY:Hande Küden (Berliner Philharmoniker)\, Violine\, Han-Wen Jennifer Yu\, Klavier
DESCRIPTION:Edvard Grieg – Violinsonate Nr. 1. op. 8\, Claude Debussy – Violinsonate g-Moll\, César Franck – Violinsonate A-Dur\, Maurice Ravel – Tzigane. Weitere Informationen unter: http://www.konzerte-schloss-glienicke.de
URL:https://wannseekalender.de/event/hande-kueden-berliner-philharmoniker-violine-han-wen-jennifer-yu-klavier/
LOCATION:Baptistenkirche Wannsee (Kirche am Immanuel-Krankenhaus)\, Königstraße 66\, Berlin\, 14109\, Germany
CATEGORIES:Musik
ORGANIZER;CN="Verein zur F%C3%B6rderung von Konzertreihen im Schloss Glienicke e.V.":MAILTO:info@konzerte-schloss-glienicke.de
END:VEVENT
END:VCALENDAR