BEGIN:VCALENDAR
VERSION:2.0
PRODID:-//Wannsee Kalender - ECPv6.15.20//NONSGML v1.0//EN
CALSCALE:GREGORIAN
METHOD:PUBLISH
X-WR-CALNAME:Wannsee Kalender
X-ORIGINAL-URL:https://wannseekalender.de
X-WR-CALDESC:Veranstaltungen für Wannsee Kalender
REFRESH-INTERVAL;VALUE=DURATION:PT1H
X-Robots-Tag:noindex
X-PUBLISHED-TTL:PT1H
BEGIN:VTIMEZONE
TZID:Europe/Berlin
BEGIN:DAYLIGHT
TZOFFSETFROM:+0100
TZOFFSETTO:+0200
TZNAME:CEST
DTSTART:20230326T010000
END:DAYLIGHT
BEGIN:STANDARD
TZOFFSETFROM:+0200
TZOFFSETTO:+0100
TZNAME:CET
DTSTART:20231029T010000
END:STANDARD
BEGIN:DAYLIGHT
TZOFFSETFROM:+0100
TZOFFSETTO:+0200
TZNAME:CEST
DTSTART:20240331T010000
END:DAYLIGHT
BEGIN:STANDARD
TZOFFSETFROM:+0200
TZOFFSETTO:+0100
TZNAME:CET
DTSTART:20241027T010000
END:STANDARD
BEGIN:DAYLIGHT
TZOFFSETFROM:+0100
TZOFFSETTO:+0200
TZNAME:CEST
DTSTART:20250330T010000
END:DAYLIGHT
BEGIN:STANDARD
TZOFFSETFROM:+0200
TZOFFSETTO:+0100
TZNAME:CET
DTSTART:20251026T010000
END:STANDARD
BEGIN:DAYLIGHT
TZOFFSETFROM:+0100
TZOFFSETTO:+0200
TZNAME:CEST
DTSTART:20260329T010000
END:DAYLIGHT
BEGIN:STANDARD
TZOFFSETFROM:+0200
TZOFFSETTO:+0100
TZNAME:CET
DTSTART:20261025T010000
END:STANDARD
END:VTIMEZONE
BEGIN:VEVENT
DTSTART;VALUE=DATE:20241001
DTEND;VALUE=DATE:20250404
DTSTAMP:20260420T134353
CREATED:20241124T213327Z
LAST-MODIFIED:20241125T095103Z
UID:10000625-1727751600-1743649199@wannseekalender.de
SUMMARY:Kältehilfe Notübernachtung
DESCRIPTION:Seit 2015 bieten wir obdachlosen Menschen jeden Winter im Rahmen der Kältehilfe eine unbürokratische Übernachtungsmöglichkeit. \nAuch in der Kältehilfeperiode Oktober 2023 bis April 2024 betreiben wir erneut unsere Notübernachtung in der Bergstraße 4 in Steglitz-Zehlendorf mit 32 Übernachtungsplätzen für Männer und Frauen. \nWir bieten warme Mahlzeiten\, warme Duschen\, eine Kleiderkammer und nach Bedarf weiterführende Informationen und Beratung. \nAuch in dieser Wintersaison sind Tiere bei uns willkommen\, wenn die Halter*innen in der Einrichtung gut auf sie aufpassen!\nALLE ANGEBOTE DER BERLINER KÄLTEHILFE\nAdresse:\nBergstraße 4\n14109 Berlin\n Fon:\n+49 176 178 799 09\n E-Mail:\nkaeltehilfe@neuechance.berlin\n Öffnungszeiten:\n01. Oktober 2024 bis 30. April 2025\nab 19:00 Uhr\nAnsprechperson:\nJosephine Lysek\n Flyer:\nFlyer als PDF\n Angebot:\nNachtunterkunft im Rahmen von Zuwendungsförderung\nUnser Team aus einer Fachkraft der Sozialarbeit und ehrenamtlichen Nachtdiensten kümmert sich die ganze Woche um die Grundversorgung und Sicherheit der Gäste. Das Angebot wird wöchentlich durch eine mehrsprachige Sozialberatung unterstützt. So bekommen Hilfesuchende einen unkomplizierten Zugang zu den Sozialen Hilfen und können sich auf Wunsch auf dem Weg in das Regelhilfesystem unterstützen lassen.\nDie Platzvergabe erfolgt jeden Tag direkt vor Ort. Es werden keine Kostenübernahmen\, persönliche Angaben oder ähnliches benötigt. Voraussetzung für eine Übernachtung ist die Bereitschaft\, sich an die Hausordnung zu halten.\nIHR WEG ZU UNS\nAnreise\n S1\, S7 Wannsee (plus 20 Minuten Fußweg)\n Bus 114 Seglerweg\n Bus 118\, 218\, 316\, 318\, N16 Wernerstraße \nWeitere Informationen: https://www.neuechance.berlin/kaeltehilfe-notuebernachtung
URL:https://wannseekalender.de/event/kaeltehilfe-notuebernachtung/
LOCATION:Bergstraße 4\, Bergstraße 4\, Berlin\, 14109\, Germany
ORGANIZER;CN="K%C3%A4ltehilfe Not%C3%BCbernachtung":MAILTO:kaeltehilfe@neuechance.berlin
END:VEVENT
BEGIN:VEVENT
DTSTART;TZID=Europe/Berlin:20241231T200000
DTEND;TZID=Europe/Berlin:20250101T023000
DTSTAMP:20260420T134353
CREATED:20241214T235623Z
LAST-MODIFIED:20241214T235623Z
UID:10010398-1735675200-1735698600@wannseekalender.de
SUMMARY:Silvesterparty 2024/2025 im Loretta
DESCRIPTION:Silvesterparty 2024/2025 bei Loretta am Wannsee \nFeiere den Jahreswechsel stilvoll am 31. Dezember 2024 mit einer glamourösen Silvesterparty bei Loretta am Wannsee in Berlin! \nHighlights der Veranstaltung: \n•Eintrittspreis: 99 € pro Person \n•Inklusive Leistungen: \n•3-Gänge-Menü \n•Prosecco zum Anstoßen um Mitternacht \n•Mitternachtssnack & Berliner \n•Getränke: alkoholfreie Getränke\, Bier\, offene Weine sowie Loretta Hauswein \nOrt: \nLoretta am Wannsee \nKronprinzessinnenweg 260\, \n14109 Berlin \nProgramm: \nErlebe Musik\, Tanz und eine unvergessliche Nacht in einer einzigartigen Atmosphäre am Wannsee. Genieße das Fest mit Familie und Freunden und stoße gemeinsam auf ein erfolgreiches Jahr 2025 an! \nReservierung: \nSichere dir jetzt dein Ticket und freu dich auf ein Silvestererlebnis der besonderen Art!
URL:https://wannseekalender.de/event/silvesterparty-2024-2025-im-loretta/
LOCATION:Loretta am Wannsee\, Kronprinzessinnenweg 253-260\, Berlin\, 14109\, Germany
CATEGORIES:Party
ORGANIZER;CN="Loretta am Wannsee":MAILTO:info@loretta-wannsee.berlin
END:VEVENT
BEGIN:VEVENT
DTSTART;TZID=Europe/Berlin:20241231T200000
DTEND;TZID=Europe/Berlin:20250101T023000
DTSTAMP:20260420T134353
CREATED:20241215T001621Z
LAST-MODIFIED:20241215T001621Z
UID:10010399-1735675200-1735698600@wannseekalender.de
SUMMARY:Silvesterparty 2024/2025 im Ciao
DESCRIPTION:Unser All-Inclusive-Angebot\nfür Ihr Silvester: \nProsecco-Empfang\, Getränke inkl. (außer Champagner)\, Großes Silvester-Buffet mit Antipasti-Variationen\, dem Besten aus Fisch\,\nFleisch & Pasta und leckeren Desserts\nDJ + kleines Feuerwerk\nNur 150\,- € pro Pers. (ab 4 Pers. nur 139\,-€ pro Pers.)\nJetzt reservieren unter:\nStölpchenweg 68\, 14109 Berlin\nreservierung@ciao-wannsee.de\nwww.ciao-wannsee.de\nTel.: 030-39844880
URL:https://wannseekalender.de/event/silvesterparty-2024-2025-im-ciao/
LOCATION:Ristaurante Ciao Wannsee\, Stölpchenweg 68\, Berlin\, 14109
CATEGORIES:Party
ORGANIZER;CN="Ristaurante Ciao Wannsee":MAILTO:reservierung@ciao-wannsee.de
END:VEVENT
BEGIN:VEVENT
DTSTART;TZID=Europe/Berlin:20250101T083000
DTEND;TZID=Europe/Berlin:20250101T094500
DTSTAMP:20260420T134353
CREATED:20250123T191503Z
LAST-MODIFIED:20250131T204029Z
UID:10015019-1735720200-1735724700@wannseekalender.de
SUMMARY:Kundalini Yoga
DESCRIPTION:Hatha Yoga in der Tradition des Kundalini Yoga richtet sich ausdrücklich an Dich\, wenn du in unserer heutigen schnelllebigen\, komplexen\, ungewissen Welt die vielen Herausforderungen im Berufs- und Privatleben gut bewältigen möchtest. Es fördert deine eigene Kraft\, dein Durchhaltevermögen und deine innere Stabilität\, so dass du herausfordernden Situationen gewachsen bist und diese mit mehr Gelassenheit\, Lebensmut und Optimismus angehen kannst. \n  \nKundalini-Yoga ist besonders auf die eigene tiefe Erfahrung ausgerichtet und verbindet dich mit deinem wahren inneren Selbst. Das Bewusstsein wird in allen Lebensbereichen sensibilisiert\, weckt die Lebensenergie\, die Kundalini\, und bringt sie zum Fließen. \n\n\n\n\n\n\n\n\n\n\n\n\n\n\n\n\n\nAblauf einer Yogastunde\n\n\n\n\nBestandteil jeder Stunde sind Körperübungen (Asanas)\, Atemführung (Pranayama)\, Tiefenentspannung und Meditation.\n  \nNach dem gemeinsamen Einstimmen und den Aufwärmübungen folgt eine Übungsreihe (Kriya) für einen bestimmten Nutzen (z.B. für die Flexibilität der Wirbelsäule oder zur Stärkung des Immun- oder Nervensystems). Neben ruhigen Halteübungen gibt es auch dynamische fließende Übungen. Anschließend folgen eine lange Tiefenentspannung im Liegen und eine Meditation. Die Meditationen sind sehr vielseitig und können bestimmte Atemtechniken (Pranayamas)\, Mudras (Hand- und Armhaltungen) und Mantren (Konzentrationswörter) oder eine Kombination aus allen enthalten. Den Abschluss bildet das gemeinsame Ausstimmen. \n  \nEs ist günstig\, zwei Stunden vor dem Yogaunterricht keine größeren Mahlzeiten zu sich zu nehmen. \n  \nEin Einstieg ist jederzeit für Yogaerfahrene und Anfänger – auch ohne Vorkenntnisse – möglich\, unabhängig von Deinem Alter und Deiner körperlichen Leistungsfähigkeit. Teile mir hier bitte vorher mit\, wenn Du Einschränkungen oder Beschwerden hast. \n\n\n\n\n\n\n\n\nKosten:\nProbestunde Yoga 15 € \nEinzelne Yogastunde (im Kurs) 18 € \n10 Termine 160 € (75 Min.) \n  \nErfreulicherweise ist mein Kurs „Hatha Yoga für mehr Beweglichkeit und Gesundheit“ 10 x 75 Min. von der Zentralen Prüfstelle Prävention (ZPP) zertifiziert worden. Du kannst bis zu 2x/Jahr für diesen Präventionskurs einen Zuschuss von deiner Krankenkasse erhalten und dich bei deiner Krankenkasse erkundigen\, in welcher Höhe der Zuschuss ausfällt. \nDu kannst auch während des Kurses dazu stoßen und die Yogastunden einzeln bezahlen
URL:https://wannseekalender.de/event/kundalini-yoga/2025-01-01/
LOCATION:Im Haus des Waldkindergarten\, Zum Heckeshorn 33\, Haus 2\, Berlin\, 14109\, Germany
ORGANIZER;CN="Christiane Eske - Coaching & Yoga":MAILTO:christiane@christiane-eske.de
END:VEVENT
BEGIN:VEVENT
DTSTART;TZID=Europe/Berlin:20250101T150000
DTEND;TZID=Europe/Berlin:20250101T160000
DTSTAMP:20260420T134353
CREATED:20241230T134011Z
LAST-MODIFIED:20241231T073326Z
UID:10013069-1735743600-1735747200@wannseekalender.de
SUMMARY:Winterandacht
DESCRIPTION:Pfarrperson oder Gottesdienstleitung\nPfarrer Helmut Kulla
URL:https://wannseekalender.de/event/winterandacht/
LOCATION:Kirche St. Peter und Paul auf Nikolskoe\, Nikolskoer Weg 17\, Berlin\, 14109\, Germany
CATEGORIES:Gottesdienst,Kirche
ORGANIZER;CN="K%C3%BCsterei Evangelische Kirchengemeinde St. Peter und Paul auf Nikolskoe":MAILTO:kuesterei@kirche-nikolskoe.de
END:VEVENT
BEGIN:VEVENT
DTSTART;TZID=Europe/Berlin:20250101T160000
DTEND;TZID=Europe/Berlin:20250101T180000
DTSTAMP:20260420T134353
CREATED:20241208T122807Z
LAST-MODIFIED:20241231T073427Z
UID:10000676-1735747200-1735754400@wannseekalender.de
SUMMARY:Alexander Malter\, Klavier: Zum Jahresabschluss
DESCRIPTION:Werke von Beethoven\, Brahms und Chopin. Weitere Informationen unter: http://www.konzerte-schloss-glienicke.de
URL:https://wannseekalender.de/event/alexander-malter-klavier-zum-jahresabschluss-2/
LOCATION:Baptistenkirche Wannsee (Kirche am Immanuel-Krankenhaus)\, Königstraße 66\, Berlin\, 14109\, Germany
CATEGORIES:Musik
ORGANIZER;CN="Verein zur F%C3%B6rderung von Konzertreihen im Schloss Glienicke e.V.":MAILTO:info@konzerte-schloss-glienicke.de
END:VEVENT
BEGIN:VEVENT
DTSTART;TZID=Europe/Berlin:20250101T180000
DTEND;TZID=Europe/Berlin:20250101T190000
DTSTAMP:20260420T134353
CREATED:20241219T155444Z
LAST-MODIFIED:20241231T073446Z
UID:10012517-1735754400-1735758000@wannseekalender.de
SUMMARY:Neujahrsgottesdienst
DESCRIPTION:Pfarrerin Sapna Joshi
URL:https://wannseekalender.de/event/neujahrsgottesdienst/
LOCATION:Kirche am Stölpchensee\, Wilhelmplatz\, Berlin\, 14109\, Germany
CATEGORIES:Gottesdienst,Kirche
ORGANIZER;CN="K%C3%BCsterei Evangelische Kirchengemeinde Wannsee":MAILTO:kuesterei@kirchengemeinde-wannsee.de
END:VEVENT
END:VCALENDAR