BEGIN:VCALENDAR
VERSION:2.0
PRODID:-//Wannsee Kalender - ECPv6.15.20//NONSGML v1.0//EN
CALSCALE:GREGORIAN
METHOD:PUBLISH
X-WR-CALNAME:Wannsee Kalender
X-ORIGINAL-URL:https://wannseekalender.de
X-WR-CALDESC:Veranstaltungen für Wannsee Kalender
REFRESH-INTERVAL;VALUE=DURATION:PT1H
X-Robots-Tag:noindex
X-PUBLISHED-TTL:PT1H
BEGIN:VTIMEZONE
TZID:Europe/Berlin
BEGIN:DAYLIGHT
TZOFFSETFROM:+0100
TZOFFSETTO:+0200
TZNAME:CEST
DTSTART:20230326T010000
END:DAYLIGHT
BEGIN:STANDARD
TZOFFSETFROM:+0200
TZOFFSETTO:+0100
TZNAME:CET
DTSTART:20231029T010000
END:STANDARD
BEGIN:DAYLIGHT
TZOFFSETFROM:+0100
TZOFFSETTO:+0200
TZNAME:CEST
DTSTART:20240331T010000
END:DAYLIGHT
BEGIN:STANDARD
TZOFFSETFROM:+0200
TZOFFSETTO:+0100
TZNAME:CET
DTSTART:20241027T010000
END:STANDARD
BEGIN:DAYLIGHT
TZOFFSETFROM:+0100
TZOFFSETTO:+0200
TZNAME:CEST
DTSTART:20250330T010000
END:DAYLIGHT
BEGIN:STANDARD
TZOFFSETFROM:+0200
TZOFFSETTO:+0100
TZNAME:CET
DTSTART:20251026T010000
END:STANDARD
BEGIN:DAYLIGHT
TZOFFSETFROM:+0100
TZOFFSETTO:+0200
TZNAME:CEST
DTSTART:20260329T010000
END:DAYLIGHT
BEGIN:STANDARD
TZOFFSETFROM:+0200
TZOFFSETTO:+0100
TZNAME:CET
DTSTART:20261025T010000
END:STANDARD
END:VTIMEZONE
BEGIN:VEVENT
DTSTART;VALUE=DATE:20241001
DTEND;VALUE=DATE:20250404
DTSTAMP:20260421T030153
CREATED:20241124T213327Z
LAST-MODIFIED:20241125T095103Z
UID:10000625-1727751600-1743649199@wannseekalender.de
SUMMARY:Kältehilfe Notübernachtung
DESCRIPTION:Seit 2015 bieten wir obdachlosen Menschen jeden Winter im Rahmen der Kältehilfe eine unbürokratische Übernachtungsmöglichkeit. \nAuch in der Kältehilfeperiode Oktober 2023 bis April 2024 betreiben wir erneut unsere Notübernachtung in der Bergstraße 4 in Steglitz-Zehlendorf mit 32 Übernachtungsplätzen für Männer und Frauen. \nWir bieten warme Mahlzeiten\, warme Duschen\, eine Kleiderkammer und nach Bedarf weiterführende Informationen und Beratung. \nAuch in dieser Wintersaison sind Tiere bei uns willkommen\, wenn die Halter*innen in der Einrichtung gut auf sie aufpassen!\nALLE ANGEBOTE DER BERLINER KÄLTEHILFE\nAdresse:\nBergstraße 4\n14109 Berlin\n Fon:\n+49 176 178 799 09\n E-Mail:\nkaeltehilfe@neuechance.berlin\n Öffnungszeiten:\n01. Oktober 2024 bis 30. April 2025\nab 19:00 Uhr\nAnsprechperson:\nJosephine Lysek\n Flyer:\nFlyer als PDF\n Angebot:\nNachtunterkunft im Rahmen von Zuwendungsförderung\nUnser Team aus einer Fachkraft der Sozialarbeit und ehrenamtlichen Nachtdiensten kümmert sich die ganze Woche um die Grundversorgung und Sicherheit der Gäste. Das Angebot wird wöchentlich durch eine mehrsprachige Sozialberatung unterstützt. So bekommen Hilfesuchende einen unkomplizierten Zugang zu den Sozialen Hilfen und können sich auf Wunsch auf dem Weg in das Regelhilfesystem unterstützen lassen.\nDie Platzvergabe erfolgt jeden Tag direkt vor Ort. Es werden keine Kostenübernahmen\, persönliche Angaben oder ähnliches benötigt. Voraussetzung für eine Übernachtung ist die Bereitschaft\, sich an die Hausordnung zu halten.\nIHR WEG ZU UNS\nAnreise\n S1\, S7 Wannsee (plus 20 Minuten Fußweg)\n Bus 114 Seglerweg\n Bus 118\, 218\, 316\, 318\, N16 Wernerstraße \nWeitere Informationen: https://www.neuechance.berlin/kaeltehilfe-notuebernachtung
URL:https://wannseekalender.de/event/kaeltehilfe-notuebernachtung/
LOCATION:Bergstraße 4\, Bergstraße 4\, Berlin\, 14109\, Germany
ORGANIZER;CN="K%C3%A4ltehilfe Not%C3%BCbernachtung":MAILTO:kaeltehilfe@neuechance.berlin
END:VEVENT
BEGIN:VEVENT
DTSTART;TZID=Europe/Berlin:20241230T150000
DTEND;TZID=Europe/Berlin:20241230T160000
DTSTAMP:20260421T030153
CREATED:20241230T134312Z
LAST-MODIFIED:20241231T073234Z
UID:10013070-1735570800-1735574400@wannseekalender.de
SUMMARY:Winterandacht
DESCRIPTION:
URL:https://wannseekalender.de/event/winterandacht-2/
LOCATION:Kirche St. Peter und Paul auf Nikolskoe\, Nikolskoer Weg 17\, Berlin\, 14109\, Germany
CATEGORIES:Gottesdienst,Kirche
ORGANIZER;CN="K%C3%BCsterei Evangelische Kirchengemeinde St. Peter und Paul auf Nikolskoe":MAILTO:kuesterei@kirche-nikolskoe.de
END:VEVENT
BEGIN:VEVENT
DTSTART;TZID=Europe/Berlin:20241230T154500
DTEND;TZID=Europe/Berlin:20241230T171500
DTSTAMP:20260421T030153
CREATED:20241126T234446Z
LAST-MODIFIED:20251228T104154Z
UID:10032263-1735573500-1735578900@wannseekalender.de
SUMMARY:Kinderchor
DESCRIPTION:Töne pflücken\, Töne in die Luft schleudern\, im Takt hüpfen\, klatschen\, tanzen und natürlich singen! Das Singen findet immer montags von 15.45 – 16.20 Uhr für Kinder ab 5 bis 8 Jahren und von 16.30 – 17.15 Uhr für Kinder ab 9 bis 12 Jahren im großen Saal des Gemeindehauses statt.Das Singen kostet monatlich 5 Euro pro Familie. Die regelmäßige Teilnahme erfordert die Mitgliedschaft in unserem Verein. Antrag Mitgliedschaft
URL:https://wannseekalender.de/event/kinder-chor/2024-12-30/
LOCATION:Evangelisches Gemeindehaus\, Schuchardtweg 5\, Berlin\, 14109\, Germany
CATEGORIES:Chor,Kinder,Kinder & Jugendliche,Musik
ORGANIZER;CN="Kinderspielkreise in der Evangelischen Kirchengemeinde Wannsee e.V.":MAILTO:kinderspielkreise@kirchengemeinde-wannsee.de
END:VEVENT
BEGIN:VEVENT
DTSTART;TZID=Europe/Berlin:20241230T163000
DTEND;TZID=Europe/Berlin:20241230T183000
DTSTAMP:20260421T030153
CREATED:20241208T145004Z
LAST-MODIFIED:20241217T213913Z
UID:10011726-1735576200-1735583400@wannseekalender.de
SUMMARY:Kunstkurse für Kinder
DESCRIPTION:Kunstkurs für Kinder ab 6 Jahren im Atelier der Künstlerin Simone Westphal \nIn meinem Atelier in Wannsee können Kinder in einer kleinen Gruppe unterschiedliche kreative Techniken erlernen. zeichnen\, malen\, drucken\, filzen und vieles mehr. Jedes Kind kann seiner Fantasie freien Lauf lassen und ich gebe Impulse und Anleitung um eine Idee umszusetzen. Jeden Montag- oder Dienstagnachmittag\, 60 Minuten\, Anmeldung unter 01703290894 \n  \nDie Kosten betragen 80 Euro im Monat. \nDie Kinderkurse finden montags von 16.30 Uhr bis 17.30 statt und von 17.30 bis 18.30 Uhr ( es gibt also 2 Kurse montags. Und dienstags finden die Kurse von 16 bis 17 und von 17 bis 18 Uhr statt ( also auch zwei Kurse ) ein Kurs dauert also 60 Minuten . \n 
URL:https://wannseekalender.de/event/kunstkurs-fuer-kinder/2024-12-30/
LOCATION:Atelier Simone Westphal\, Zum Heckeshorn 33\, Haus 2\, Berlin\, Berlin\, 14109\, Germany
CATEGORIES:Bildung,DIY,Kinder
ATTACH;FMTTYPE=image/jpeg:https://wannseekalender.de/wp-content/uploads/2024/12/Rise-and-Fall-III-Ruby-Westphal-scaled.jpg
ORGANIZER;CN="Simone Westphal Ku%CC%88nstlerin":MAILTO:Simone@Simone-Westphal.de
END:VEVENT
END:VCALENDAR