BEGIN:VCALENDAR
VERSION:2.0
PRODID:-//Wannsee Kalender - ECPv6.15.20//NONSGML v1.0//EN
CALSCALE:GREGORIAN
METHOD:PUBLISH
X-WR-CALNAME:Wannsee Kalender
X-ORIGINAL-URL:https://wannseekalender.de
X-WR-CALDESC:Veranstaltungen für Wannsee Kalender
REFRESH-INTERVAL;VALUE=DURATION:PT1H
X-Robots-Tag:noindex
X-PUBLISHED-TTL:PT1H
BEGIN:VTIMEZONE
TZID:Europe/Berlin
BEGIN:DAYLIGHT
TZOFFSETFROM:+0100
TZOFFSETTO:+0200
TZNAME:CEST
DTSTART:20230326T010000
END:DAYLIGHT
BEGIN:STANDARD
TZOFFSETFROM:+0200
TZOFFSETTO:+0100
TZNAME:CET
DTSTART:20231029T010000
END:STANDARD
BEGIN:DAYLIGHT
TZOFFSETFROM:+0100
TZOFFSETTO:+0200
TZNAME:CEST
DTSTART:20240331T010000
END:DAYLIGHT
BEGIN:STANDARD
TZOFFSETFROM:+0200
TZOFFSETTO:+0100
TZNAME:CET
DTSTART:20241027T010000
END:STANDARD
BEGIN:DAYLIGHT
TZOFFSETFROM:+0100
TZOFFSETTO:+0200
TZNAME:CEST
DTSTART:20250330T010000
END:DAYLIGHT
BEGIN:STANDARD
TZOFFSETFROM:+0200
TZOFFSETTO:+0100
TZNAME:CET
DTSTART:20251026T010000
END:STANDARD
BEGIN:DAYLIGHT
TZOFFSETFROM:+0100
TZOFFSETTO:+0200
TZNAME:CEST
DTSTART:20260329T010000
END:DAYLIGHT
BEGIN:STANDARD
TZOFFSETFROM:+0200
TZOFFSETTO:+0100
TZNAME:CET
DTSTART:20261025T010000
END:STANDARD
END:VTIMEZONE
BEGIN:VEVENT
DTSTART;VALUE=DATE:20241001
DTEND;VALUE=DATE:20250404
DTSTAMP:20260421T203758
CREATED:20241124T213327Z
LAST-MODIFIED:20241125T095103Z
UID:10000625-1727751600-1743649199@wannseekalender.de
SUMMARY:Kältehilfe Notübernachtung
DESCRIPTION:Seit 2015 bieten wir obdachlosen Menschen jeden Winter im Rahmen der Kältehilfe eine unbürokratische Übernachtungsmöglichkeit. \nAuch in der Kältehilfeperiode Oktober 2023 bis April 2024 betreiben wir erneut unsere Notübernachtung in der Bergstraße 4 in Steglitz-Zehlendorf mit 32 Übernachtungsplätzen für Männer und Frauen. \nWir bieten warme Mahlzeiten\, warme Duschen\, eine Kleiderkammer und nach Bedarf weiterführende Informationen und Beratung. \nAuch in dieser Wintersaison sind Tiere bei uns willkommen\, wenn die Halter*innen in der Einrichtung gut auf sie aufpassen!\nALLE ANGEBOTE DER BERLINER KÄLTEHILFE\nAdresse:\nBergstraße 4\n14109 Berlin\n Fon:\n+49 176 178 799 09\n E-Mail:\nkaeltehilfe@neuechance.berlin\n Öffnungszeiten:\n01. Oktober 2024 bis 30. April 2025\nab 19:00 Uhr\nAnsprechperson:\nJosephine Lysek\n Flyer:\nFlyer als PDF\n Angebot:\nNachtunterkunft im Rahmen von Zuwendungsförderung\nUnser Team aus einer Fachkraft der Sozialarbeit und ehrenamtlichen Nachtdiensten kümmert sich die ganze Woche um die Grundversorgung und Sicherheit der Gäste. Das Angebot wird wöchentlich durch eine mehrsprachige Sozialberatung unterstützt. So bekommen Hilfesuchende einen unkomplizierten Zugang zu den Sozialen Hilfen und können sich auf Wunsch auf dem Weg in das Regelhilfesystem unterstützen lassen.\nDie Platzvergabe erfolgt jeden Tag direkt vor Ort. Es werden keine Kostenübernahmen\, persönliche Angaben oder ähnliches benötigt. Voraussetzung für eine Übernachtung ist die Bereitschaft\, sich an die Hausordnung zu halten.\nIHR WEG ZU UNS\nAnreise\n S1\, S7 Wannsee (plus 20 Minuten Fußweg)\n Bus 114 Seglerweg\n Bus 118\, 218\, 316\, 318\, N16 Wernerstraße \nWeitere Informationen: https://www.neuechance.berlin/kaeltehilfe-notuebernachtung
URL:https://wannseekalender.de/event/kaeltehilfe-notuebernachtung/
LOCATION:Bergstraße 4\, Bergstraße 4\, Berlin\, 14109\, Germany
ORGANIZER;CN="K%C3%A4ltehilfe Not%C3%BCbernachtung":MAILTO:kaeltehilfe@neuechance.berlin
END:VEVENT
BEGIN:VEVENT
DTSTART;VALUE=DATE:20241226
DTEND;VALUE=DATE:20241230
DTSTAMP:20260421T203758
CREATED:20241206T234743Z
LAST-MODIFIED:20241230T141053Z
UID:10008151-1735171200-1735516799@wannseekalender.de
SUMMARY:Weihnachtsmarkt Loretta
DESCRIPTION:Winterzauber im Loretta am Wannsee. Wir haben den Biergarten als Weihnachtsmarkt umgestaltet mit gemütlichen Zelten die zum verweilen einladen. Natürlich gibt es Glühwein\, herzhafte und süße Snacks\, eine große rutsche und sogar eine Schlittschuhbahn. \nDer Weihnachtsmarkt hat jeden Do-Fr von 14-21 Uhr und Sa-So von 12-21 Uhr auf.
URL:https://wannseekalender.de/event/weihnachtsmarkt-2/2024-12-26/
LOCATION:Loretta am Wannsee\, Kronprinzessinnenweg 253-260\, Berlin\, 14109\, Germany
CATEGORIES:Community,Märkte
ORGANIZER;CN="Loretta am Wannsee":MAILTO:info@loretta-wannsee.berlin
END:VEVENT
BEGIN:VEVENT
DTSTART;TZID=Europe/Berlin:20241226T093000
DTEND;TZID=Europe/Berlin:20241226T103000
DTSTAMP:20260421T203758
CREATED:20241216T225135Z
LAST-MODIFIED:20241216T225135Z
UID:10010406-1735205400-1735209000@wannseekalender.de
SUMMARY:Heilige Messe
DESCRIPTION:
URL:https://wannseekalender.de/event/heilige-messe-3/
LOCATION:Kirche St. Michael\, Königstraße 43\, Berlin\, 14109\, Germany
CATEGORIES:Gottesdienst
ORGANIZER;CN="Katholische Pfarrei Johannes Bosco %E2%80%93 Berliner S%C3%BCdwesten":MAILTO:pfarrbuero@johannesboscoberlin.de
END:VEVENT
BEGIN:VEVENT
DTSTART;TZID=Europe/Berlin:20241226T100000
DTEND;TZID=Europe/Berlin:20241226T110000
DTSTAMP:20260421T203758
CREATED:20241208T125318Z
LAST-MODIFIED:20241208T125318Z
UID:10000720-1735207200-1735210800@wannseekalender.de
SUMMARY:Weihnachtsgottesdienst
DESCRIPTION:Vikarin Raya Gerhardt
URL:https://wannseekalender.de/event/weihnachtsgottesdienst-2/
LOCATION:Kirche am Stölpchensee\, Wilhelmplatz\, Berlin\, 14109\, Germany
ORGANIZER;CN="K%C3%BCsterei Evangelische Kirchengemeinde Wannsee":MAILTO:kuesterei@kirchengemeinde-wannsee.de
END:VEVENT
BEGIN:VEVENT
DTSTART;TZID=Europe/Berlin:20241226T160000
DTEND;TZID=Europe/Berlin:20241226T180000
DTSTAMP:20260421T203758
CREATED:20241208T122759Z
LAST-MODIFIED:20241208T122759Z
UID:10000672-1735228800-1735236000@wannseekalender.de
SUMMARY:Weihnachtliche Konzerte: Ludmilla Kogan und Alexander Malter\, Klavier
DESCRIPTION:Werke zu vier Händen. Weitere Informationen unter: http://www.konzerte-schloss-glienicke.de
URL:https://wannseekalender.de/event/weihnachtliche-konzerte-ludmilla-kogan-und-alexander-malter-klavier-2/
LOCATION:Baptistenkirche Wannsee (Kirche am Immanuel-Krankenhaus)\, Königstraße 66\, Berlin\, 14109\, Germany
ORGANIZER;CN="Verein zur F%C3%B6rderung von Konzertreihen im Schloss Glienicke e.V.":MAILTO:info@konzerte-schloss-glienicke.de
END:VEVENT
END:VCALENDAR