BEGIN:VCALENDAR
VERSION:2.0
PRODID:-//Wannsee Kalender - ECPv6.15.20//NONSGML v1.0//EN
CALSCALE:GREGORIAN
METHOD:PUBLISH
X-ORIGINAL-URL:https://wannseekalender.de
X-WR-CALDESC:Veranstaltungen für Wannsee Kalender
REFRESH-INTERVAL;VALUE=DURATION:PT1H
X-Robots-Tag:noindex
X-PUBLISHED-TTL:PT1H
BEGIN:VTIMEZONE
TZID:Europe/Berlin
BEGIN:DAYLIGHT
TZOFFSETFROM:+0100
TZOFFSETTO:+0200
TZNAME:CEST
DTSTART:20230326T010000
END:DAYLIGHT
BEGIN:STANDARD
TZOFFSETFROM:+0200
TZOFFSETTO:+0100
TZNAME:CET
DTSTART:20231029T010000
END:STANDARD
BEGIN:DAYLIGHT
TZOFFSETFROM:+0100
TZOFFSETTO:+0200
TZNAME:CEST
DTSTART:20240331T010000
END:DAYLIGHT
BEGIN:STANDARD
TZOFFSETFROM:+0200
TZOFFSETTO:+0100
TZNAME:CET
DTSTART:20241027T010000
END:STANDARD
BEGIN:DAYLIGHT
TZOFFSETFROM:+0100
TZOFFSETTO:+0200
TZNAME:CEST
DTSTART:20250330T010000
END:DAYLIGHT
BEGIN:STANDARD
TZOFFSETFROM:+0200
TZOFFSETTO:+0100
TZNAME:CET
DTSTART:20251026T010000
END:STANDARD
BEGIN:DAYLIGHT
TZOFFSETFROM:+0100
TZOFFSETTO:+0200
TZNAME:CEST
DTSTART:20260329T010000
END:DAYLIGHT
BEGIN:STANDARD
TZOFFSETFROM:+0200
TZOFFSETTO:+0100
TZNAME:CET
DTSTART:20261025T010000
END:STANDARD
END:VTIMEZONE
BEGIN:VEVENT
DTSTART;VALUE=DATE:20241001
DTEND;VALUE=DATE:20250404
DTSTAMP:20260423T022436
CREATED:20241124T213327Z
LAST-MODIFIED:20241125T095103Z
UID:10000625-1727751600-1743649199@wannseekalender.de
SUMMARY:Kältehilfe Notübernachtung
DESCRIPTION:Seit 2015 bieten wir obdachlosen Menschen jeden Winter im Rahmen der Kältehilfe eine unbürokratische Übernachtungsmöglichkeit. \nAuch in der Kältehilfeperiode Oktober 2023 bis April 2024 betreiben wir erneut unsere Notübernachtung in der Bergstraße 4 in Steglitz-Zehlendorf mit 32 Übernachtungsplätzen für Männer und Frauen. \nWir bieten warme Mahlzeiten\, warme Duschen\, eine Kleiderkammer und nach Bedarf weiterführende Informationen und Beratung. \nAuch in dieser Wintersaison sind Tiere bei uns willkommen\, wenn die Halter*innen in der Einrichtung gut auf sie aufpassen!\nALLE ANGEBOTE DER BERLINER KÄLTEHILFE\nAdresse:\nBergstraße 4\n14109 Berlin\n Fon:\n+49 176 178 799 09\n E-Mail:\nkaeltehilfe@neuechance.berlin\n Öffnungszeiten:\n01. Oktober 2024 bis 30. April 2025\nab 19:00 Uhr\nAnsprechperson:\nJosephine Lysek\n Flyer:\nFlyer als PDF\n Angebot:\nNachtunterkunft im Rahmen von Zuwendungsförderung\nUnser Team aus einer Fachkraft der Sozialarbeit und ehrenamtlichen Nachtdiensten kümmert sich die ganze Woche um die Grundversorgung und Sicherheit der Gäste. Das Angebot wird wöchentlich durch eine mehrsprachige Sozialberatung unterstützt. So bekommen Hilfesuchende einen unkomplizierten Zugang zu den Sozialen Hilfen und können sich auf Wunsch auf dem Weg in das Regelhilfesystem unterstützen lassen.\nDie Platzvergabe erfolgt jeden Tag direkt vor Ort. Es werden keine Kostenübernahmen\, persönliche Angaben oder ähnliches benötigt. Voraussetzung für eine Übernachtung ist die Bereitschaft\, sich an die Hausordnung zu halten.\nIHR WEG ZU UNS\nAnreise\n S1\, S7 Wannsee (plus 20 Minuten Fußweg)\n Bus 114 Seglerweg\n Bus 118\, 218\, 316\, 318\, N16 Wernerstraße \nWeitere Informationen: https://www.neuechance.berlin/kaeltehilfe-notuebernachtung
URL:https://wannseekalender.de/event/kaeltehilfe-notuebernachtung/
LOCATION:Bergstraße 4\, Bergstraße 4\, Berlin\, 14109\, Germany
ORGANIZER;CN="K%C3%A4ltehilfe Not%C3%BCbernachtung":MAILTO:kaeltehilfe@neuechance.berlin
END:VEVENT
BEGIN:VEVENT
DTSTART;VALUE=DATE:20241219
DTEND;VALUE=DATE:20241223
DTSTAMP:20260423T022436
CREATED:20241206T234743Z
LAST-MODIFIED:20241230T141053Z
UID:10008150-1734566400-1734911999@wannseekalender.de
SUMMARY:Weihnachtsmarkt Loretta
DESCRIPTION:Winterzauber im Loretta am Wannsee. Wir haben den Biergarten als Weihnachtsmarkt umgestaltet mit gemütlichen Zelten die zum verweilen einladen. Natürlich gibt es Glühwein\, herzhafte und süße Snacks\, eine große rutsche und sogar eine Schlittschuhbahn. \nDer Weihnachtsmarkt hat jeden Do-Fr von 14-21 Uhr und Sa-So von 12-21 Uhr auf.
URL:https://wannseekalender.de/event/weihnachtsmarkt-2/2024-12-19/
LOCATION:Loretta am Wannsee\, Kronprinzessinnenweg 253-260\, Berlin\, 14109\, Germany
CATEGORIES:Community,Märkte
ORGANIZER;CN="Loretta am Wannsee":MAILTO:info@loretta-wannsee.berlin
END:VEVENT
BEGIN:VEVENT
DTSTART;TZID=Europe/Berlin:20241219T100000
DTEND;TZID=Europe/Berlin:20241219T110000
DTSTAMP:20260423T022436
CREATED:20241208T130722Z
LAST-MODIFIED:20250131T012122Z
UID:10000744-1734602400-1734606000@wannseekalender.de
SUMMARY:Gottesdienst Sandwerder
DESCRIPTION:
URL:https://wannseekalender.de/event/gottesdienst-5/2024-12-19/
LOCATION:Psychiatrisches Zentrum für Betreuung und Pflege\, Am Sandwerder 43\, Berlin\, 14109\, Germany
CATEGORIES:Gottesdienst,Kirche
ORGANIZER;CN="K%C3%BCsterei Evangelische Kirchengemeinde Wannsee":MAILTO:kuesterei@kirchengemeinde-wannsee.de
END:VEVENT
BEGIN:VEVENT
DTSTART;TZID=Europe/Berlin:20241219T100000
DTEND;TZID=Europe/Berlin:20241219T113000
DTSTAMP:20260423T022436
CREATED:20241126T082028Z
LAST-MODIFIED:20250517T081047Z
UID:10006035-1734602400-1734607800@wannseekalender.de
SUMMARY:Krabbel- & Spielgruppe von Baby bis Kleinkind
DESCRIPTION:Treffpunkt für Eltern und Babys/Kleinkinder bis ca. 2 Jahre. Freies Spielen\, soziales Miteinander und Austausch. Beitrag pro Treffen: 3 € für Nicht-Mitglieder\, 2 € für Vereinsmitglieder. Kontakt: Dominique Klawonn\, 017645845026\, kinderspielkreise@kirchengemeinde-wannsee.de
URL:https://wannseekalender.de/event/krabbel-spielgruppe-von-baby-bis-kleinkind/2024-12-19/
LOCATION:Evangelisches Gemeindehaus\, Schuchardtweg 5\, Berlin\, 14109\, Germany
CATEGORIES:Community
ORGANIZER;CN="Kinderspielkreise in der Evangelischen Kirchengemeinde Wannsee e.V.":MAILTO:kinderspielkreise@kirchengemeinde-wannsee.de
END:VEVENT
BEGIN:VEVENT
DTSTART;TZID=Europe/Berlin:20241219T105500
DTEND;TZID=Europe/Berlin:20241219T135500
DTSTAMP:20260423T022436
CREATED:20241125T095323Z
LAST-MODIFIED:20241209T192347Z
UID:10000748-1734605700-1734616500@wannseekalender.de
SUMMARY:Besuch bei Pflanzen-Kölle
DESCRIPTION:Bus 620 nach Teltow Stadt (Abfahrt: 10:59 Uhr). Weitere Infos bei Diakonin Indra Wiesinger: diakonin@kirchengemeinde-wannsee.de
URL:https://wannseekalender.de/event/besuch-von-pflanzen-koelle/
LOCATION:S-Bahnhof Wannsee\, Kronprinzessinnenweg 250\, Berlin\, 14109\, Germany
ORGANIZER;CN="Diakonie Evangelische Kirchengemeinde Berlin-Wannsee":MAILTO:diakonin@kirchengemeinde-wannsee.de
END:VEVENT
BEGIN:VEVENT
DTSTART;TZID=Europe/Berlin:20241219T120000
DTEND;TZID=Europe/Berlin:20241219T150000
DTSTAMP:20260423T022436
CREATED:20241208T151919Z
LAST-MODIFIED:20250102T095030Z
UID:10013097-1734609600-1734620400@wannseekalender.de
SUMMARY:Ausstellung: ANIMA
DESCRIPTION:Kuratiert von Nike Bätzner und Avi Feldman.\nArbeiten von Studierenden und Alumni der Burg Giebichenstein Kunsthochschule Halle. \nÖffnungszeiten: Do & Fr 12–15 Uhr\, Sa 12-14 Uhr\nEintritt frei\, Spende willkommen\n+49 (0)30 262 849 91\ninfo@wannsee-contemporary.com\nwww.wannsee-contemporary.com \nAusstellende\nTobias Daum\, Julia Frank\, Sarah Goerke\, Merle Häußler\, Elisabeth Hildebrandt\, Louisa Kolloff\, Elise Möller\, Paula Reupke Alverez\, Jakob Schreiter\, Kathrin Schuster\, Josefine Wendlinger\, Miriam Zimmermann aus den Studienrichtungen Master Kunst– und Designwissenschaften\, Bildhauerei\, Malerei\, Keramik\, Schmuck und Lehramt Kunst. \n\nThemen der künstlerischen Auseinandersetzung sind: Die jüdische Geschichte der Region\, NS-Zeit\, DDR und deren Übergang zur BRD. Werke setzen sich mit Flucht\, Zugänglichkeit und Bewegung auseinander – inspiriert von der Topografie des Sees und den Tanzbewegungen von „Volkskörpern.“ Mit Film\, Keramik\, Text\, Tanz und weiteren Medien werden zeitgenössische Zugänge zu historischen Fragestellungen geschaffen. \n  \nBegleitprogramm\nWährend der gesamten Laufzeit der Ausstellung:\nWannsee: How does it feel? Wie erleben Sie Wannsee? Wie fühlt sich Wannsee an?\nEine Mitmachstation\, die zum kreativen Schreiben einlädt und aus der eine Textsammlung zum Mitnehmen entsteht\, initiiert von Elise Möller.
URL:https://wannseekalender.de/event/ausstellung-anima-2/2024-12-19/
LOCATION:Wannsee Contemporary\, Chausseestraße 46\, Berlin\, 14109\, Germany
CATEGORIES:Bildung
ORGANIZER;CN="Wannsee Contemporary UG":MAILTO:info@wannsee-contemporary.com
END:VEVENT
BEGIN:VEVENT
DTSTART;TZID=Europe/Berlin:20241219T123000
DTEND;TZID=Europe/Berlin:20241219T133000
DTSTAMP:20260423T022436
CREATED:20250530T121237Z
LAST-MODIFIED:20250724T075729Z
UID:10023888-1734611400-1734615000@wannseekalender.de
SUMMARY:Social Lunch: Gemeinsames Mittagessen im Alten Schulhaus
DESCRIPTION:Jeden Donnerstag möchten wir gemeinsam Mittagessen im Alten Schulhaus. Die wöchentlich wechselnden Gerichte werden immer im Vorfeld ausgewählt und bei jedem Gericht ist ein Getränk  inkludiert. \nJeden Donnerstag um 12:30 Uhr\, bei gutem Wetter draußen auf dem alten Schulhof und sonst drinnen im alten Schulhaus! \nNatürlich kann jeder teilnehmen\, egal ob aktuell ein Tisch bei uns gemietet ist oder nicht. Also tragt es weiter und lasst uns alle einmal die Woche an den Tisch holen. \nHier zur Anmeldung
URL:https://wannseekalender.de/event/social-lunch-gemeinsames-mittagessen-im-alten-schulhaus-8-2/
LOCATION:Wannsee HUB\, Wilhelmplatz 1\, Berlin\, 14109\, Germany
ATTACH;FMTTYPE=image/png:https://wannseekalender.de/wp-content/uploads/2024/11/1-1-e1733087963373.png
ORGANIZER;CN="Wannsee HUB":MAILTO:info@wannseehub.de
END:VEVENT
BEGIN:VEVENT
DTSTART;TZID=Europe/Berlin:20241219T170000
DTEND;TZID=Europe/Berlin:20241219T180000
DTSTAMP:20260423T022436
CREATED:20241125T095122Z
LAST-MODIFIED:20241208T153705Z
UID:10000695-1734627600-1734631200@wannseekalender.de
SUMMARY:Lebendiger Adventskalender: Wannsee Contemporary
DESCRIPTION:Ausstellung von Studierenden BURG Halle ‚Wannsee: Ein Laboratorium für die Zukunft‘. Weitere Informationen: https://wannseebote.ekbo.de/veranstaltungen
URL:https://wannseekalender.de/event/lebendiger-adventskalender-wannsee-contemporary/
LOCATION:Wannsee Contemporary\, Chausseestraße 46\, Berlin\, 14109\, Germany
ORGANIZER;CN="F%C3%B6rderverein Evangelische Kirche Wannsee":MAILTO:foerderverein@kirchengemeinde-wannsee.de
END:VEVENT
BEGIN:VEVENT
DTSTART;TZID=Europe/Berlin:20241219T193000
DTEND;TZID=Europe/Berlin:20241219T213000
DTSTAMP:20260423T022436
CREATED:20241125T094523Z
LAST-MODIFIED:20250102T173430Z
UID:10000650-1734636600-1734643800@wannseekalender.de
SUMMARY:Kiezkino Wannsee „The Angels Share“
DESCRIPTION:Regisseur Ken Loach \nhttps://www.youtube.com/embed/vl7U5ggdkS4?si=weXNX5kfzYbE976M
URL:https://wannseekalender.de/event/kiez-kino-wannsee-the-angels-share/
LOCATION:Altes Schulhaus\, Wilhelmplatz 1\, Berlin\, 14109\, Germany
ORGANIZER;CN="F%C3%B6rderverein Evangelische Kirche Wannsee":MAILTO:foerderverein@kirchengemeinde-wannsee.de
END:VEVENT
END:VCALENDAR