BEGIN:VCALENDAR
VERSION:2.0
PRODID:-//Wannsee Kalender - ECPv6.15.20//NONSGML v1.0//EN
CALSCALE:GREGORIAN
METHOD:PUBLISH
X-ORIGINAL-URL:https://wannseekalender.de
X-WR-CALDESC:Veranstaltungen für Wannsee Kalender
REFRESH-INTERVAL;VALUE=DURATION:PT1H
X-Robots-Tag:noindex
X-PUBLISHED-TTL:PT1H
BEGIN:VTIMEZONE
TZID:Europe/Berlin
BEGIN:DAYLIGHT
TZOFFSETFROM:+0100
TZOFFSETTO:+0200
TZNAME:CEST
DTSTART:20230326T010000
END:DAYLIGHT
BEGIN:STANDARD
TZOFFSETFROM:+0200
TZOFFSETTO:+0100
TZNAME:CET
DTSTART:20231029T010000
END:STANDARD
BEGIN:DAYLIGHT
TZOFFSETFROM:+0100
TZOFFSETTO:+0200
TZNAME:CEST
DTSTART:20240331T010000
END:DAYLIGHT
BEGIN:STANDARD
TZOFFSETFROM:+0200
TZOFFSETTO:+0100
TZNAME:CET
DTSTART:20241027T010000
END:STANDARD
BEGIN:DAYLIGHT
TZOFFSETFROM:+0100
TZOFFSETTO:+0200
TZNAME:CEST
DTSTART:20250330T010000
END:DAYLIGHT
BEGIN:STANDARD
TZOFFSETFROM:+0200
TZOFFSETTO:+0100
TZNAME:CET
DTSTART:20251026T010000
END:STANDARD
BEGIN:DAYLIGHT
TZOFFSETFROM:+0100
TZOFFSETTO:+0200
TZNAME:CEST
DTSTART:20260329T010000
END:DAYLIGHT
BEGIN:STANDARD
TZOFFSETFROM:+0200
TZOFFSETTO:+0100
TZNAME:CET
DTSTART:20261025T010000
END:STANDARD
END:VTIMEZONE
BEGIN:VEVENT
DTSTART;VALUE=DATE:20241001
DTEND;VALUE=DATE:20250404
DTSTAMP:20260423T063301
CREATED:20241124T213327Z
LAST-MODIFIED:20241125T095103Z
UID:10000625-1727751600-1743649199@wannseekalender.de
SUMMARY:Kältehilfe Notübernachtung
DESCRIPTION:Seit 2015 bieten wir obdachlosen Menschen jeden Winter im Rahmen der Kältehilfe eine unbürokratische Übernachtungsmöglichkeit. \nAuch in der Kältehilfeperiode Oktober 2023 bis April 2024 betreiben wir erneut unsere Notübernachtung in der Bergstraße 4 in Steglitz-Zehlendorf mit 32 Übernachtungsplätzen für Männer und Frauen. \nWir bieten warme Mahlzeiten\, warme Duschen\, eine Kleiderkammer und nach Bedarf weiterführende Informationen und Beratung. \nAuch in dieser Wintersaison sind Tiere bei uns willkommen\, wenn die Halter*innen in der Einrichtung gut auf sie aufpassen!\nALLE ANGEBOTE DER BERLINER KÄLTEHILFE\nAdresse:\nBergstraße 4\n14109 Berlin\n Fon:\n+49 176 178 799 09\n E-Mail:\nkaeltehilfe@neuechance.berlin\n Öffnungszeiten:\n01. Oktober 2024 bis 30. April 2025\nab 19:00 Uhr\nAnsprechperson:\nJosephine Lysek\n Flyer:\nFlyer als PDF\n Angebot:\nNachtunterkunft im Rahmen von Zuwendungsförderung\nUnser Team aus einer Fachkraft der Sozialarbeit und ehrenamtlichen Nachtdiensten kümmert sich die ganze Woche um die Grundversorgung und Sicherheit der Gäste. Das Angebot wird wöchentlich durch eine mehrsprachige Sozialberatung unterstützt. So bekommen Hilfesuchende einen unkomplizierten Zugang zu den Sozialen Hilfen und können sich auf Wunsch auf dem Weg in das Regelhilfesystem unterstützen lassen.\nDie Platzvergabe erfolgt jeden Tag direkt vor Ort. Es werden keine Kostenübernahmen\, persönliche Angaben oder ähnliches benötigt. Voraussetzung für eine Übernachtung ist die Bereitschaft\, sich an die Hausordnung zu halten.\nIHR WEG ZU UNS\nAnreise\n S1\, S7 Wannsee (plus 20 Minuten Fußweg)\n Bus 114 Seglerweg\n Bus 118\, 218\, 316\, 318\, N16 Wernerstraße \nWeitere Informationen: https://www.neuechance.berlin/kaeltehilfe-notuebernachtung
URL:https://wannseekalender.de/event/kaeltehilfe-notuebernachtung/
LOCATION:Bergstraße 4\, Bergstraße 4\, Berlin\, 14109\, Germany
ORGANIZER;CN="K%C3%A4ltehilfe Not%C3%BCbernachtung":MAILTO:kaeltehilfe@neuechance.berlin
END:VEVENT
BEGIN:VEVENT
DTSTART;TZID=Europe/Berlin:20241209T154500
DTEND;TZID=Europe/Berlin:20241209T171500
DTSTAMP:20260423T063301
CREATED:20241126T234446Z
LAST-MODIFIED:20251228T104154Z
UID:10032260-1733759100-1733764500@wannseekalender.de
SUMMARY:Kinderchor
DESCRIPTION:Töne pflücken\, Töne in die Luft schleudern\, im Takt hüpfen\, klatschen\, tanzen und natürlich singen! Das Singen findet immer montags von 15.45 – 16.20 Uhr für Kinder ab 5 bis 8 Jahren und von 16.30 – 17.15 Uhr für Kinder ab 9 bis 12 Jahren im großen Saal des Gemeindehauses statt.Das Singen kostet monatlich 5 Euro pro Familie. Die regelmäßige Teilnahme erfordert die Mitgliedschaft in unserem Verein. Antrag Mitgliedschaft
URL:https://wannseekalender.de/event/kinder-chor/2024-12-09/
LOCATION:Evangelisches Gemeindehaus\, Schuchardtweg 5\, Berlin\, 14109\, Germany
CATEGORIES:Chor,Kinder,Kinder & Jugendliche,Musik
ORGANIZER;CN="Kinderspielkreise in der Evangelischen Kirchengemeinde Wannsee e.V.":MAILTO:kinderspielkreise@kirchengemeinde-wannsee.de
END:VEVENT
BEGIN:VEVENT
DTSTART;TZID=Europe/Berlin:20241209T163000
DTEND;TZID=Europe/Berlin:20241209T183000
DTSTAMP:20260423T063301
CREATED:20241208T145004Z
LAST-MODIFIED:20241217T213913Z
UID:10011723-1733761800-1733769000@wannseekalender.de
SUMMARY:Kunstkurse für Kinder
DESCRIPTION:Kunstkurs für Kinder ab 6 Jahren im Atelier der Künstlerin Simone Westphal \nIn meinem Atelier in Wannsee können Kinder in einer kleinen Gruppe unterschiedliche kreative Techniken erlernen. zeichnen\, malen\, drucken\, filzen und vieles mehr. Jedes Kind kann seiner Fantasie freien Lauf lassen und ich gebe Impulse und Anleitung um eine Idee umszusetzen. Jeden Montag- oder Dienstagnachmittag\, 60 Minuten\, Anmeldung unter 01703290894 \n  \nDie Kosten betragen 80 Euro im Monat. \nDie Kinderkurse finden montags von 16.30 Uhr bis 17.30 statt und von 17.30 bis 18.30 Uhr ( es gibt also 2 Kurse montags. Und dienstags finden die Kurse von 16 bis 17 und von 17 bis 18 Uhr statt ( also auch zwei Kurse ) ein Kurs dauert also 60 Minuten . \n 
URL:https://wannseekalender.de/event/kunstkurs-fuer-kinder/2024-12-09/
LOCATION:Atelier Simone Westphal\, Zum Heckeshorn 33\, Haus 2\, Berlin\, Berlin\, 14109\, Germany
CATEGORIES:Bildung,DIY,Kinder
ATTACH;FMTTYPE=image/jpeg:https://wannseekalender.de/wp-content/uploads/2024/12/Rise-and-Fall-III-Ruby-Westphal-scaled.jpg
ORGANIZER;CN="Simone Westphal Ku%CC%88nstlerin":MAILTO:Simone@Simone-Westphal.de
END:VEVENT
BEGIN:VEVENT
DTSTART;TZID=Europe/Berlin:20241209T170000
DTEND;TZID=Europe/Berlin:20241209T180000
DTSTAMP:20260423T063301
CREATED:20241125T095104Z
LAST-MODIFIED:20241125T095104Z
UID:10000689-1733763600-1733767200@wannseekalender.de
SUMMARY:Lebendiger Adventskalender: beHANDling - Ergotherapie Wannsee
DESCRIPTION:Alles im Griff – Einblick in die Handtherapie. Weitere Informationen: https://wannseebote.ekbo.de/veranstaltungen
URL:https://wannseekalender.de/event/lebendiger-adventskalender-behandling-ergotherapie-wannsee/
LOCATION:beHANDling\, Chausseestraße 14\, Berlin\, 14109\, Germany
ORGANIZER;CN="F%C3%B6rderverein Evangelische Kirche Wannsee":MAILTO:foerderverein@kirchengemeinde-wannsee.de
END:VEVENT
BEGIN:VEVENT
DTSTART;TZID=Europe/Berlin:20241209T193000
DTEND;TZID=Europe/Berlin:20241209T210000
DTSTAMP:20260423T063301
CREATED:20241206T230919Z
LAST-MODIFIED:20241206T231017Z
UID:10007739-1733772600-1733778000@wannseekalender.de
SUMMARY:Martina Hefter: »Hey guten Morgen\, wie geht es dir?«
DESCRIPTION:Im Gespräch mit Thorsten Dönges \nVon der Einsamkeit der Nacht zwischen Leipzig und Nigeria und unserem Begehren in Zeiten des Internets handelt Martina Hefters neuer Roman »Hey guten Morgen\, wie geht es dir?« (Klett-Cotta)\, für den sie im Oktober mit dem Deutschen Buchpreis ausgezeichnet wurde. Die Protagonistin Juno verbringt ihre schlaflosen Nächte im Zwiegespräch mit „love scammern“\, während im Nebenzimmer ihr kranker Mann Jupiter seinen Weg in den Schlaf sucht. Als Ablenkung von der Pflege ihres Mannes\, deren Routine langsam ihre Liebe zu verdrängen droht\, spielt Juno das Spiel der Liebesbetrüger mit – und findet im jungen Nigerianer Benu nicht nur einen aufmerksamen Gesprächspartner\, sondern auch jene Geborgenheit\, die sie in ihrem Alltag verloren hat. \n»Hey guten Morgen\, wie geht es dir« ist\, nach sechzehn Jahren ohne Prosa-Veröffentlichung\, Martina Hefters vierter Roman. Zuletzt erschien 2020 bei kookbooks ihr Gedichtband »In die Wälder gehen\, Holz für ein Bett klauen«.
URL:https://wannseekalender.de/event/martina-hefter-hey-guten-morgen-wie-geht-es-dir/
LOCATION:Literarisches Colloquium Berlin (LCB)\, Am Sandwerder 5\, Berlin\, 14109\, Germany
CATEGORIES:Kunst & Kultur
ORGANIZER;CN="Literarisches Colloquium Berlin e. V.":MAILTO:mail@lcb.de
END:VEVENT
END:VCALENDAR