BEGIN:VCALENDAR
VERSION:2.0
PRODID:-//Wannsee Kalender - ECPv6.15.20//NONSGML v1.0//EN
CALSCALE:GREGORIAN
METHOD:PUBLISH
X-ORIGINAL-URL:https://wannseekalender.de
X-WR-CALDESC:Veranstaltungen für Wannsee Kalender
REFRESH-INTERVAL;VALUE=DURATION:PT1H
X-Robots-Tag:noindex
X-PUBLISHED-TTL:PT1H
BEGIN:VTIMEZONE
TZID:Europe/Berlin
BEGIN:DAYLIGHT
TZOFFSETFROM:+0100
TZOFFSETTO:+0200
TZNAME:CEST
DTSTART:20230326T010000
END:DAYLIGHT
BEGIN:STANDARD
TZOFFSETFROM:+0200
TZOFFSETTO:+0100
TZNAME:CET
DTSTART:20231029T010000
END:STANDARD
BEGIN:DAYLIGHT
TZOFFSETFROM:+0100
TZOFFSETTO:+0200
TZNAME:CEST
DTSTART:20240331T010000
END:DAYLIGHT
BEGIN:STANDARD
TZOFFSETFROM:+0200
TZOFFSETTO:+0100
TZNAME:CET
DTSTART:20241027T010000
END:STANDARD
BEGIN:DAYLIGHT
TZOFFSETFROM:+0100
TZOFFSETTO:+0200
TZNAME:CEST
DTSTART:20250330T010000
END:DAYLIGHT
BEGIN:STANDARD
TZOFFSETFROM:+0200
TZOFFSETTO:+0100
TZNAME:CET
DTSTART:20251026T010000
END:STANDARD
BEGIN:DAYLIGHT
TZOFFSETFROM:+0100
TZOFFSETTO:+0200
TZNAME:CEST
DTSTART:20260329T010000
END:DAYLIGHT
BEGIN:STANDARD
TZOFFSETFROM:+0200
TZOFFSETTO:+0100
TZNAME:CET
DTSTART:20261025T010000
END:STANDARD
END:VTIMEZONE
BEGIN:VEVENT
DTSTART;VALUE=DATE:20241001
DTEND;VALUE=DATE:20250404
DTSTAMP:20260422T182253
CREATED:20241124T213327Z
LAST-MODIFIED:20241125T095103Z
UID:10000625-1727751600-1743649199@wannseekalender.de
SUMMARY:Kältehilfe Notübernachtung
DESCRIPTION:Seit 2015 bieten wir obdachlosen Menschen jeden Winter im Rahmen der Kältehilfe eine unbürokratische Übernachtungsmöglichkeit. \nAuch in der Kältehilfeperiode Oktober 2023 bis April 2024 betreiben wir erneut unsere Notübernachtung in der Bergstraße 4 in Steglitz-Zehlendorf mit 32 Übernachtungsplätzen für Männer und Frauen. \nWir bieten warme Mahlzeiten\, warme Duschen\, eine Kleiderkammer und nach Bedarf weiterführende Informationen und Beratung. \nAuch in dieser Wintersaison sind Tiere bei uns willkommen\, wenn die Halter*innen in der Einrichtung gut auf sie aufpassen!\nALLE ANGEBOTE DER BERLINER KÄLTEHILFE\nAdresse:\nBergstraße 4\n14109 Berlin\n Fon:\n+49 176 178 799 09\n E-Mail:\nkaeltehilfe@neuechance.berlin\n Öffnungszeiten:\n01. Oktober 2024 bis 30. April 2025\nab 19:00 Uhr\nAnsprechperson:\nJosephine Lysek\n Flyer:\nFlyer als PDF\n Angebot:\nNachtunterkunft im Rahmen von Zuwendungsförderung\nUnser Team aus einer Fachkraft der Sozialarbeit und ehrenamtlichen Nachtdiensten kümmert sich die ganze Woche um die Grundversorgung und Sicherheit der Gäste. Das Angebot wird wöchentlich durch eine mehrsprachige Sozialberatung unterstützt. So bekommen Hilfesuchende einen unkomplizierten Zugang zu den Sozialen Hilfen und können sich auf Wunsch auf dem Weg in das Regelhilfesystem unterstützen lassen.\nDie Platzvergabe erfolgt jeden Tag direkt vor Ort. Es werden keine Kostenübernahmen\, persönliche Angaben oder ähnliches benötigt. Voraussetzung für eine Übernachtung ist die Bereitschaft\, sich an die Hausordnung zu halten.\nIHR WEG ZU UNS\nAnreise\n S1\, S7 Wannsee (plus 20 Minuten Fußweg)\n Bus 114 Seglerweg\n Bus 118\, 218\, 316\, 318\, N16 Wernerstraße \nWeitere Informationen: https://www.neuechance.berlin/kaeltehilfe-notuebernachtung
URL:https://wannseekalender.de/event/kaeltehilfe-notuebernachtung/
LOCATION:Bergstraße 4\, Bergstraße 4\, Berlin\, 14109\, Germany
ORGANIZER;CN="K%C3%A4ltehilfe Not%C3%BCbernachtung":MAILTO:kaeltehilfe@neuechance.berlin
END:VEVENT
BEGIN:VEVENT
DTSTART;VALUE=DATE:20241205
DTEND;VALUE=DATE:20241209
DTSTAMP:20260422T182253
CREATED:20241206T234743Z
LAST-MODIFIED:20241230T141053Z
UID:10008033-1733356800-1733702399@wannseekalender.de
SUMMARY:Weihnachtsmarkt Loretta
DESCRIPTION:Winterzauber im Loretta am Wannsee. Wir haben den Biergarten als Weihnachtsmarkt umgestaltet mit gemütlichen Zelten die zum verweilen einladen. Natürlich gibt es Glühwein\, herzhafte und süße Snacks\, eine große rutsche und sogar eine Schlittschuhbahn. \nDer Weihnachtsmarkt hat jeden Do-Fr von 14-21 Uhr und Sa-So von 12-21 Uhr auf.
URL:https://wannseekalender.de/event/weihnachtsmarkt-2/2024-12-05/
LOCATION:Loretta am Wannsee\, Kronprinzessinnenweg 253-260\, Berlin\, 14109\, Germany
CATEGORIES:Community,Märkte
ORGANIZER;CN="Loretta am Wannsee":MAILTO:info@loretta-wannsee.berlin
END:VEVENT
BEGIN:VEVENT
DTSTART;VALUE=DATE:20241207
DTEND;VALUE=DATE:20241209
DTSTAMP:20260422T182253
CREATED:20241126T082013Z
LAST-MODIFIED:20250820T193053Z
UID:10001316-1733529600-1733702399@wannseekalender.de
SUMMARY:Führung: Haus der Wannsee-Konferenz
DESCRIPTION:Immer samstags und sonntags\, immer kostenfrei: Führungen durch unsere Dauerausstellung um 14 Uhr\, 15 Uhr\, 16 Uhr. \nCa. 45 Minuten\, ohne Anmeldung\, herzlich willkommen. Treffpunkt: Rezeption.
URL:https://wannseekalender.de/event/fuehrung-haus-der-wannseekonferenz/2024-12-07/
LOCATION:Haus der Wannsee-Konferenz\, Am Großen Wannsee 56-58\, Berlin\, 14109\, Germany
CATEGORIES:Bildung,Führung,Kunst & Kultur,Wissen
ORGANIZER;CN="Gedenk- und Bildungsst%C3%A4tte Haus der Wannsee-Konferenz":MAILTO:info@ghwk.de
END:VEVENT
BEGIN:VEVENT
DTSTART;TZID=Europe/Berlin:20241207T120000
DTEND;TZID=Europe/Berlin:20241207T130000
DTSTAMP:20260422T182253
CREATED:20241124T225854Z
LAST-MODIFIED:20250123T214927Z
UID:10002108-1733572800-1733576400@wannseekalender.de
SUMMARY:Führung: Liebermann-Villa
DESCRIPTION:Erfahren Sie mehr über Max Liebermann\, die Liebermann-Villa am Wannsee und die aktuellen Sonderausstellungen mit unseren öffentlichen Führungen.\nTickets gibt es online und vor Ort. \nZusätzlich wird eine Eintrittskarte benötigt. Bitte treffen Sie 15 Minuten vor Führungsbeginn im Shop ein.
URL:https://wannseekalender.de/event/fuehrung-liebermann-villa/2024-12-07/
LOCATION:Liebermann-Villa\, Colomierstraße 3\, Berlin\, 14109\, Germany
ORGANIZER;CN="Max-Liebermann-Gesellschaft Berlin e.V.":MAILTO:info@liebermann-villa.de
END:VEVENT
BEGIN:VEVENT
DTSTART;TZID=Europe/Berlin:20241207T151500
DTEND;TZID=Europe/Berlin:20241207T170000
DTSTAMP:20260422T182253
CREATED:20241207T074628Z
LAST-MODIFIED:20241207T074628Z
UID:10008466-1733584500-1733590800@wannseekalender.de
SUMMARY:Fußball: FV Wannsee : SV Johannisthal II
DESCRIPTION:
URL:https://wannseekalender.de/event/fussball-fv-wannsee-sv-johannisthal-ii/
LOCATION:Stadion Wannsee\, Alsenstraße 14\, Berlin\, 14109\, Germany
CATEGORIES:Sport
ORGANIZER;CN="FV Wannsee - Fussball-Vereinigung Wannsee e.V.":MAILTO:geschaeftsstelle@fvwannsee.de
END:VEVENT
BEGIN:VEVENT
DTSTART;TZID=Europe/Berlin:20241207T160000
DTEND;TZID=Europe/Berlin:20241207T180000
DTSTAMP:20260422T182253
CREATED:20241125T095021Z
LAST-MODIFIED:20241125T095021Z
UID:10000665-1733587200-1733594400@wannseekalender.de
SUMMARY:Marianne Boettcher Violine und Ursula Trede-Boettcher Klavier
DESCRIPTION:„Weihnachtliche Klänge zur Adventszeit“. Weitere Informationen unter: http://www.konzerte-schloss-glienicke.de
URL:https://wannseekalender.de/event/marianne-boettcher-violine-und-ursula-trede-boettcher-klavier/
LOCATION:Baptistenkirche Wannsee (Kirche am Immanuel-Krankenhaus)\, Königstraße 66\, Berlin\, 14109\, Germany
END:VEVENT
BEGIN:VEVENT
DTSTART;TZID=Europe/Berlin:20241207T163000
DTEND;TZID=Europe/Berlin:20241207T210000
DTSTAMP:20260422T182253
CREATED:20241201T075735Z
LAST-MODIFIED:20241201T075735Z
UID:10007470-1733589000-1733605200@wannseekalender.de
SUMMARY:winterlichr kultureller Abend des jugendBEIRAT der Stiftung wannseeFORUM
DESCRIPTION:Es ist wieder soweit: die gemütliche Zeit des Jahres steht vor der Tür und die feiern wir mit unserem winterlichen kulturellen Abend vom jugendBEIRAT der Stiftung wannseeFORUM. Der wird wie jedes Jahr eigenständig von jungen Menschen organisiert und moderiert.❄️\nWir laden euch herzlich ein mit uns am 7.12.2024 ab 16:30 Uhr im Kaminsaal des wannseeFORUMs (Hohenzollernstraße 14\, 14109 Berlin) einen gemütlichen Abend voller Musik\, Poesie\, netten Gesprächen und Spielen bei leckeren Snacks und Getränken zu verbringen🍿 \nDieses Jahr NEU: Um unserem diesjährigen Motto „Frost und Flamme“ gerecht zu werden\, wird es auch Programm draußen an der Feuerschale geben 🔥.\nAlso zieht euch was Warmes an!🧦🧣🧤 \nDu hast Lust zu kommen oder selber etwas an dem Abend zu performen (Poetryslam\, Klavier\, Gitarre\, Gesang\, Film\, Theater etc)?\nDann melde dich unbedingt unter dem folgenden Link an: \nhttps://forms.office.com/e/TWSbD3jUsn \nHabt ihr Fragen\, dann schreibt uns auf Instagram @jugendbeirat_wsf oder schreibt eine Mail an jugendbeirat@wannseeforum.de !\nWir freuen uns auf euch!\nBringt gerne Familie und Freund*innen mit 🙂 \nEuer jugendBEIRAT
URL:https://wannseekalender.de/event/winterlichr-kultureller-abend-des-jugendbeirat-der-stiftung-wannseeforum/
LOCATION:Stiftung wannseeFORUM\, Hohenzollernstr. 14\, Berlin\, Berlin\, 14109\, Germany
CATEGORIES:Community,Kunst & Kultur
ORGANIZER;CN="Stiftung wannseeFORUM":MAILTO:info@wannseeforum.de
END:VEVENT
BEGIN:VEVENT
DTSTART;TZID=Europe/Berlin:20241207T170000
DTEND;TZID=Europe/Berlin:20241207T180000
DTSTAMP:20260422T182253
CREATED:20241125T095303Z
LAST-MODIFIED:20241125T095303Z
UID:10000738-1733590800-1733594400@wannseekalender.de
SUMMARY:Lebendiger Adventskalender: Familie Peter/Schwalme
DESCRIPTION:Denkmal Haus Hönow: wohnen im Kubus. Weitere Informationen: https://wannseebote.ekbo.de/veranstaltungen
URL:https://wannseekalender.de/event/lebendiger-adventskalender-familie-peter-schwalme/
LOCATION:Otto-Erich-Str. 20\, Otto-Erich-Straße 20\, Berlin\, 14109\, Germany
ORGANIZER;CN="F%C3%B6rderverein Evangelische Kirche Wannsee":MAILTO:foerderverein@kirchengemeinde-wannsee.de
END:VEVENT
BEGIN:VEVENT
DTSTART;TZID=Europe/Berlin:20241207T170000
DTEND;TZID=Europe/Berlin:20241207T190000
DTSTAMP:20260422T182253
CREATED:20241125T094527Z
LAST-MODIFIED:20241206T230144Z
UID:10000655-1733590800-1733598000@wannseekalender.de
SUMMARY:Weihnachtskonzert “In Dulci Jubilo”
DESCRIPTION:Klassische und internationale Weihnachtslieder mit dem Claudius-Ensemble unter der Leitung von Doori Kim.
URL:https://wannseekalender.de/event/weihnachtskonzert-in-dulci-jubilo/
LOCATION:Andreaskirche\, Lindenstraße 2\, Berlin\, 14109\, Germany
CATEGORIES:Musik
ORGANIZER;CN="Singakademie Potsdam e.V.":MAILTO:info@singakademie-potsdam.de
END:VEVENT
BEGIN:VEVENT
DTSTART;TZID=Europe/Berlin:20241207T193000
DTEND;TZID=Europe/Berlin:20241207T203000
DTSTAMP:20260422T182253
CREATED:20241125T095254Z
LAST-MODIFIED:20241125T095254Z
UID:10000734-1733599800-1733603400@wannseekalender.de
SUMMARY:Kammermusik: Schubert\, Winterreise
DESCRIPTION:Cornelius Levenberg – GesangJustine Eckhaut – Klavier\nWeitere Informationen:\nWww.musikschule-Wannsee.de
URL:https://wannseekalender.de/event/kammermusik-schubert-winterreise/
LOCATION:Musikschule Wannsee\, Chausseestraße 3A\, Berlin\, 14109\, Germany
ORGANIZER;CN="Musikschule Wannsee":MAILTO:info@musikschule-wannsee.de
END:VEVENT
END:VCALENDAR