BEGIN:VCALENDAR
VERSION:2.0
PRODID:-//Wannsee Kalender - ECPv6.15.20//NONSGML v1.0//EN
CALSCALE:GREGORIAN
METHOD:PUBLISH
X-WR-CALNAME:Wannsee Kalender
X-ORIGINAL-URL:https://wannseekalender.de
X-WR-CALDESC:Veranstaltungen für Wannsee Kalender
REFRESH-INTERVAL;VALUE=DURATION:PT1H
X-Robots-Tag:noindex
X-PUBLISHED-TTL:PT1H
BEGIN:VTIMEZONE
TZID:Europe/Berlin
BEGIN:DAYLIGHT
TZOFFSETFROM:+0100
TZOFFSETTO:+0200
TZNAME:CEST
DTSTART:20230326T010000
END:DAYLIGHT
BEGIN:STANDARD
TZOFFSETFROM:+0200
TZOFFSETTO:+0100
TZNAME:CET
DTSTART:20231029T010000
END:STANDARD
BEGIN:DAYLIGHT
TZOFFSETFROM:+0100
TZOFFSETTO:+0200
TZNAME:CEST
DTSTART:20240331T010000
END:DAYLIGHT
BEGIN:STANDARD
TZOFFSETFROM:+0200
TZOFFSETTO:+0100
TZNAME:CET
DTSTART:20241027T010000
END:STANDARD
BEGIN:DAYLIGHT
TZOFFSETFROM:+0100
TZOFFSETTO:+0200
TZNAME:CEST
DTSTART:20250330T010000
END:DAYLIGHT
BEGIN:STANDARD
TZOFFSETFROM:+0200
TZOFFSETTO:+0100
TZNAME:CET
DTSTART:20251026T010000
END:STANDARD
BEGIN:DAYLIGHT
TZOFFSETFROM:+0100
TZOFFSETTO:+0200
TZNAME:CEST
DTSTART:20260329T010000
END:DAYLIGHT
BEGIN:STANDARD
TZOFFSETFROM:+0200
TZOFFSETTO:+0100
TZNAME:CET
DTSTART:20261025T010000
END:STANDARD
END:VTIMEZONE
BEGIN:VEVENT
DTSTART;VALUE=DATE:20241001
DTEND;VALUE=DATE:20250404
DTSTAMP:20260421T093116
CREATED:20241124T213327Z
LAST-MODIFIED:20241125T095103Z
UID:10000625-1727751600-1743649199@wannseekalender.de
SUMMARY:Kältehilfe Notübernachtung
DESCRIPTION:Seit 2015 bieten wir obdachlosen Menschen jeden Winter im Rahmen der Kältehilfe eine unbürokratische Übernachtungsmöglichkeit. \nAuch in der Kältehilfeperiode Oktober 2023 bis April 2024 betreiben wir erneut unsere Notübernachtung in der Bergstraße 4 in Steglitz-Zehlendorf mit 32 Übernachtungsplätzen für Männer und Frauen. \nWir bieten warme Mahlzeiten\, warme Duschen\, eine Kleiderkammer und nach Bedarf weiterführende Informationen und Beratung. \nAuch in dieser Wintersaison sind Tiere bei uns willkommen\, wenn die Halter*innen in der Einrichtung gut auf sie aufpassen!\nALLE ANGEBOTE DER BERLINER KÄLTEHILFE\nAdresse:\nBergstraße 4\n14109 Berlin\n Fon:\n+49 176 178 799 09\n E-Mail:\nkaeltehilfe@neuechance.berlin\n Öffnungszeiten:\n01. Oktober 2024 bis 30. April 2025\nab 19:00 Uhr\nAnsprechperson:\nJosephine Lysek\n Flyer:\nFlyer als PDF\n Angebot:\nNachtunterkunft im Rahmen von Zuwendungsförderung\nUnser Team aus einer Fachkraft der Sozialarbeit und ehrenamtlichen Nachtdiensten kümmert sich die ganze Woche um die Grundversorgung und Sicherheit der Gäste. Das Angebot wird wöchentlich durch eine mehrsprachige Sozialberatung unterstützt. So bekommen Hilfesuchende einen unkomplizierten Zugang zu den Sozialen Hilfen und können sich auf Wunsch auf dem Weg in das Regelhilfesystem unterstützen lassen.\nDie Platzvergabe erfolgt jeden Tag direkt vor Ort. Es werden keine Kostenübernahmen\, persönliche Angaben oder ähnliches benötigt. Voraussetzung für eine Übernachtung ist die Bereitschaft\, sich an die Hausordnung zu halten.\nIHR WEG ZU UNS\nAnreise\n S1\, S7 Wannsee (plus 20 Minuten Fußweg)\n Bus 114 Seglerweg\n Bus 118\, 218\, 316\, 318\, N16 Wernerstraße \nWeitere Informationen: https://www.neuechance.berlin/kaeltehilfe-notuebernachtung
URL:https://wannseekalender.de/event/kaeltehilfe-notuebernachtung/
LOCATION:Bergstraße 4\, Bergstraße 4\, Berlin\, 14109\, Germany
ORGANIZER;CN="K%C3%A4ltehilfe Not%C3%BCbernachtung":MAILTO:kaeltehilfe@neuechance.berlin
END:VEVENT
BEGIN:VEVENT
DTSTART;VALUE=DATE:20241130
DTEND;VALUE=DATE:20241202
DTSTAMP:20260421T093116
CREATED:20241126T082013Z
LAST-MODIFIED:20250820T193053Z
UID:10001315-1732924800-1733097599@wannseekalender.de
SUMMARY:Führung: Haus der Wannsee-Konferenz
DESCRIPTION:Immer samstags und sonntags\, immer kostenfrei: Führungen durch unsere Dauerausstellung um 14 Uhr\, 15 Uhr\, 16 Uhr. \nCa. 45 Minuten\, ohne Anmeldung\, herzlich willkommen. Treffpunkt: Rezeption.
URL:https://wannseekalender.de/event/fuehrung-haus-der-wannseekonferenz/2024-11-30/
LOCATION:Haus der Wannsee-Konferenz\, Am Großen Wannsee 56-58\, Berlin\, 14109\, Germany
CATEGORIES:Bildung,Führung,Kunst & Kultur,Wissen
ORGANIZER;CN="Gedenk- und Bildungsst%C3%A4tte Haus der Wannsee-Konferenz":MAILTO:info@ghwk.de
END:VEVENT
BEGIN:VEVENT
DTSTART;TZID=Europe/Berlin:20241130T100000
DTEND;TZID=Europe/Berlin:20241130T130000
DTSTAMP:20260421T093116
CREATED:20241125T095132Z
LAST-MODIFIED:20241125T095132Z
UID:10000700-1732960800-1732971600@wannseekalender.de
SUMMARY:Kinder.Musik.Theater
DESCRIPTION:Thema: Advent. Vorbereitung und Mitgestaltung der Adventswanderung.
URL:https://wannseekalender.de/event/kinder-musik-theater/
LOCATION:Evangelisches Gemeindehaus\, Schuchardtweg 5\, Berlin\, 14109\, Germany
ORGANIZER;CN="Diakonie Evangelische Kirchengemeinde Berlin-Wannsee":MAILTO:diakonin@kirchengemeinde-wannsee.de
END:VEVENT
BEGIN:VEVENT
DTSTART;TZID=Europe/Berlin:20241130T120000
DTEND;TZID=Europe/Berlin:20241130T130000
DTSTAMP:20260421T093116
CREATED:20241124T225854Z
LAST-MODIFIED:20250123T214927Z
UID:10002106-1732968000-1732971600@wannseekalender.de
SUMMARY:Führung: Liebermann-Villa
DESCRIPTION:Erfahren Sie mehr über Max Liebermann\, die Liebermann-Villa am Wannsee und die aktuellen Sonderausstellungen mit unseren öffentlichen Führungen.\nTickets gibt es online und vor Ort. \nZusätzlich wird eine Eintrittskarte benötigt. Bitte treffen Sie 15 Minuten vor Führungsbeginn im Shop ein.
URL:https://wannseekalender.de/event/fuehrung-liebermann-villa/2024-11-30/
LOCATION:Liebermann-Villa\, Colomierstraße 3\, Berlin\, 14109\, Germany
ORGANIZER;CN="Max-Liebermann-Gesellschaft Berlin e.V.":MAILTO:info@liebermann-villa.de
END:VEVENT
BEGIN:VEVENT
DTSTART;TZID=Europe/Berlin:20241130T160000
DTEND;TZID=Europe/Berlin:20241130T180000
DTSTAMP:20260421T093116
CREATED:20241125T095020Z
LAST-MODIFIED:20241125T095020Z
UID:10000663-1732982400-1732989600@wannseekalender.de
SUMMARY:Erika le Roux\, Klavier: "Klavierrezital zum 1. Advent"
DESCRIPTION:Werke von Mozart\, Chopin\, Alexander. Weitere Informationen unter: http://www.konzerte-schloss-glienicke.de
URL:https://wannseekalender.de/event/erika-le-roux-klavier-klavierrezital-zum-1-advent/
LOCATION:Baptistenkirche Wannsee (Kirche am Immanuel-Krankenhaus)\, Königstraße 66\, Berlin\, 14109\, Germany
END:VEVENT
BEGIN:VEVENT
DTSTART;TZID=Europe/Berlin:20241130T190000
DTEND;TZID=Europe/Berlin:20241130T230000
DTSTAMP:20260421T093116
CREATED:20241129T235457Z
LAST-MODIFIED:20241130T202608Z
UID:10007461-1732993200-1733007600@wannseekalender.de
SUMMARY:Vorweihnachtliches Musik Café
DESCRIPTION:Buffet\, Musik\, Tanz\, Unterhaltung in weihnachtlicher Stimmung auf Spendenbasis
URL:https://wannseekalender.de/event/vorweihnachtliches-musik-cafe-im-treffpunkt-im-besten-alter-wannsee/
LOCATION:Treffpunkt Im besten Alter\, Königstraße 25-27\, Berlin\, 14109\, Germany
CATEGORIES:Community
ATTACH;FMTTYPE=image/png:https://wannseekalender.de/wp-content/uploads/2024/11/Musik_Cafe_Weihnacht_November_2024-Antje-Noerenberg.png
ORGANIZER;CN="Treffpunkt Im besten Alter":MAILTO:treffpunkt.wannsee@gmx.de
END:VEVENT
END:VCALENDAR