BEGIN:VCALENDAR
VERSION:2.0
PRODID:-//Wannsee Kalender - ECPv6.15.20//NONSGML v1.0//EN
CALSCALE:GREGORIAN
METHOD:PUBLISH
X-WR-CALNAME:Wannsee Kalender
X-ORIGINAL-URL:https://wannseekalender.de
X-WR-CALDESC:Veranstaltungen für Wannsee Kalender
REFRESH-INTERVAL;VALUE=DURATION:PT1H
X-Robots-Tag:noindex
X-PUBLISHED-TTL:PT1H
BEGIN:VTIMEZONE
TZID:Europe/Berlin
BEGIN:DAYLIGHT
TZOFFSETFROM:+0100
TZOFFSETTO:+0200
TZNAME:CEST
DTSTART:20230326T010000
END:DAYLIGHT
BEGIN:STANDARD
TZOFFSETFROM:+0200
TZOFFSETTO:+0100
TZNAME:CET
DTSTART:20231029T010000
END:STANDARD
BEGIN:DAYLIGHT
TZOFFSETFROM:+0100
TZOFFSETTO:+0200
TZNAME:CEST
DTSTART:20240331T010000
END:DAYLIGHT
BEGIN:STANDARD
TZOFFSETFROM:+0200
TZOFFSETTO:+0100
TZNAME:CET
DTSTART:20241027T010000
END:STANDARD
BEGIN:DAYLIGHT
TZOFFSETFROM:+0100
TZOFFSETTO:+0200
TZNAME:CEST
DTSTART:20250330T010000
END:DAYLIGHT
BEGIN:STANDARD
TZOFFSETFROM:+0200
TZOFFSETTO:+0100
TZNAME:CET
DTSTART:20251026T010000
END:STANDARD
BEGIN:DAYLIGHT
TZOFFSETFROM:+0100
TZOFFSETTO:+0200
TZNAME:CEST
DTSTART:20260329T010000
END:DAYLIGHT
BEGIN:STANDARD
TZOFFSETFROM:+0200
TZOFFSETTO:+0100
TZNAME:CET
DTSTART:20261025T010000
END:STANDARD
END:VTIMEZONE
BEGIN:VEVENT
DTSTART;VALUE=DATE:20241001
DTEND;VALUE=DATE:20250404
DTSTAMP:20260422T093236
CREATED:20241124T213327Z
LAST-MODIFIED:20241125T095103Z
UID:10000625-1727751600-1743649199@wannseekalender.de
SUMMARY:Kältehilfe Notübernachtung
DESCRIPTION:Seit 2015 bieten wir obdachlosen Menschen jeden Winter im Rahmen der Kältehilfe eine unbürokratische Übernachtungsmöglichkeit. \nAuch in der Kältehilfeperiode Oktober 2023 bis April 2024 betreiben wir erneut unsere Notübernachtung in der Bergstraße 4 in Steglitz-Zehlendorf mit 32 Übernachtungsplätzen für Männer und Frauen. \nWir bieten warme Mahlzeiten\, warme Duschen\, eine Kleiderkammer und nach Bedarf weiterführende Informationen und Beratung. \nAuch in dieser Wintersaison sind Tiere bei uns willkommen\, wenn die Halter*innen in der Einrichtung gut auf sie aufpassen!\nALLE ANGEBOTE DER BERLINER KÄLTEHILFE\nAdresse:\nBergstraße 4\n14109 Berlin\n Fon:\n+49 176 178 799 09\n E-Mail:\nkaeltehilfe@neuechance.berlin\n Öffnungszeiten:\n01. Oktober 2024 bis 30. April 2025\nab 19:00 Uhr\nAnsprechperson:\nJosephine Lysek\n Flyer:\nFlyer als PDF\n Angebot:\nNachtunterkunft im Rahmen von Zuwendungsförderung\nUnser Team aus einer Fachkraft der Sozialarbeit und ehrenamtlichen Nachtdiensten kümmert sich die ganze Woche um die Grundversorgung und Sicherheit der Gäste. Das Angebot wird wöchentlich durch eine mehrsprachige Sozialberatung unterstützt. So bekommen Hilfesuchende einen unkomplizierten Zugang zu den Sozialen Hilfen und können sich auf Wunsch auf dem Weg in das Regelhilfesystem unterstützen lassen.\nDie Platzvergabe erfolgt jeden Tag direkt vor Ort. Es werden keine Kostenübernahmen\, persönliche Angaben oder ähnliches benötigt. Voraussetzung für eine Übernachtung ist die Bereitschaft\, sich an die Hausordnung zu halten.\nIHR WEG ZU UNS\nAnreise\n S1\, S7 Wannsee (plus 20 Minuten Fußweg)\n Bus 114 Seglerweg\n Bus 118\, 218\, 316\, 318\, N16 Wernerstraße \nWeitere Informationen: https://www.neuechance.berlin/kaeltehilfe-notuebernachtung
URL:https://wannseekalender.de/event/kaeltehilfe-notuebernachtung/
LOCATION:Bergstraße 4\, Bergstraße 4\, Berlin\, 14109\, Germany
ORGANIZER;CN="K%C3%A4ltehilfe Not%C3%BCbernachtung":MAILTO:kaeltehilfe@neuechance.berlin
END:VEVENT
BEGIN:VEVENT
DTSTART;TZID=Europe/Berlin:20241129T140000
DTEND;TZID=Europe/Berlin:20241129T170000
DTSTAMP:20260422T093236
CREATED:20241126T082012Z
LAST-MODIFIED:20250411T203610Z
UID:10004201-1732888800-1732899600@wannseekalender.de
SUMMARY:Fahrbibliothek Wilhelmplatz
DESCRIPTION:Weitere Informationen: https://www.berlin.de/stadtbibliothek-steglitz-zehlendorf/bibliotheken/fahrbibliothek/haltestellen/artikel.1224872.php
URL:https://wannseekalender.de/event/fahrbibliothek-2/2024-11-29/
LOCATION:Wilhelmplatz\, Wilhelmplatz\, Berlin\, Berlin\, 14109\, Germany
CATEGORIES:Community
ATTACH;FMTTYPE=image/png:https://wannseekalender.de/wp-content/uploads/2024/11/AB1811E7-B5F0-40B5-93FC-09C24660164F.png
ORGANIZER;CN="Fahrbibliothek":MAILTO:fahrbibliothek@ba-sz.berlin.de
END:VEVENT
BEGIN:VEVENT
DTSTART;TZID=Europe/Berlin:20241129T140000
DTEND;TZID=Europe/Berlin:20241129T170000
DTSTAMP:20260422T093236
CREATED:20241126T082027Z
LAST-MODIFIED:20250103T091314Z
UID:10004463-1732888800-1732899600@wannseekalender.de
SUMMARY:Handy & Computer/Laptop mit Tim
DESCRIPTION:Wöchentliche Beratung zur Nutzung von Handy & Computer. Weitere Informationen: https://www.treffpunkt-im-besten-alter.de/wannsee/
URL:https://wannseekalender.de/event/handy-computer-laptop-mit-tim/2024-11-29/
LOCATION:Treffpunkt Im besten Alter\, Königstraße 25-27\, Berlin\, 14109\, Germany
CATEGORIES:Community
ORGANIZER;CN="Treffpunkt Im besten Alter":MAILTO:treffpunkt.wannsee@gmx.de
END:VEVENT
BEGIN:VEVENT
DTSTART;TZID=Europe/Berlin:20241129T140000
DTEND;TZID=Europe/Berlin:20241129T180000
DTSTAMP:20260422T093236
CREATED:20241126T082010Z
LAST-MODIFIED:20250915T112753Z
UID:10004725-1732888800-1732903200@wannseekalender.de
SUMMARY:Dorfmarkt Wannsee
DESCRIPTION:Unser Wochenmarkt erwartet Sie jeden Freitag von 14.00-18.00 Uhr mit dem kombinierten Angebot von regional angebauten Lebensmitteln und Spezialitäten wie dem Potsdamer Traditionsmetzger mit dem hochwertigen Neuland-Fleisch\, vielfältige Kartoffelsorten aus unseren Landen\, knackiges Obst und Gemüse\, ein Käse- Eldorado\, frischen Fisch und Meeresfrüchte und Wildspezialitäten aus der Schorfheide zu bieten- also alles\, was das Herz begehrt.
URL:https://wannseekalender.de/event/dorfmarkt-wannsee/2024-11-29/
LOCATION:Wilhelmplatz\, Wilhelmplatz\, Berlin\, Berlin\, 14109\, Germany
CATEGORIES:Community,Märkte
ATTACH;FMTTYPE=image/jpeg:https://wannseekalender.de/wp-content/uploads/2024/11/WAN-2020-06-08-Atmo-Baum-gut-nf-an-ha.jpg
ORGANIZER;CN="diemarktplaner":MAILTO:info@diemarktplaner.de
END:VEVENT
BEGIN:VEVENT
DTSTART;TZID=Europe/Berlin:20241129T170000
DTEND;TZID=Europe/Berlin:20241129T180000
DTSTAMP:20260422T093236
CREATED:20241126T082029Z
LAST-MODIFIED:20250103T091836Z
UID:10004987-1732899600-1732903200@wannseekalender.de
SUMMARY:Linedance mit Ute
DESCRIPTION:Wöchentliches Linedance. Weitere Informationen: https://www.treffpunkt-im-besten-alter.de/wannsee/
URL:https://wannseekalender.de/event/linedance-mit-ute/2024-11-29/
LOCATION:Treffpunkt Im besten Alter\, Königstraße 25-27\, Berlin\, 14109\, Germany
CATEGORIES:Sport
ORGANIZER;CN="Treffpunkt Im besten Alter":MAILTO:treffpunkt.wannsee@gmx.de
END:VEVENT
BEGIN:VEVENT
DTSTART;TZID=Europe/Berlin:20241129T190000
DTEND;TZID=Europe/Berlin:20241129T213000
DTSTAMP:20260422T093236
CREATED:20241125T095154Z
LAST-MODIFIED:20241126T172954Z
UID:10000710-1732906800-1732915800@wannseekalender.de
SUMMARY:Rum trifft Schokolade
DESCRIPTION:Weitere Informationen: https://www.happyhourcollections.de/HOUR/TASTINGS-EVENTS/
URL:https://wannseekalender.de/event/rum-trifft-schokolade/
LOCATION:HAPPY HOUR COLLECTIONS\, Königstraße 61\, Berlin\, 14109\, Germany
END:VEVENT
BEGIN:VEVENT
DTSTART;TZID=Europe/Berlin:20241129T190000
DTEND;TZID=Europe/Berlin:20241129T213000
DTSTAMP:20260422T093236
CREATED:20241125T095253Z
LAST-MODIFIED:20241125T095253Z
UID:10000732-1732906800-1732915800@wannseekalender.de
SUMMARY:Hafenrevue N° 7 - Die Berliner Literaturszene zu Gast am Wannsee
DESCRIPTION:Feier der Berliner Literaturszene mit 21 Literaturveranstaltern. Weitere Details: https://lcb.de/category/veranstaltungen/
URL:https://wannseekalender.de/event/hafenrevue-n-7-die-berliner-literaturszene-zu-gast-am-wannsee/
LOCATION:Literarisches Colloquium Berlin (LCB)\, Am Sandwerder 5\, Berlin\, 14109\, Germany
ORGANIZER;CN="Literarisches Colloquium Berlin e. V.":MAILTO:mail@lcb.de
END:VEVENT
END:VCALENDAR