BEGIN:VCALENDAR
VERSION:2.0
PRODID:-//Wannsee Kalender - ECPv6.15.20//NONSGML v1.0//EN
CALSCALE:GREGORIAN
METHOD:PUBLISH
X-WR-CALNAME:Wannsee Kalender
X-ORIGINAL-URL:https://wannseekalender.de
X-WR-CALDESC:Veranstaltungen für Wannsee Kalender
REFRESH-INTERVAL;VALUE=DURATION:PT1H
X-Robots-Tag:noindex
X-PUBLISHED-TTL:PT1H
BEGIN:VTIMEZONE
TZID:Europe/Berlin
BEGIN:DAYLIGHT
TZOFFSETFROM:+0100
TZOFFSETTO:+0200
TZNAME:CEST
DTSTART:20230326T010000
END:DAYLIGHT
BEGIN:STANDARD
TZOFFSETFROM:+0200
TZOFFSETTO:+0100
TZNAME:CET
DTSTART:20231029T010000
END:STANDARD
BEGIN:DAYLIGHT
TZOFFSETFROM:+0100
TZOFFSETTO:+0200
TZNAME:CEST
DTSTART:20240331T010000
END:DAYLIGHT
BEGIN:STANDARD
TZOFFSETFROM:+0200
TZOFFSETTO:+0100
TZNAME:CET
DTSTART:20241027T010000
END:STANDARD
BEGIN:DAYLIGHT
TZOFFSETFROM:+0100
TZOFFSETTO:+0200
TZNAME:CEST
DTSTART:20250330T010000
END:DAYLIGHT
BEGIN:STANDARD
TZOFFSETFROM:+0200
TZOFFSETTO:+0100
TZNAME:CET
DTSTART:20251026T010000
END:STANDARD
END:VTIMEZONE
BEGIN:VEVENT
DTSTART;VALUE=DATE:20241205
DTEND;VALUE=DATE:20241209
DTSTAMP:20260422T124810
CREATED:20241206T234743Z
LAST-MODIFIED:20241230T141053Z
UID:10008033-1733356800-1733702399@wannseekalender.de
SUMMARY:Weihnachtsmarkt Loretta
DESCRIPTION:Winterzauber im Loretta am Wannsee. Wir haben den Biergarten als Weihnachtsmarkt umgestaltet mit gemütlichen Zelten die zum verweilen einladen. Natürlich gibt es Glühwein\, herzhafte und süße Snacks\, eine große rutsche und sogar eine Schlittschuhbahn. \nDer Weihnachtsmarkt hat jeden Do-Fr von 14-21 Uhr und Sa-So von 12-21 Uhr auf.
URL:https://wannseekalender.de/event/weihnachtsmarkt-2/2024-12-05/
LOCATION:Loretta am Wannsee\, Kronprinzessinnenweg 253-260\, Berlin\, 14109\, Germany
CATEGORIES:Community,Märkte
ORGANIZER;CN="Loretta am Wannsee":MAILTO:info@loretta-wannsee.berlin
END:VEVENT
BEGIN:VEVENT
DTSTART;TZID=Europe/Berlin:20241205T100000
DTEND;TZID=Europe/Berlin:20241205T113000
DTSTAMP:20260422T124810
CREATED:20241126T082028Z
LAST-MODIFIED:20250517T081047Z
UID:10006033-1733392800-1733398200@wannseekalender.de
SUMMARY:Krabbel- & Spielgruppe von Baby bis Kleinkind
DESCRIPTION:Treffpunkt für Eltern und Babys/Kleinkinder bis ca. 2 Jahre. Freies Spielen\, soziales Miteinander und Austausch. Beitrag pro Treffen: 3 € für Nicht-Mitglieder\, 2 € für Vereinsmitglieder. Kontakt: Dominique Klawonn\, 017645845026\, kinderspielkreise@kirchengemeinde-wannsee.de
URL:https://wannseekalender.de/event/krabbel-spielgruppe-von-baby-bis-kleinkind/2024-12-05/
LOCATION:Evangelisches Gemeindehaus\, Schuchardtweg 5\, Berlin\, 14109\, Germany
CATEGORIES:Community
ORGANIZER;CN="Kinderspielkreise in der Evangelischen Kirchengemeinde Wannsee e.V.":MAILTO:kinderspielkreise@kirchengemeinde-wannsee.de
END:VEVENT
BEGIN:VEVENT
DTSTART;TZID=Europe/Berlin:20241205T110000
DTEND;TZID=Europe/Berlin:20241205T140000
DTSTAMP:20260422T124810
CREATED:20241125T095322Z
LAST-MODIFIED:20241126T231749Z
UID:10000747-1733396400-1733407200@wannseekalender.de
SUMMARY:Spaziergang zur Barberini Potsdam: “Maurice de Vlaminck - Rebell der Moderne”
DESCRIPTION:Weitere Infos bei Diakonin Indra Wiesinger: diakonin@kirchengemeinde-wannsee.de
URL:https://wannseekalender.de/event/spaziergang-zur-barberini-potsdam-maurice-de-vlaminck-rebell-der-moderne/
LOCATION:Rathaus Wannsee (Bushaltestelle Waldseite)\, Königstraße 42\, Berlin\, 14109\, Germany
ORGANIZER;CN="Diakonie Evangelische Kirchengemeinde Berlin-Wannsee":MAILTO:diakonin@kirchengemeinde-wannsee.de
END:VEVENT
BEGIN:VEVENT
DTSTART;TZID=Europe/Berlin:20241205T170000
DTEND;TZID=Europe/Berlin:20241205T173000
DTSTAMP:20260422T124810
CREATED:20241125T095112Z
LAST-MODIFIED:20241210T184817Z
UID:10000690-1733418000-1733419800@wannseekalender.de
SUMMARY:Lebendiger Adventskalender: Drehbühne Berlin - FÜR KINDER
DESCRIPTION:Heute Nachmittag um 17h liest die Drehbühne Berlin aus dem Erstlingswerk der Autorin Anna Brautmann “Kommissarin Lolo und die Abenteuer von Stolpe” illustriert von Maya Manor. Kommt vorbei und genießt dieses besondere Adventskalendertürchen in der Scheune. \n„Hauptkommissarin Lolo\, Polizeizentrale der Kuscheltiere\, Abschnitt Stolpe\, wie kann ich helfen?”\, brüllt die Affenkommissarin in den Hörer\, wenn das rote Telefon Sturm klingelt. Egal ob Tag oder Nacht\, Lolo ist immer für jedes Anliegen der Kuscheltiere und Spielzeuge bereit. Unter dem Spielzeugladen „Minipünktchen” befindet sich die versteckte Polizeizentrale\, und die erwachsenen Menschen wissen gar nichts davon.\nOb es um ein altes\, verstaubtes Kuscheltier geht\, das unter einem Balken gefunden wurde und einen Drachen anzeigen will\, oder um die schrecklichen Geräusche aus der Friedhofskapelle\, die den Bewohnern Angst und Schrecken einjagen – Lolo bleibt immer kühn und cool und kann in ihrem Affenhirn die kniffligsten Fälle lösen. Aber sie ist eben auch ein Kuscheltier und versteht die Sorgen und Ängste der Menschenkinder wie keine andere.\n„In den Geschichten der Menschen”\, bringt ihr die weise Eule aus dem Buchladen bei\, „geht es nie nur um Böses. Da\, wo es besonders dunkel ist\, geht es immer auch um Freundschaft.”\nGemeinsam mit Kommissar Plastikfuß\, ihrem roten Spielzeugmotorrad Harly und ihrem besten Freund Hörni wird die Welt der Kinder und Kuscheltiere\, die manchmal auch in einem kleinen Dorf aus den Fugen gerät\, von Lolo wieder in Ordnung gebracht oder zumindest mit ihrer superguten Taschenlampe beleuchtet.\nJedes der Kapitel behandelt einen kniffligen Fall\, in dem Spielzeuge und Menschenkinder sich in einer Welt bewegen\, zu der Erwachsene den Zutritt nicht mehr haben. Außer dem alten Friedhofsgärtner – kann er die Sprache der Spielzeuge noch hören?
URL:https://wannseekalender.de/event/lebendiger-adventskalender-drehbuehne-berlin/
LOCATION:Galerie Mutter Fourage & Kulturscheune\, Chausseestraße 15A\, Berlin\, 14109\, Germany
CATEGORIES:Familie,Kinder,Kunst & Kultur,Lesung,Theater
END:VEVENT
BEGIN:VEVENT
DTSTART;TZID=Europe/Berlin:20241205T193000
DTEND;TZID=Europe/Berlin:20241205T203000
DTSTAMP:20260422T124810
CREATED:20241125T094521Z
LAST-MODIFIED:20241125T094521Z
UID:10000648-1733427000-1733430600@wannseekalender.de
SUMMARY:Quo vadis Wannsee-Runde
DESCRIPTION:Zukünftige Ausrichtung der evangelischen Kirchengemeinde Wannsee
URL:https://wannseekalender.de/event/quo-vadis-wannsee-runde/
LOCATION:Altes Schulhaus\, Wilhelmplatz 1\, Berlin\, 14109\, Germany
ORGANIZER;CN="Diakonie Evangelische Kirchengemeinde Berlin-Wannsee":MAILTO:diakonin@kirchengemeinde-wannsee.de
END:VEVENT
BEGIN:VEVENT
DTSTART;TZID=Europe/Berlin:20241206T140000
DTEND;TZID=Europe/Berlin:20241206T170000
DTSTAMP:20260422T124810
CREATED:20241126T082012Z
LAST-MODIFIED:20250411T203610Z
UID:10004202-1733493600-1733504400@wannseekalender.de
SUMMARY:Fahrbibliothek Wilhelmplatz
DESCRIPTION:Weitere Informationen: https://www.berlin.de/stadtbibliothek-steglitz-zehlendorf/bibliotheken/fahrbibliothek/haltestellen/artikel.1224872.php
URL:https://wannseekalender.de/event/fahrbibliothek-2/2024-12-06/
LOCATION:Wilhelmplatz\, Wilhelmplatz\, Berlin\, Berlin\, 14109\, Germany
CATEGORIES:Community
ATTACH;FMTTYPE=image/png:https://wannseekalender.de/wp-content/uploads/2024/11/AB1811E7-B5F0-40B5-93FC-09C24660164F.png
ORGANIZER;CN="Fahrbibliothek":MAILTO:fahrbibliothek@ba-sz.berlin.de
END:VEVENT
BEGIN:VEVENT
DTSTART;TZID=Europe/Berlin:20241206T140000
DTEND;TZID=Europe/Berlin:20241206T170000
DTSTAMP:20260422T124810
CREATED:20241126T082027Z
LAST-MODIFIED:20250103T091314Z
UID:10004464-1733493600-1733504400@wannseekalender.de
SUMMARY:Handy & Computer/Laptop mit Tim
DESCRIPTION:Wöchentliche Beratung zur Nutzung von Handy & Computer. Weitere Informationen: https://www.treffpunkt-im-besten-alter.de/wannsee/
URL:https://wannseekalender.de/event/handy-computer-laptop-mit-tim/2024-12-06/
LOCATION:Treffpunkt Im besten Alter\, Königstraße 25-27\, Berlin\, 14109\, Germany
CATEGORIES:Community
ORGANIZER;CN="Treffpunkt Im besten Alter":MAILTO:treffpunkt.wannsee@gmx.de
END:VEVENT
BEGIN:VEVENT
DTSTART;TZID=Europe/Berlin:20241206T140000
DTEND;TZID=Europe/Berlin:20241206T180000
DTSTAMP:20260422T124810
CREATED:20241126T082010Z
LAST-MODIFIED:20250915T112753Z
UID:10004726-1733493600-1733508000@wannseekalender.de
SUMMARY:Dorfmarkt Wannsee
DESCRIPTION:Unser Wochenmarkt erwartet Sie jeden Freitag von 14.00-18.00 Uhr mit dem kombinierten Angebot von regional angebauten Lebensmitteln und Spezialitäten wie dem Potsdamer Traditionsmetzger mit dem hochwertigen Neuland-Fleisch\, vielfältige Kartoffelsorten aus unseren Landen\, knackiges Obst und Gemüse\, ein Käse- Eldorado\, frischen Fisch und Meeresfrüchte und Wildspezialitäten aus der Schorfheide zu bieten- also alles\, was das Herz begehrt.
URL:https://wannseekalender.de/event/dorfmarkt-wannsee/2024-12-06/
LOCATION:Wilhelmplatz\, Wilhelmplatz\, Berlin\, Berlin\, 14109\, Germany
CATEGORIES:Community,Märkte
ATTACH;FMTTYPE=image/jpeg:https://wannseekalender.de/wp-content/uploads/2024/11/WAN-2020-06-08-Atmo-Baum-gut-nf-an-ha.jpg
ORGANIZER;CN="diemarktplaner":MAILTO:info@diemarktplaner.de
END:VEVENT
BEGIN:VEVENT
DTSTART;TZID=Europe/Berlin:20241206T160000
DTEND;TZID=Europe/Berlin:20241206T180000
DTSTAMP:20260422T124810
CREATED:20241125T095333Z
LAST-MODIFIED:20241125T095333Z
UID:10000754-1733500800-1733508000@wannseekalender.de
SUMMARY:Familien-Adventswanderung nach Nikolskoe
DESCRIPTION:Adventswanderung nach Nikolskoe mit Andacht und Picknick.
URL:https://wannseekalender.de/event/familien-adventswanderung-nach-nikolskoe/
LOCATION:Treffpunkt: Parkplatz Moorlake\, Moorlake\, Berlin\, 14109\, Germany
ORGANIZER;CN="Diakonie Evangelische Kirchengemeinde Berlin-Wannsee":MAILTO:diakonin@kirchengemeinde-wannsee.de
END:VEVENT
BEGIN:VEVENT
DTSTART;TZID=Europe/Berlin:20241206T170000
DTEND;TZID=Europe/Berlin:20241206T180000
DTSTAMP:20260422T124810
CREATED:20241125T095113Z
LAST-MODIFIED:20241204T094125Z
UID:10000693-1733504400-1733508000@wannseekalender.de
SUMMARY:Lebendiger Adventskalender: Buch in Wannsee - FÜR KINDER
DESCRIPTION:Nikolausgeschichten und -lieder für Kinder. Weitere Informationen: https://wannseebote.ekbo.de/veranstaltungen
URL:https://wannseekalender.de/event/lebendiger-adventskalender-buch-in-wannsee/
LOCATION:Buch in Wannsee\, Chausseestr. 3A\, Berlin\, 14109\, Germany
ORGANIZER;CN="F%C3%B6rderverein Evangelische Kirche Wannsee":MAILTO:foerderverein@kirchengemeinde-wannsee.de
END:VEVENT
BEGIN:VEVENT
DTSTART;TZID=Europe/Berlin:20241206T170000
DTEND;TZID=Europe/Berlin:20241206T180000
DTSTAMP:20260422T124810
CREATED:20241126T082029Z
LAST-MODIFIED:20250103T091836Z
UID:10004988-1733504400-1733508000@wannseekalender.de
SUMMARY:Linedance mit Ute
DESCRIPTION:Wöchentliches Linedance. Weitere Informationen: https://www.treffpunkt-im-besten-alter.de/wannsee/
URL:https://wannseekalender.de/event/linedance-mit-ute/2024-12-06/
LOCATION:Treffpunkt Im besten Alter\, Königstraße 25-27\, Berlin\, 14109\, Germany
CATEGORIES:Sport
ORGANIZER;CN="Treffpunkt Im besten Alter":MAILTO:treffpunkt.wannsee@gmx.de
END:VEVENT
BEGIN:VEVENT
DTSTART;TZID=Europe/Berlin:20241206T170000
DTEND;TZID=Europe/Berlin:20241206T180000
DTSTAMP:20260422T124810
CREATED:20241126T082042Z
LAST-MODIFIED:20241208T131229Z
UID:10000774-1733504400-1733508000@wannseekalender.de
SUMMARY:Offenes Singen
DESCRIPTION:
URL:https://wannseekalender.de/event/offenes-singen/2024-12-06/
LOCATION:Kirche am Stölpchensee\, Wilhelmplatz\, Berlin\, 14109\, Germany
CATEGORIES:Community
ORGANIZER;CN="K%C3%BCsterei Evangelische Kirchengemeinde Wannsee":MAILTO:kuesterei@kirchengemeinde-wannsee.de
END:VEVENT
BEGIN:VEVENT
DTSTART;VALUE=DATE:20241207
DTEND;VALUE=DATE:20241209
DTSTAMP:20260422T124810
CREATED:20241126T082013Z
LAST-MODIFIED:20250820T193053Z
UID:10001316-1733529600-1733702399@wannseekalender.de
SUMMARY:Führung: Haus der Wannsee-Konferenz
DESCRIPTION:Immer samstags und sonntags\, immer kostenfrei: Führungen durch unsere Dauerausstellung um 14 Uhr\, 15 Uhr\, 16 Uhr. \nCa. 45 Minuten\, ohne Anmeldung\, herzlich willkommen. Treffpunkt: Rezeption.
URL:https://wannseekalender.de/event/fuehrung-haus-der-wannseekonferenz/2024-12-07/
LOCATION:Haus der Wannsee-Konferenz\, Am Großen Wannsee 56-58\, Berlin\, 14109\, Germany
CATEGORIES:Bildung,Führung,Kunst & Kultur,Wissen
ORGANIZER;CN="Gedenk- und Bildungsst%C3%A4tte Haus der Wannsee-Konferenz":MAILTO:info@ghwk.de
END:VEVENT
BEGIN:VEVENT
DTSTART;TZID=Europe/Berlin:20241207T120000
DTEND;TZID=Europe/Berlin:20241207T130000
DTSTAMP:20260422T124810
CREATED:20241124T225854Z
LAST-MODIFIED:20250123T214927Z
UID:10002108-1733572800-1733576400@wannseekalender.de
SUMMARY:Führung: Liebermann-Villa
DESCRIPTION:Erfahren Sie mehr über Max Liebermann\, die Liebermann-Villa am Wannsee und die aktuellen Sonderausstellungen mit unseren öffentlichen Führungen.\nTickets gibt es online und vor Ort. \nZusätzlich wird eine Eintrittskarte benötigt. Bitte treffen Sie 15 Minuten vor Führungsbeginn im Shop ein.
URL:https://wannseekalender.de/event/fuehrung-liebermann-villa/2024-12-07/
LOCATION:Liebermann-Villa\, Colomierstraße 3\, Berlin\, 14109\, Germany
ORGANIZER;CN="Max-Liebermann-Gesellschaft Berlin e.V.":MAILTO:info@liebermann-villa.de
END:VEVENT
BEGIN:VEVENT
DTSTART;TZID=Europe/Berlin:20241207T151500
DTEND;TZID=Europe/Berlin:20241207T170000
DTSTAMP:20260422T124810
CREATED:20241207T074628Z
LAST-MODIFIED:20241207T074628Z
UID:10008466-1733584500-1733590800@wannseekalender.de
SUMMARY:Fußball: FV Wannsee : SV Johannisthal II
DESCRIPTION:
URL:https://wannseekalender.de/event/fussball-fv-wannsee-sv-johannisthal-ii/
LOCATION:Stadion Wannsee\, Alsenstraße 14\, Berlin\, 14109\, Germany
CATEGORIES:Sport
ORGANIZER;CN="FV Wannsee - Fussball-Vereinigung Wannsee e.V.":MAILTO:geschaeftsstelle@fvwannsee.de
END:VEVENT
BEGIN:VEVENT
DTSTART;TZID=Europe/Berlin:20241207T160000
DTEND;TZID=Europe/Berlin:20241207T180000
DTSTAMP:20260422T124810
CREATED:20241125T095021Z
LAST-MODIFIED:20241125T095021Z
UID:10000665-1733587200-1733594400@wannseekalender.de
SUMMARY:Marianne Boettcher Violine und Ursula Trede-Boettcher Klavier
DESCRIPTION:„Weihnachtliche Klänge zur Adventszeit“. Weitere Informationen unter: http://www.konzerte-schloss-glienicke.de
URL:https://wannseekalender.de/event/marianne-boettcher-violine-und-ursula-trede-boettcher-klavier/
LOCATION:Baptistenkirche Wannsee (Kirche am Immanuel-Krankenhaus)\, Königstraße 66\, Berlin\, 14109\, Germany
END:VEVENT
BEGIN:VEVENT
DTSTART;TZID=Europe/Berlin:20241207T163000
DTEND;TZID=Europe/Berlin:20241207T210000
DTSTAMP:20260422T124810
CREATED:20241201T075735Z
LAST-MODIFIED:20241201T075735Z
UID:10007470-1733589000-1733605200@wannseekalender.de
SUMMARY:winterlichr kultureller Abend des jugendBEIRAT der Stiftung wannseeFORUM
DESCRIPTION:Es ist wieder soweit: die gemütliche Zeit des Jahres steht vor der Tür und die feiern wir mit unserem winterlichen kulturellen Abend vom jugendBEIRAT der Stiftung wannseeFORUM. Der wird wie jedes Jahr eigenständig von jungen Menschen organisiert und moderiert.❄️\nWir laden euch herzlich ein mit uns am 7.12.2024 ab 16:30 Uhr im Kaminsaal des wannseeFORUMs (Hohenzollernstraße 14\, 14109 Berlin) einen gemütlichen Abend voller Musik\, Poesie\, netten Gesprächen und Spielen bei leckeren Snacks und Getränken zu verbringen🍿 \nDieses Jahr NEU: Um unserem diesjährigen Motto „Frost und Flamme“ gerecht zu werden\, wird es auch Programm draußen an der Feuerschale geben 🔥.\nAlso zieht euch was Warmes an!🧦🧣🧤 \nDu hast Lust zu kommen oder selber etwas an dem Abend zu performen (Poetryslam\, Klavier\, Gitarre\, Gesang\, Film\, Theater etc)?\nDann melde dich unbedingt unter dem folgenden Link an: \nhttps://forms.office.com/e/TWSbD3jUsn \nHabt ihr Fragen\, dann schreibt uns auf Instagram @jugendbeirat_wsf oder schreibt eine Mail an jugendbeirat@wannseeforum.de !\nWir freuen uns auf euch!\nBringt gerne Familie und Freund*innen mit 🙂 \nEuer jugendBEIRAT
URL:https://wannseekalender.de/event/winterlichr-kultureller-abend-des-jugendbeirat-der-stiftung-wannseeforum/
LOCATION:Stiftung wannseeFORUM\, Hohenzollernstr. 14\, Berlin\, Berlin\, 14109\, Germany
CATEGORIES:Community,Kunst & Kultur
ORGANIZER;CN="Stiftung wannseeFORUM":MAILTO:info@wannseeforum.de
END:VEVENT
BEGIN:VEVENT
DTSTART;TZID=Europe/Berlin:20241207T170000
DTEND;TZID=Europe/Berlin:20241207T180000
DTSTAMP:20260422T124810
CREATED:20241125T095303Z
LAST-MODIFIED:20241125T095303Z
UID:10000738-1733590800-1733594400@wannseekalender.de
SUMMARY:Lebendiger Adventskalender: Familie Peter/Schwalme
DESCRIPTION:Denkmal Haus Hönow: wohnen im Kubus. Weitere Informationen: https://wannseebote.ekbo.de/veranstaltungen
URL:https://wannseekalender.de/event/lebendiger-adventskalender-familie-peter-schwalme/
LOCATION:Otto-Erich-Str. 20\, Otto-Erich-Straße 20\, Berlin\, 14109\, Germany
ORGANIZER;CN="F%C3%B6rderverein Evangelische Kirche Wannsee":MAILTO:foerderverein@kirchengemeinde-wannsee.de
END:VEVENT
BEGIN:VEVENT
DTSTART;TZID=Europe/Berlin:20241207T170000
DTEND;TZID=Europe/Berlin:20241207T190000
DTSTAMP:20260422T124810
CREATED:20241125T094527Z
LAST-MODIFIED:20241206T230144Z
UID:10000655-1733590800-1733598000@wannseekalender.de
SUMMARY:Weihnachtskonzert “In Dulci Jubilo”
DESCRIPTION:Klassische und internationale Weihnachtslieder mit dem Claudius-Ensemble unter der Leitung von Doori Kim.
URL:https://wannseekalender.de/event/weihnachtskonzert-in-dulci-jubilo/
LOCATION:Andreaskirche\, Lindenstraße 2\, Berlin\, 14109\, Germany
CATEGORIES:Musik
ORGANIZER;CN="Singakademie Potsdam e.V.":MAILTO:info@singakademie-potsdam.de
END:VEVENT
BEGIN:VEVENT
DTSTART;TZID=Europe/Berlin:20241207T193000
DTEND;TZID=Europe/Berlin:20241207T203000
DTSTAMP:20260422T124810
CREATED:20241125T095254Z
LAST-MODIFIED:20241125T095254Z
UID:10000734-1733599800-1733603400@wannseekalender.de
SUMMARY:Kammermusik: Schubert\, Winterreise
DESCRIPTION:Cornelius Levenberg – GesangJustine Eckhaut – Klavier\nWeitere Informationen:\nWww.musikschule-Wannsee.de
URL:https://wannseekalender.de/event/kammermusik-schubert-winterreise/
LOCATION:Musikschule Wannsee\, Chausseestraße 3A\, Berlin\, 14109\, Germany
ORGANIZER;CN="Musikschule Wannsee":MAILTO:info@musikschule-wannsee.de
END:VEVENT
BEGIN:VEVENT
DTSTART;TZID=Europe/Berlin:20241208T093000
DTEND;TZID=Europe/Berlin:20241208T103000
DTSTAMP:20260422T124810
CREATED:20241126T082028Z
LAST-MODIFIED:20241208T123054Z
UID:10001579-1733650200-1733653800@wannseekalender.de
SUMMARY:Heilige Messe
DESCRIPTION:Weitere Informationen: https://johannesboscoberlin.de/gottesdienste/?cn-reloaded=1
URL:https://wannseekalender.de/event/heilige-messe/2024-12-08/
LOCATION:Kirche St. Michael\, Königstraße 43\, Berlin\, 14109\, Germany
CATEGORIES:Gottesdienst
ORGANIZER;CN="Katholische Pfarrei Johannes Bosco %E2%80%93 Berliner S%C3%BCdwesten":MAILTO:pfarrbuero@johannesboscoberlin.de
END:VEVENT
BEGIN:VEVENT
DTSTART;TZID=Europe/Berlin:20241208T100000
DTEND;TZID=Europe/Berlin:20241208T110000
DTSTAMP:20260422T124810
CREATED:20241126T082027Z
LAST-MODIFIED:20241130T202730Z
UID:10001842-1733652000-1733655600@wannseekalender.de
SUMMARY:Gottesdienst
DESCRIPTION:Gottesdienst um 10 Uhr – live vor Ort und auch per Zoom. \nWir feiern in Wannsee die Gottesdienste\, jeden Sonntag um 10 Uhr „hybrid“. D.h. man kann sowohl vor Ort als auch online per Zoom am Gottesdienst teilnehmen. \nEinfach Zoom öffnen\, die Meeting-ID eingeben und per Passwort beitreten.\nMeeting-ID: 890 8569 7929\nPasswort: sonntag \nOder hier per Link zum Gottesdienst am Sonntag. \nhttps://us02web.zoom.us/j/89085697929?pwd=amdrdEVJTEUxN3VYT25JT2QzQU5aUT09 \nWeitere Informationen: https://baptisten-wannsee.de/herzliche-einladung-zu-unseren-gottesdiensten-per-zoom/
URL:https://wannseekalender.de/event/gottesdienst-8/2024-12-08/
LOCATION:Baptistenkirche Wannsee (Kirche am Immanuel-Krankenhaus)\, Königstraße 66\, Berlin\, 14109\, Germany
CATEGORIES:Gottesdienst
ORGANIZER;CN="Baptisten Wannsee":MAILTO:info@baptisten-wannsee.de
END:VEVENT
BEGIN:VEVENT
DTSTART;TZID=Europe/Berlin:20241208T120000
DTEND;TZID=Europe/Berlin:20241208T130000
DTSTAMP:20260422T124810
CREATED:20241124T225854Z
LAST-MODIFIED:20250123T214927Z
UID:10002109-1733659200-1733662800@wannseekalender.de
SUMMARY:Führung: Liebermann-Villa
DESCRIPTION:Erfahren Sie mehr über Max Liebermann\, die Liebermann-Villa am Wannsee und die aktuellen Sonderausstellungen mit unseren öffentlichen Führungen.\nTickets gibt es online und vor Ort. \nZusätzlich wird eine Eintrittskarte benötigt. Bitte treffen Sie 15 Minuten vor Führungsbeginn im Shop ein.
URL:https://wannseekalender.de/event/fuehrung-liebermann-villa/2024-12-08/
LOCATION:Liebermann-Villa\, Colomierstraße 3\, Berlin\, 14109\, Germany
ORGANIZER;CN="Max-Liebermann-Gesellschaft Berlin e.V.":MAILTO:info@liebermann-villa.de
END:VEVENT
BEGIN:VEVENT
DTSTART;TZID=Europe/Berlin:20241208T150000
DTEND;TZID=Europe/Berlin:20241208T170000
DTSTAMP:20260422T124810
CREATED:20241125T095332Z
LAST-MODIFIED:20241205T150140Z
UID:10000752-1733670000-1733677200@wannseekalender.de
SUMMARY:Lebendiger Adventskalender: Fußballverein Wannsee - FÜR KINDER
DESCRIPTION:Adventssingen im Stadion 8.12.2024\nProgrammablauf\n15:30 Uhr | Einlass mit Bratwürstchen\, Glühwein und Kinderpunsch mit Weihnachtsjazz von Martin Wilkens am Klavier \n16:00 Uhr geht es los! \nDanach freuen wir uns auf gemeinsames Singen mit der musikalischen Unterstützung von dem Chor des BAM Berlin unter der Leitung von Hr. Ernst\, eine Weihnachtsgeschichte gelesen von Michaela Wiebusch und einem Grußwort von Pfarrerin Sapna Joshi. \nDie gesammelten Spenden und Einnahmen gehen zugunsten der Jugendarbeit der drei Vereine – TuS Wannsee 1896 e.V.\, FV Wannsee e.V. und dem Förderverein der Ev. Kirchengemeinde Berlin-Wannsee. \nDarunter auch die Erlöse von einer Weihnachtsbaum Versteigerung\, gespendet von Stephan Eichhorst. \nWir freuen uns auf euch!
URL:https://wannseekalender.de/event/lebendiger-adventskalender-fussballverein-wannsee/
LOCATION:Stadion Wannsee\, Alsenstraße 14\, Berlin\, 14109\, Germany
ORGANIZER;CN="F%C3%B6rderverein Evangelische Kirche Wannsee":MAILTO:foerderverein@kirchengemeinde-wannsee.de
END:VEVENT
BEGIN:VEVENT
DTSTART;TZID=Europe/Berlin:20241208T160000
DTEND;TZID=Europe/Berlin:20241208T180000
DTSTAMP:20260422T124810
CREATED:20241208T122747Z
LAST-MODIFIED:20241208T122747Z
UID:10000666-1733673600-1733680800@wannseekalender.de
SUMMARY:Marianne Boettcher Violine und Ursula Trede-Boettcher Klavier
DESCRIPTION:“Weihnachtliche Klänge zur Adventszeit”. Weitere Informationen unter: http://www.konzerte-schloss-glienicke.de
URL:https://wannseekalender.de/event/marianne-boettcher-violine-und-ursula-trede-boettcher-klavier-2/
LOCATION:Baptistenkirche Wannsee (Kirche am Immanuel-Krankenhaus)\, Königstraße 66\, Berlin\, 14109\, Germany
ORGANIZER;CN="Verein zur F%C3%B6rderung von Konzertreihen im Schloss Glienicke e.V.":MAILTO:info@konzerte-schloss-glienicke.de
END:VEVENT
BEGIN:VEVENT
DTSTART;TZID=Europe/Berlin:20241208T160000
DTEND;TZID=Europe/Berlin:20241208T200000
DTSTAMP:20260422T124810
CREATED:20241204T141952Z
LAST-MODIFIED:20241204T141952Z
UID:10007737-1733673600-1733688000@wannseekalender.de
SUMMARY:Adventsmarkt der Weißen Bären
DESCRIPTION:Kommt vorbei und genießt einen Nachmittag voller weihnachtlicher Atmosphäre und leckeren Köstlichkeiten! Lasst uns gemeinsam in vorweihnachtliche Stimmung kommen und ein paar gemütliche Stunden verbringen!
URL:https://wannseekalender.de/event/adventsmarkt-der-weissen-baeren/
LOCATION:Tennisclub Weiße Bären Wannsee\, Alsenstraße 17\, Berlin\, Berlin\, 14109\, Germany
CATEGORIES:Märkte
ORGANIZER;CN="Tennisclub Wei%C3%9Fe B%C3%A4ren Wannsee e.V.":MAILTO:info@weisse-baeren.de
END:VEVENT
BEGIN:VEVENT
DTSTART;TZID=Europe/Berlin:20241209T154500
DTEND;TZID=Europe/Berlin:20241209T171500
DTSTAMP:20260422T124810
CREATED:20241126T234446Z
LAST-MODIFIED:20251228T104154Z
UID:10032260-1733759100-1733764500@wannseekalender.de
SUMMARY:Kinderchor
DESCRIPTION:Töne pflücken\, Töne in die Luft schleudern\, im Takt hüpfen\, klatschen\, tanzen und natürlich singen! Das Singen findet immer montags von 15.45 – 16.20 Uhr für Kinder ab 5 bis 8 Jahren und von 16.30 – 17.15 Uhr für Kinder ab 9 bis 12 Jahren im großen Saal des Gemeindehauses statt.Das Singen kostet monatlich 5 Euro pro Familie. Die regelmäßige Teilnahme erfordert die Mitgliedschaft in unserem Verein. Antrag Mitgliedschaft
URL:https://wannseekalender.de/event/kinder-chor/2024-12-09/
LOCATION:Evangelisches Gemeindehaus\, Schuchardtweg 5\, Berlin\, 14109\, Germany
CATEGORIES:Chor,Kinder,Kinder & Jugendliche,Musik
ORGANIZER;CN="Kinderspielkreise in der Evangelischen Kirchengemeinde Wannsee e.V.":MAILTO:kinderspielkreise@kirchengemeinde-wannsee.de
END:VEVENT
BEGIN:VEVENT
DTSTART;TZID=Europe/Berlin:20241209T163000
DTEND;TZID=Europe/Berlin:20241209T183000
DTSTAMP:20260422T124810
CREATED:20241208T145004Z
LAST-MODIFIED:20241217T213913Z
UID:10011723-1733761800-1733769000@wannseekalender.de
SUMMARY:Kunstkurse für Kinder
DESCRIPTION:Kunstkurs für Kinder ab 6 Jahren im Atelier der Künstlerin Simone Westphal \nIn meinem Atelier in Wannsee können Kinder in einer kleinen Gruppe unterschiedliche kreative Techniken erlernen. zeichnen\, malen\, drucken\, filzen und vieles mehr. Jedes Kind kann seiner Fantasie freien Lauf lassen und ich gebe Impulse und Anleitung um eine Idee umszusetzen. Jeden Montag- oder Dienstagnachmittag\, 60 Minuten\, Anmeldung unter 01703290894 \n  \nDie Kosten betragen 80 Euro im Monat. \nDie Kinderkurse finden montags von 16.30 Uhr bis 17.30 statt und von 17.30 bis 18.30 Uhr ( es gibt also 2 Kurse montags. Und dienstags finden die Kurse von 16 bis 17 und von 17 bis 18 Uhr statt ( also auch zwei Kurse ) ein Kurs dauert also 60 Minuten . \n 
URL:https://wannseekalender.de/event/kunstkurs-fuer-kinder/2024-12-09/
LOCATION:Atelier Simone Westphal\, Zum Heckeshorn 33\, Haus 2\, Berlin\, Berlin\, 14109\, Germany
CATEGORIES:Bildung,DIY,Kinder
ATTACH;FMTTYPE=image/jpeg:https://wannseekalender.de/wp-content/uploads/2024/12/Rise-and-Fall-III-Ruby-Westphal-scaled.jpg
ORGANIZER;CN="Simone Westphal Ku%CC%88nstlerin":MAILTO:Simone@Simone-Westphal.de
END:VEVENT
BEGIN:VEVENT
DTSTART;TZID=Europe/Berlin:20241209T170000
DTEND;TZID=Europe/Berlin:20241209T180000
DTSTAMP:20260422T124811
CREATED:20241125T095104Z
LAST-MODIFIED:20241125T095104Z
UID:10000689-1733763600-1733767200@wannseekalender.de
SUMMARY:Lebendiger Adventskalender: beHANDling - Ergotherapie Wannsee
DESCRIPTION:Alles im Griff – Einblick in die Handtherapie. Weitere Informationen: https://wannseebote.ekbo.de/veranstaltungen
URL:https://wannseekalender.de/event/lebendiger-adventskalender-behandling-ergotherapie-wannsee/
LOCATION:beHANDling\, Chausseestraße 14\, Berlin\, 14109\, Germany
ORGANIZER;CN="F%C3%B6rderverein Evangelische Kirche Wannsee":MAILTO:foerderverein@kirchengemeinde-wannsee.de
END:VEVENT
BEGIN:VEVENT
DTSTART;TZID=Europe/Berlin:20241209T193000
DTEND;TZID=Europe/Berlin:20241209T210000
DTSTAMP:20260422T124811
CREATED:20241206T230919Z
LAST-MODIFIED:20241206T231017Z
UID:10007739-1733772600-1733778000@wannseekalender.de
SUMMARY:Martina Hefter: »Hey guten Morgen\, wie geht es dir?«
DESCRIPTION:Im Gespräch mit Thorsten Dönges \nVon der Einsamkeit der Nacht zwischen Leipzig und Nigeria und unserem Begehren in Zeiten des Internets handelt Martina Hefters neuer Roman »Hey guten Morgen\, wie geht es dir?« (Klett-Cotta)\, für den sie im Oktober mit dem Deutschen Buchpreis ausgezeichnet wurde. Die Protagonistin Juno verbringt ihre schlaflosen Nächte im Zwiegespräch mit „love scammern“\, während im Nebenzimmer ihr kranker Mann Jupiter seinen Weg in den Schlaf sucht. Als Ablenkung von der Pflege ihres Mannes\, deren Routine langsam ihre Liebe zu verdrängen droht\, spielt Juno das Spiel der Liebesbetrüger mit – und findet im jungen Nigerianer Benu nicht nur einen aufmerksamen Gesprächspartner\, sondern auch jene Geborgenheit\, die sie in ihrem Alltag verloren hat. \n»Hey guten Morgen\, wie geht es dir« ist\, nach sechzehn Jahren ohne Prosa-Veröffentlichung\, Martina Hefters vierter Roman. Zuletzt erschien 2020 bei kookbooks ihr Gedichtband »In die Wälder gehen\, Holz für ein Bett klauen«.
URL:https://wannseekalender.de/event/martina-hefter-hey-guten-morgen-wie-geht-es-dir/
LOCATION:Literarisches Colloquium Berlin (LCB)\, Am Sandwerder 5\, Berlin\, 14109\, Germany
CATEGORIES:Kunst & Kultur
ORGANIZER;CN="Literarisches Colloquium Berlin e. V.":MAILTO:mail@lcb.de
END:VEVENT
END:VCALENDAR